BEGIN:VCALENDAR
VERSION:2.0
PRODID:-//wp-events-plugin.com//7.2.3.1//EN
TZID:Europe/London
X-WR-TIMEZONE:Europe/London
BEGIN:VEVENT
UID:3532@larevistadelapalma.com
DTSTART:20241229T180000Z
DTEND:20241229T200000Z
DTSTAMP:20241221T181432Z
URL:https://www.larevistadelapalma.com/events/la-fiesta-del-mariachi-con-p
 arranda-la-palma-y-nati-caru/
SUMMARY:La Fiesta del Mariachi\, con Parranda La Palma y Nati Caru
DESCRIPTION: Espectáculo musical La Fiesta del Mariachi\, de Parranda La P
 alma y Nati Caru\, en Tijarafe.
ATTACH;FMTTYPE=image/jpeg:https://www.larevistadelapalma.com/wp-content/up
 loads/2024/12/freepik-geometric-fashion-week-flyer-20241221181248vu27.png
CATEGORIES:Conciertos,Música
LOCATION:Plaza Candelaria en Tijarafe\, Plaza de La Candelaria \, Tijarafe\
 , 38780\, España
GEO:28.711392;-17.955151
X-APPLE-STRUCTURED-LOCATION;VALUE=URI;X-ADDRESS=Plaza de La Candelaria \, T
 ijarafe\, 38780\, España;X-APPLE-RADIUS=100;X-TITLE=Plaza Candelaria en T
 ijarafe:geo:28.711392,-17.955151
END:VEVENT
END:VCALENDARBEGIN:VCALENDAR
VERSION:2.0
PRODID:-//wp-events-plugin.com//7.2.3.1//EN
TZID:Europe/London
X-WR-TIMEZONE:Europe/London
BEGIN:VEVENT
UID:3532@larevistadelapalma.com
DTSTART:20241229T180000Z
DTEND:20241229T200000Z
DTSTAMP:20241221T181432Z
URL:https://www.larevistadelapalma.com/events/la-fiesta-del-mariachi-con-p
 arranda-la-palma-y-nati-caru/
SUMMARY:La Fiesta del Mariachi\, con Parranda La Palma y Nati Caru
DESCRIPTION: Espectáculo musical La Fiesta del Mariachi\, de Parranda La P
 alma y Nati Caru\, en Tijarafe.
ATTACH;FMTTYPE=image/jpeg:https://www.larevistadelapalma.com/wp-content/up
 loads/2024/12/freepik-geometric-fashion-week-flyer-20241221181248vu27.png
CATEGORIES:Conciertos,Música
LOCATION:Plaza Candelaria en Tijarafe\, Plaza de La Candelaria \, Tijarafe\
 , 38780\, España
GEO:28.711392;-17.955151
X-APPLE-STRUCTURED-LOCATION;VALUE=URI;X-ADDRESS=Plaza de La Candelaria \, T
 ijarafe\, 38780\, España;X-APPLE-RADIUS=100;X-TITLE=Plaza Candelaria en T
 ijarafe:geo:28.711392,-17.955151
END:VEVENT
END:VCALENDAR