BEGIN:VCALENDAR
VERSION:2.0
PRODID:-//wp-events-plugin.com//7.2.3.1//EN
TZID:Europe/London
X-WR-TIMEZONE:Europe/London
BEGIN:VEVENT
UID:3261@larevistadelapalma.com
DTSTART:20240927T193000Z
DTEND:20240927T210000Z
DTSTAMP:20240925T164641Z
URL:https://www.larevistadelapalma.com/events/la-indiana-con-saida-santana
 /
SUMMARY:La Indiana\, con Saida Santana\, en el Festival de la Palabra de Ga
 rafía
DESCRIPTION:\nNo te pierdas esta obra de la actriz y directora Saida Santan
 a\, basada en la vida de su bisabuela\, y que ya ha sido todo un éxito en
  Madrid y Nueva York\nEl viernes 27 de septiembre\, a las 20:30 horas\, en
  la Casa de la Cultura de Santo Domingo\, y dentro de la programación de
  la décima edición del Festival de La Palabra nos adentraremos en la hi
 storia de LA INDIANA\, la lucha de una mujer cubana emigrante en Cuba a pr
 incipios del siglo XX.\n\n\n\n\nLa actriz canaria Saida Santana interrumpe
  por unos días su grabación de la nueva serie original de Antena 3 La En
 crucijada\, producida dentro de la alianza entre Secuoya Studios y Ay Yapi
 m \, con la participación de Atresmedia TV\; para representar su monólog
 o La Indiana sobre la vida de su bisabuela en el Festival de la Palabra de
  Garafía en La Palma el día 27 de septiembre a las 20.30 horas.\n\nSaida
  Santana\, autora\, protagonista y codirectora de este monólogo teatral\,
  basado en hechos reales\, aterriza en La Palma para dar vida a su bisabue
 la “La Indiana”\, tras su paso por Nueva York\, Madrid y Canarias. Est
 a obra narra la lucha de una mujer canaria emigrante a Cuba a principios d
 el siglo XX. Santana se pone en la piel de su bisabuela\, Antonia Alemán\
 , para reivindicar su independencia y libertad como campesina en un mundo 
 de hombres.\n\n“Y qué mejor escenario que el Festival de la palabra al 
 que he sido invitada. Esta décima edición me llevará a la Villa de Gara
 fía a reivindicar la palabra que ellos defienden como un eje fundamental 
 de la cultura de los pueblos. En un monólogo la palabra se hace especialm
 ente importante y en la vida de La Indiana la palabra será el legado de l
 ibertad que ella deje a generaciones posteriores”\, explica Santana.\n\n
 La artista grancanaria tras varios meses de rodaje como personaje fijo en 
 la nueva serie original de Antena 3\, La Encrucijada\, vuelve a las tablas
  con su historia más personal.\n“Me encanta poder hacer este paréntesi
 s en medio del rodaje\, para cambiar el código más íntimo del audiovisu
 al por un código más abierto como es el teatral y en la isla de La Palma
  donde la conexión con los indianos es muy profunda”\, cuenta Saida San
 tana.\n\n\n“Todo lo que relato es cierto. Mi padre me ha ayudado mucho r
 escatando fechas\, vivencias y documentos\, de archivos y de su memoria.\n
 \n"Una campesina canaria que emigró a Cuba en busca de un futuro mejor y 
 retornó una década después\, rota de dolor con cinco hijos y sin marido
 ."\nCodirigida esta versión de La Indiana junto a Paulina Gálvez\, cread
 ora del diseño de iluminación y con la creación sonora de Vicente Sanz 
 de León\, La Indiana podrá disfrutarse por primera vez en el municipio d
 e Garafía dentro de la programación de la décima edición del Festival 
 de la Palabra\, en la Casa de la Cultura de Santo Domingo de Garafía el d
 ía 27 de septiembre a las 20.30h\, con entrada gratuita y admisión solo 
 a mayores de 13 años.\n\n“Este monólogo está basado en la vida de mi 
 bisabuela\, Antonia Alemán Navarro\, La Indiana\, una mujer libre e ínte
 gra”\, explica Santana. Ella reivindicó su independencia y libertad com
 o campesina en un mundo de hombres. Se negó a casarse de nuevo\, y no sol
 o sacó adelante sus más de 3 fanegadas de tierra\, la ganadería y a sus
  cinco hijos\, sino que comercializó y distribuyó en Canarias la semilla
  del rábano\, lo que ayudó a salir de la pobreza a muchas familias\, gan
 ándose así el respeto de los agricultores de la época quienes la apodar
 on\, Antoñita La Indiana”.\n\n
ATTACH;FMTTYPE=image/jpeg:https://www.larevistadelapalma.com/wp-content/up
 loads/2024/09/credito-Angel-G.-Medina-La-Indiana-de-Saida-Santana_17.03.22
 -067-copia.jpg
CATEGORIES:Espectáculos,Teatro
LOCATION:Casa de La Cultura de Santo Domingo\, Garafía\, Calle Diaz Juarez
 \, 21\,\, Garafía\, 38787\, España
GEO:28.790649;-17.917631
X-APPLE-STRUCTURED-LOCATION;VALUE=URI;X-ADDRESS=Calle Diaz Juarez\, 21\,\, 
 Garafía\, 38787\, España;X-APPLE-RADIUS=100;X-TITLE=Casa de La Cultura d
 e Santo Domingo\, Garafía:geo:28.790649,-17.917631
END:VEVENT
END:VCALENDARBEGIN:VCALENDAR
VERSION:2.0
PRODID:-//wp-events-plugin.com//7.2.3.1//EN
TZID:Europe/London
X-WR-TIMEZONE:Europe/London
BEGIN:VEVENT
UID:3261@larevistadelapalma.com
DTSTART:20240927T193000Z
DTEND:20240927T210000Z
DTSTAMP:20240925T164641Z
URL:https://www.larevistadelapalma.com/events/la-indiana-con-saida-santana
 /
SUMMARY:La Indiana\, con Saida Santana\, en el Festival de la Palabra de Ga
 rafía
DESCRIPTION:\nNo te pierdas esta obra de la actriz y directora Saida Santan
 a\, basada en la vida de su bisabuela\, y que ya ha sido todo un éxito en
  Madrid y Nueva York\nEl viernes 27 de septiembre\, a las 20:30 horas\, en
  la Casa de la Cultura de Santo Domingo\, y dentro de la programación de
  la décima edición del Festival de La Palabra nos adentraremos en la hi
 storia de LA INDIANA\, la lucha de una mujer cubana emigrante en Cuba a pr
 incipios del siglo XX.\n\n\n\n\nLa actriz canaria Saida Santana interrumpe
  por unos días su grabación de la nueva serie original de Antena 3 La En
 crucijada\, producida dentro de la alianza entre Secuoya Studios y Ay Yapi
 m \, con la participación de Atresmedia TV\; para representar su monólog
 o La Indiana sobre la vida de su bisabuela en el Festival de la Palabra de
  Garafía en La Palma el día 27 de septiembre a las 20.30 horas.\n\nSaida
  Santana\, autora\, protagonista y codirectora de este monólogo teatral\,
  basado en hechos reales\, aterriza en La Palma para dar vida a su bisabue
 la “La Indiana”\, tras su paso por Nueva York\, Madrid y Canarias. Est
 a obra narra la lucha de una mujer canaria emigrante a Cuba a principios d
 el siglo XX. Santana se pone en la piel de su bisabuela\, Antonia Alemán\
 , para reivindicar su independencia y libertad como campesina en un mundo 
 de hombres.\n\n“Y qué mejor escenario que el Festival de la palabra al 
 que he sido invitada. Esta décima edición me llevará a la Villa de Gara
 fía a reivindicar la palabra que ellos defienden como un eje fundamental 
 de la cultura de los pueblos. En un monólogo la palabra se hace especialm
 ente importante y en la vida de La Indiana la palabra será el legado de l
 ibertad que ella deje a generaciones posteriores”\, explica Santana.\n\n
 La artista grancanaria tras varios meses de rodaje como personaje fijo en 
 la nueva serie original de Antena 3\, La Encrucijada\, vuelve a las tablas
  con su historia más personal.\n“Me encanta poder hacer este paréntesi
 s en medio del rodaje\, para cambiar el código más íntimo del audiovisu
 al por un código más abierto como es el teatral y en la isla de La Palma
  donde la conexión con los indianos es muy profunda”\, cuenta Saida San
 tana.\n\n\n“Todo lo que relato es cierto. Mi padre me ha ayudado mucho r
 escatando fechas\, vivencias y documentos\, de archivos y de su memoria.\n
 \n"Una campesina canaria que emigró a Cuba en busca de un futuro mejor y 
 retornó una década después\, rota de dolor con cinco hijos y sin marido
 ."\nCodirigida esta versión de La Indiana junto a Paulina Gálvez\, cread
 ora del diseño de iluminación y con la creación sonora de Vicente Sanz 
 de León\, La Indiana podrá disfrutarse por primera vez en el municipio d
 e Garafía dentro de la programación de la décima edición del Festival 
 de la Palabra\, en la Casa de la Cultura de Santo Domingo de Garafía el d
 ía 27 de septiembre a las 20.30h\, con entrada gratuita y admisión solo 
 a mayores de 13 años.\n\n“Este monólogo está basado en la vida de mi 
 bisabuela\, Antonia Alemán Navarro\, La Indiana\, una mujer libre e ínte
 gra”\, explica Santana. Ella reivindicó su independencia y libertad com
 o campesina en un mundo de hombres. Se negó a casarse de nuevo\, y no sol
 o sacó adelante sus más de 3 fanegadas de tierra\, la ganadería y a sus
  cinco hijos\, sino que comercializó y distribuyó en Canarias la semilla
  del rábano\, lo que ayudó a salir de la pobreza a muchas familias\, gan
 ándose así el respeto de los agricultores de la época quienes la apodar
 on\, Antoñita La Indiana”.\n\n
ATTACH;FMTTYPE=image/jpeg:https://www.larevistadelapalma.com/wp-content/up
 loads/2024/09/credito-Angel-G.-Medina-La-Indiana-de-Saida-Santana_17.03.22
 -067-copia.jpg
CATEGORIES:Espectáculos,Teatro
LOCATION:Casa de La Cultura de Santo Domingo\, Garafía\, Calle Diaz Juarez
 \, 21\,\, Garafía\, 38787\, España
GEO:28.790649;-17.917631
X-APPLE-STRUCTURED-LOCATION;VALUE=URI;X-ADDRESS=Calle Diaz Juarez\, 21\,\, 
 Garafía\, 38787\, España;X-APPLE-RADIUS=100;X-TITLE=Casa de La Cultura d
 e Santo Domingo\, Garafía:geo:28.790649,-17.917631
END:VEVENT
END:VCALENDAR