BEGIN:VCALENDAR
VERSION:2.0
PRODID:-//wp-events-plugin.com//7.2.3.1//EN
TZID:Europe/London
X-WR-TIMEZONE:Europe/London
BEGIN:VEVENT
UID:3106@larevistadelapalma.com
DTSTART:20240906T180000Z
DTEND:20240906T225900Z
DTSTAMP:20240906T141004Z
URL:https://www.larevistadelapalma.com/events/la-la-love-you-y-el-drogas-d
 espiden-el-verano-palmero-en-el-rock-road-san-andres-y-sauces/
SUMMARY:La La Love You y El Drogas despiden el verano palmero en el Rock & 
 Road (San Andrés y Sauces)
DESCRIPTION:El verano palmero cerrará en el Norte de la isla con la actuac
 ión de La La Love You y El Drogas (Barricada 40) en el Fstival Rock &amp\
 ; Road.\nEste festival no es solo una propuesta musical\, pues integra una
  ruta de turismo en caravana que recorrerá los paisajes espectaculares de
  la zona norte durante 5 días\, desde el 3 hasta el 8 de septiembre. \n\
 nEl 5 de septiembre se celebrará un concierto gratuito en la Plaza de Mon
 tserrat de San Andrés y Sauces para ir ‘calentando motores’. \n\nEl 
 próximo 6 de septiembre\, Puerto Espíndola se transformará en el escena
 rio del primer Rock &amp\; Road\, un festival de música rock que encabeza
 rá el histórico cantante El Drogas (Barricada 40) y la banda revelación
  La La Love You\, autores del memorable tema ‘El Fin del Mundo’. Este 
 evento de primer nivel\, que contará con otras bandas locales y de Canari
 as\, se fusionará con el mundo del caravaning y marcará el cierre del ve
 rano palmero en el Norte de la isla.\n\nEl evento cuenta con el respaldo d
 el Cabildo de La Palma\, el Ayuntamiento de San Andrés y Sauces e Islas C
 anarias Latitud de Vida. El promotor del evento\, Maikel Chacón\, señal
 ó que el festival nace en el marco de La Palma Nueva Era\, un proyecto qu
 e dinamiza La Palma a través de eventos en todos los rincones de la isla 
 en esta era posvolcán.\n\nRock &amp\; Road brinda una experiencia integra
 l en el entorno natural incomparable del norte de la Isla Bonita. La músi
 ca rock enriquecerá culturalmente el evento\, mientras que una ruta en ca
 ravana permitirá explorar la impresionante riqueza natural de la isla. \
 n\nLas entradas estarán a la venta a partir de este martes 9 de julio en 
 TomaTicket.es\, en la Oficina de Turismo de El Paso\, la Oficina de Turism
 o de S/C de La Palma o en las oficinas de El Time en la primera planta del
  edificio Millenium.\nEl Drogas y La La Love You protagonizarán el Rock &
 amp\; Road\nEl histórico artista El Drogas será uno de los artistas que 
 encabezan el potente cartel del Rock &amp\; Road. Se trata del vocalista d
 e la banda de rock Barricada 40\, el emblemático grupo de la escena del r
 ock urbano español desde los años 80.\n\nCanciones como ‘Al salir la l
 uz’ o ‘En blanco y negro’ han posicionado a El Drogas como una de la
 s figura más influyentes y respetadas en la música rock española. \n\n
 https://www.youtube.com/watch?v=PMNeNwUACNk&amp\;ab_channel=ElDrogasOficia
 l\n\nJunto a él estará la banda revelación española durante la pandemi
 a\, La La Love You. Desde ‘El Fin del Mundo’ hasta ‘El principio de 
 algo’\, sus temas pop-rock han sonado en todas las radios y se han conve
 rtido en parte del día a día de todo el país. \n\nLa La Love You se p
 osiciona como la primera banda independiente española en superar los 100
  millones de reproducciones en uno de sus hits.\n\nEl ‘buen rollo’ y s
 u estilo desenfadado ha hecho que este grupo esté conectado con públicos
  de todas las edades y han llevado a estos españoles a ganar gran popular
 idad en la escena musical internacional.\n\nhttps://www.youtube.com/watch?
 v=6cF6b6pLijE\n\nVarias bandas locales y canarias acompañarán a estos ar
 tistas en el festival\, brindando una experiencia musical única a todos l
 os asistentes.\nMucho más que música: Rock y Caravaning\nEste festival n
 o es solo una propuesta musical\, pues integra una ruta de turismo en cara
 vana que recorrerá los paisajes espectaculares de la zona norte durante 5
  días\, desde el 3 hasta el 8 de septiembre. \n\nLos participantes visit
 arán parques nacionales\, zonas de baño\, miradores y participarán en a
 ctividades al aire libre como senderismo\, observación de estrellas y fot
 ografía. Además\, disfrutarán de degustaciones gastronómicas y maridaj
 es con vinos locales que dinamizarán la zona norte de La Palma. \n\nEl 
 ‘plato fuerte’ del evento será el festival Rock &amp\; Road\, que se 
 celebrará el 6 de septiembre en la costa del Puerto Espíndola. Este fest
 ival\, accesible tanto para los caravanistas como para el público general
  que adquiera su entrada\, contará con actuaciones de históricas bandas 
 del rock y el indie español.\n\nNo será el único evento musical durante
  esos días\, pues el 5 de septiembre se celebrará un concierto gratuito 
 en la Plaza de Montserrat de San Andrés y Sauces para ir ‘calentando mo
 tores’. \n\nCantarán bandas canarias de rock como Los Salvapantallas y
  Fijo Discontinuo\, que prepararán el ambiente para el día siguiente. En
  ambos recintos habrá zonas de comida y bebida para completar la experien
 cia.
ATTACH;FMTTYPE=image/jpeg:https://www.larevistadelapalma.com/wp-content/up
 loads/2024/07/Rock-and-Road.png
CATEGORIES:Festivales/Fiestas,Música
LOCATION:Puerto Espíndola\, Puerto Espíndola\, San Andrés y Sauces\, 387
 29 \, España
GEO:28.80992;-17.762919
X-APPLE-STRUCTURED-LOCATION;VALUE=URI;X-ADDRESS=Puerto Espíndola\, San And
 rés y Sauces\, 38729 \, España;X-APPLE-RADIUS=100;X-TITLE=Puerto Espínd
 ola:geo:28.80992,-17.762919
END:VEVENT
END:VCALENDARBEGIN:VCALENDAR
VERSION:2.0
PRODID:-//wp-events-plugin.com//7.2.3.1//EN
TZID:Europe/London
X-WR-TIMEZONE:Europe/London
BEGIN:VEVENT
UID:3106@larevistadelapalma.com
DTSTART:20240906T180000Z
DTEND:20240906T225900Z
DTSTAMP:20240906T141004Z
URL:https://www.larevistadelapalma.com/events/la-la-love-you-y-el-drogas-d
 espiden-el-verano-palmero-en-el-rock-road-san-andres-y-sauces/
SUMMARY:La La Love You y El Drogas despiden el verano palmero en el Rock & 
 Road (San Andrés y Sauces)
DESCRIPTION:El verano palmero cerrará en el Norte de la isla con la actuac
 ión de La La Love You y El Drogas (Barricada 40) en el Fstival Rock &amp\
 ; Road.\nEste festival no es solo una propuesta musical\, pues integra una
  ruta de turismo en caravana que recorrerá los paisajes espectaculares de
  la zona norte durante 5 días\, desde el 3 hasta el 8 de septiembre. \n\
 nEl 5 de septiembre se celebrará un concierto gratuito en la Plaza de Mon
 tserrat de San Andrés y Sauces para ir ‘calentando motores’. \n\nEl 
 próximo 6 de septiembre\, Puerto Espíndola se transformará en el escena
 rio del primer Rock &amp\; Road\, un festival de música rock que encabeza
 rá el histórico cantante El Drogas (Barricada 40) y la banda revelación
  La La Love You\, autores del memorable tema ‘El Fin del Mundo’. Este 
 evento de primer nivel\, que contará con otras bandas locales y de Canari
 as\, se fusionará con el mundo del caravaning y marcará el cierre del ve
 rano palmero en el Norte de la isla.\n\nEl evento cuenta con el respaldo d
 el Cabildo de La Palma\, el Ayuntamiento de San Andrés y Sauces e Islas C
 anarias Latitud de Vida. El promotor del evento\, Maikel Chacón\, señal
 ó que el festival nace en el marco de La Palma Nueva Era\, un proyecto qu
 e dinamiza La Palma a través de eventos en todos los rincones de la isla 
 en esta era posvolcán.\n\nRock &amp\; Road brinda una experiencia integra
 l en el entorno natural incomparable del norte de la Isla Bonita. La músi
 ca rock enriquecerá culturalmente el evento\, mientras que una ruta en ca
 ravana permitirá explorar la impresionante riqueza natural de la isla. \
 n\nLas entradas estarán a la venta a partir de este martes 9 de julio en 
 TomaTicket.es\, en la Oficina de Turismo de El Paso\, la Oficina de Turism
 o de S/C de La Palma o en las oficinas de El Time en la primera planta del
  edificio Millenium.\nEl Drogas y La La Love You protagonizarán el Rock &
 amp\; Road\nEl histórico artista El Drogas será uno de los artistas que 
 encabezan el potente cartel del Rock &amp\; Road. Se trata del vocalista d
 e la banda de rock Barricada 40\, el emblemático grupo de la escena del r
 ock urbano español desde los años 80.\n\nCanciones como ‘Al salir la l
 uz’ o ‘En blanco y negro’ han posicionado a El Drogas como una de la
 s figura más influyentes y respetadas en la música rock española. \n\n
 https://www.youtube.com/watch?v=PMNeNwUACNk&amp\;ab_channel=ElDrogasOficia
 l\n\nJunto a él estará la banda revelación española durante la pandemi
 a\, La La Love You. Desde ‘El Fin del Mundo’ hasta ‘El principio de 
 algo’\, sus temas pop-rock han sonado en todas las radios y se han conve
 rtido en parte del día a día de todo el país. \n\nLa La Love You se p
 osiciona como la primera banda independiente española en superar los 100
  millones de reproducciones en uno de sus hits.\n\nEl ‘buen rollo’ y s
 u estilo desenfadado ha hecho que este grupo esté conectado con públicos
  de todas las edades y han llevado a estos españoles a ganar gran popular
 idad en la escena musical internacional.\n\nhttps://www.youtube.com/watch?
 v=6cF6b6pLijE\n\nVarias bandas locales y canarias acompañarán a estos ar
 tistas en el festival\, brindando una experiencia musical única a todos l
 os asistentes.\nMucho más que música: Rock y Caravaning\nEste festival n
 o es solo una propuesta musical\, pues integra una ruta de turismo en cara
 vana que recorrerá los paisajes espectaculares de la zona norte durante 5
  días\, desde el 3 hasta el 8 de septiembre. \n\nLos participantes visit
 arán parques nacionales\, zonas de baño\, miradores y participarán en a
 ctividades al aire libre como senderismo\, observación de estrellas y fot
 ografía. Además\, disfrutarán de degustaciones gastronómicas y maridaj
 es con vinos locales que dinamizarán la zona norte de La Palma. \n\nEl 
 ‘plato fuerte’ del evento será el festival Rock &amp\; Road\, que se 
 celebrará el 6 de septiembre en la costa del Puerto Espíndola. Este fest
 ival\, accesible tanto para los caravanistas como para el público general
  que adquiera su entrada\, contará con actuaciones de históricas bandas 
 del rock y el indie español.\n\nNo será el único evento musical durante
  esos días\, pues el 5 de septiembre se celebrará un concierto gratuito 
 en la Plaza de Montserrat de San Andrés y Sauces para ir ‘calentando mo
 tores’. \n\nCantarán bandas canarias de rock como Los Salvapantallas y
  Fijo Discontinuo\, que prepararán el ambiente para el día siguiente. En
  ambos recintos habrá zonas de comida y bebida para completar la experien
 cia.
ATTACH;FMTTYPE=image/jpeg:https://www.larevistadelapalma.com/wp-content/up
 loads/2024/07/Rock-and-Road.png
CATEGORIES:Festivales/Fiestas,Música
LOCATION:Puerto Espíndola\, Puerto Espíndola\, San Andrés y Sauces\, 387
 29 \, España
GEO:28.80992;-17.762919
X-APPLE-STRUCTURED-LOCATION;VALUE=URI;X-ADDRESS=Puerto Espíndola\, San And
 rés y Sauces\, 38729 \, España;X-APPLE-RADIUS=100;X-TITLE=Puerto Espínd
 ola:geo:28.80992,-17.762919
END:VEVENT
END:VCALENDAR