BEGIN:VCALENDAR
VERSION:2.0
PRODID:-//wp-events-plugin.com//7.2.3.1//EN
TZID:Europe/London
X-WR-TIMEZONE:Europe/London
BEGIN:VEVENT
UID:4056@larevistadelapalma.com
DTSTART;VALUE=DATE:20251126
DTEND;VALUE=DATE:20251130
DTSTAMP:20251113T130804Z
URL:https://www.larevistadelapalma.com/events/la-muestra-de-raiz-artesana-
 vuelve-en-noviembre/
SUMMARY:La muestra "De Raíz Artesana" vuelve en noviembre
DESCRIPTION:Muestra de Artesanía De Raíz Artesana Noviembre 2025\, se cel
 ebrará en la Casa Salazar de Santa Cruz de La Palma desde el 26 al 29 de 
 noviembre de 2025\, ambos inclusive.  \nLa muestra está en proceso de in
 scripción (Solo Artesanos autónomos)\n\n\n 	Documento inscripción en PD
 F\n 	Bases en PDF\n\nHORARIOS:\n\n\n 	Miércoles 26\, Jueves 27 y Viernes 
 28 de 10:00 a 14:00h y de 17:00 a 20:00h.\n 	Sábado 29 de 10:00 a 14:00h.
 \n
ATTACH;FMTTYPE=image/jpeg:https://www.larevistadelapalma.com/wp-content/up
 loads/2025/11/DE-RAIZ-ARTESANA.jpg
CATEGORIES:Exposiciones
LOCATION:Casa principal de Salazar\, Calle Odaly\, 22\, Santa Cruz de La Pa
 lma\, 38700\, España
GEO:28.682275;-17.765795
X-APPLE-STRUCTURED-LOCATION;VALUE=URI;X-ADDRESS=Calle Odaly\, 22\, Santa Cr
 uz de La Palma\, 38700\, España;X-APPLE-RADIUS=100;X-TITLE=Casa principal
  de Salazar:geo:28.682275,-17.765795
END:VEVENT
END:VCALENDARBEGIN:VCALENDAR
VERSION:2.0
PRODID:-//wp-events-plugin.com//7.2.3.1//EN
TZID:Europe/London
X-WR-TIMEZONE:Europe/London
BEGIN:VEVENT
UID:4056@larevistadelapalma.com
DTSTART;VALUE=DATE:20251126
DTEND;VALUE=DATE:20251130
DTSTAMP:20251113T130804Z
URL:https://www.larevistadelapalma.com/events/la-muestra-de-raiz-artesana-
 vuelve-en-noviembre/
SUMMARY:La muestra "De Raíz Artesana" vuelve en noviembre
DESCRIPTION:Muestra de Artesanía De Raíz Artesana Noviembre 2025\, se cel
 ebrará en la Casa Salazar de Santa Cruz de La Palma desde el 26 al 29 de 
 noviembre de 2025\, ambos inclusive.  \nLa muestra está en proceso de in
 scripción (Solo Artesanos autónomos)\n\n\n 	Documento inscripción en PD
 F\n 	Bases en PDF\n\nHORARIOS:\n\n\n 	Miércoles 26\, Jueves 27 y Viernes 
 28 de 10:00 a 14:00h y de 17:00 a 20:00h.\n 	Sábado 29 de 10:00 a 14:00h.
 \n
ATTACH;FMTTYPE=image/jpeg:https://www.larevistadelapalma.com/wp-content/up
 loads/2025/11/DE-RAIZ-ARTESANA.jpg
CATEGORIES:Exposiciones
LOCATION:Casa principal de Salazar\, Calle Odaly\, 22\, Santa Cruz de La Pa
 lma\, 38700\, España
GEO:28.682275;-17.765795
X-APPLE-STRUCTURED-LOCATION;VALUE=URI;X-ADDRESS=Calle Odaly\, 22\, Santa Cr
 uz de La Palma\, 38700\, España;X-APPLE-RADIUS=100;X-TITLE=Casa principal
  de Salazar:geo:28.682275,-17.765795
END:VEVENT
END:VCALENDAR