BEGIN:VCALENDAR
VERSION:2.0
PRODID:-//wp-events-plugin.com//7.2.3.1//EN
TZID:Europe/London
X-WR-TIMEZONE:Europe/London
BEGIN:VEVENT
UID:2965@larevistadelapalma.com
DTSTART:20240503T193000Z
DTEND:20240503T210000Z
DTSTAMP:20240430T121120Z
URL:https://www.larevistadelapalma.com/events/la-obra-funeral-planner-en-e
 l-secadero-de-los-llanos-de-aridane/
SUMMARY:La obra "Funeral Planner" en El Secadero de Los Llanos de Aridane
DESCRIPTION:Una obra de Fabián Lomio con José Luis de Madariaga\, Hermi O
 rihuela y Albano Matos.\nAmelia es abogada y\, desde hace unos años\, es 
 la asistente personal de Raúl\, un psicólogo jubilado que tuvo como paci
 entes a muchas personas famosas. Con el paso del tiempo han forjado una gr
 an amistad\, casi una relación familiar. Raúl le dice a Amelia que le qu
 eda un mes de vida y le pide que se encargue de preparar su muerte y funer
 al\, ya que es la única persona que está a su lado. Esteban\, el hijo de
  Raúl\, vive del otro lado del océano y hace más de 20 años que no le 
 ve. Su llegada abrirá viejas heridas entre ellos\, e incluso en Amelia.\n
 \nReproches\, celos\, recuerdos y enfrentamientos son la trama de esta his
 toria. ¿Realmente podemos planificar la muerte que queremos?\n\nInscripci
 ones en el correo eventosculturales@aridane.org (facilitar nombre\, apelli
 dos y un número de teléfono).
ATTACH;FMTTYPE=image/jpeg:https://www.larevistadelapalma.com/wp-content/up
 loads/2024/04/Funeral-planner.jpg
CATEGORIES:Espectáculos,Teatro
LOCATION:Espacio Cultural El Secadero\, C. Rosal\, 3\,\, Los Llanos de Arid
 ane\, 38760\, España
GEO:28.659406;-17.907147
X-APPLE-STRUCTURED-LOCATION;VALUE=URI;X-ADDRESS=C. Rosal\, 3\,\, Los Llanos
  de Aridane\, 38760\, España;X-APPLE-RADIUS=100;X-TITLE=Espacio Cultural 
 El Secadero:geo:28.659406,-17.907147
END:VEVENT
END:VCALENDARBEGIN:VCALENDAR
VERSION:2.0
PRODID:-//wp-events-plugin.com//7.2.3.1//EN
TZID:Europe/London
X-WR-TIMEZONE:Europe/London
BEGIN:VEVENT
UID:2965@larevistadelapalma.com
DTSTART:20240503T193000Z
DTEND:20240503T210000Z
DTSTAMP:20240430T121120Z
URL:https://www.larevistadelapalma.com/events/la-obra-funeral-planner-en-e
 l-secadero-de-los-llanos-de-aridane/
SUMMARY:La obra "Funeral Planner" en El Secadero de Los Llanos de Aridane
DESCRIPTION:Una obra de Fabián Lomio con José Luis de Madariaga\, Hermi O
 rihuela y Albano Matos.\nAmelia es abogada y\, desde hace unos años\, es 
 la asistente personal de Raúl\, un psicólogo jubilado que tuvo como paci
 entes a muchas personas famosas. Con el paso del tiempo han forjado una gr
 an amistad\, casi una relación familiar. Raúl le dice a Amelia que le qu
 eda un mes de vida y le pide que se encargue de preparar su muerte y funer
 al\, ya que es la única persona que está a su lado. Esteban\, el hijo de
  Raúl\, vive del otro lado del océano y hace más de 20 años que no le 
 ve. Su llegada abrirá viejas heridas entre ellos\, e incluso en Amelia.\n
 \nReproches\, celos\, recuerdos y enfrentamientos son la trama de esta his
 toria. ¿Realmente podemos planificar la muerte que queremos?\n\nInscripci
 ones en el correo eventosculturales@aridane.org (facilitar nombre\, apelli
 dos y un número de teléfono).
ATTACH;FMTTYPE=image/jpeg:https://www.larevistadelapalma.com/wp-content/up
 loads/2024/04/Funeral-planner.jpg
CATEGORIES:Espectáculos,Teatro
LOCATION:Espacio Cultural El Secadero\, C. Rosal\, 3\,\, Los Llanos de Arid
 ane\, 38760\, España
GEO:28.659406;-17.907147
X-APPLE-STRUCTURED-LOCATION;VALUE=URI;X-ADDRESS=C. Rosal\, 3\,\, Los Llanos
  de Aridane\, 38760\, España;X-APPLE-RADIUS=100;X-TITLE=Espacio Cultural 
 El Secadero:geo:28.659406,-17.907147
END:VEVENT
END:VCALENDAR