BEGIN:VCALENDAR
VERSION:2.0
PRODID:-//wp-events-plugin.com//7.2.3.1//EN
TZID:Europe/London
X-WR-TIMEZONE:Europe/London
BEGIN:VEVENT
UID:112@larevistadelapalma.com
DTSTART:20230715T193000Z
DTEND:20230715T220000Z
DTSTAMP:20230715T121127Z
URL:https://www.larevistadelapalma.com/events/la-palma-32-festival-canaria
 s-jazz-mas/
SUMMARY:Llega a La Palma la 32ª edición del Festival Internacional Canari
 as Jazz & Más
DESCRIPTION:* CAMBIOS EN EL PROGRAMA: Debido al incendio declarado en el Mu
 nicipio de Puntagorda los actos previstos para el sábado 15 de julio qued
 an aplazados.
ATTACH;FMTTYPE=image/jpeg:https://www.larevistadelapalma.com/wp-content/up
 loads/2023/06/Canarias-Jazz-Mas2023-la-Palma.png
CATEGORIES:Festivales/Fiestas,Música
LOCATION:Plaza de España en Los Llanos de Aridane\, Plaza de España\, Los
  Llanos de Aridane\, 38760\, España
GEO:28.658934;-17.913174
X-APPLE-STRUCTURED-LOCATION;VALUE=URI;X-ADDRESS=Plaza de España\, Los Llan
 os de Aridane\, 38760\, España;X-APPLE-RADIUS=100;X-TITLE=Plaza de Españ
 a en Los Llanos de Aridane:geo:28.658934,-17.913174
END:VEVENT
END:VCALENDARBEGIN:VCALENDAR
VERSION:2.0
PRODID:-//wp-events-plugin.com//7.2.3.1//EN
TZID:Europe/London
X-WR-TIMEZONE:Europe/London
BEGIN:VEVENT
UID:112@larevistadelapalma.com
DTSTART:20230715T193000Z
DTEND:20230715T220000Z
DTSTAMP:20230715T121127Z
URL:https://www.larevistadelapalma.com/events/la-palma-32-festival-canaria
 s-jazz-mas/
SUMMARY:Llega a La Palma la 32ª edición del Festival Internacional Canari
 as Jazz & Más
DESCRIPTION:* CAMBIOS EN EL PROGRAMA: Debido al incendio declarado en el Mu
 nicipio de Puntagorda los actos previstos para el sábado 15 de julio qued
 an aplazados.
ATTACH;FMTTYPE=image/jpeg:https://www.larevistadelapalma.com/wp-content/up
 loads/2023/06/Canarias-Jazz-Mas2023-la-Palma.png
CATEGORIES:Festivales/Fiestas,Música
LOCATION:Plaza de España en Los Llanos de Aridane\, Plaza de España\, Los
  Llanos de Aridane\, 38760\, España
GEO:28.658934;-17.913174
X-APPLE-STRUCTURED-LOCATION;VALUE=URI;X-ADDRESS=Plaza de España\, Los Llan
 os de Aridane\, 38760\, España;X-APPLE-RADIUS=100;X-TITLE=Plaza de Españ
 a en Los Llanos de Aridane:geo:28.658934,-17.913174
END:VEVENT
END:VCALENDAR