BEGIN:VCALENDAR
VERSION:2.0
PRODID:-//wp-events-plugin.com//7.2.3.1//EN
TZID:Europe/London
X-WR-TIMEZONE:Europe/London
BEGIN:VEVENT
UID:3481@larevistadelapalma.com
DTSTART:20241209T170000Z
DTEND:20241209T203000Z
DTSTAMP:20241209T180433Z
URL:https://www.larevistadelapalma.com/events/la-palma-acoge-el-estreno-re
 gional-del-documental-los-suenos-de-pepe/
SUMMARY:La Palma acoge el estreno regional del documental ‘Los sueños de
  Pepe’ 
DESCRIPTION:\nLa obra audiovisual\, que cuenta con el palmero Jonay Guerra 
 como productor ejecutivo\, se podrá ver el lunes 9 de diciembre\, a las 1
 8:00 y 20:00 horas\, en el Teatro Cine Chico Municipal de Santa Cruz de La
  Palma.\n\n\nDesde el Cabildo trabajan para organizar una nueva proyecció
 n de la obra en enero.\n\n\n\n\nLos Sueños de Pepe es una pieza 100% inde
 pendiente sobre el expresidente uruguayo Pepe Mujica dirigida por Pablo Tr
 obo\, quien fuera camarógrafo personal de Mujica y a quien acompañó por
  diversos lugares del mundo a lo largo de más de 15 años para filmarlo\,
  sin tener en aquellos momentos la idea de que esas imágenes un día se c
 onvertirían en una parte de la película que ahora se estrena.\n\nLa cint
 a explora\, desde un punto de vista sensible\, la filosofía de vida de Pe
 pe Mujica que viajó por el mundo difundiendo su cosmovisión\, fundamenta
 ndo sus ideas sobre la sociedad actual y expresando su preocupación por a
 segurar un futuro mejor para las próximas generaciones.\n\nTambién se co
 ntempla a la figura actual de Pepe\, a sus casi 90 años y como su mensaje
  es hoy más que nunca de absoluta actualidad y vigencia.\n\nLa película 
 se estrenó mundialmente en el reciente 26° Festival Internacional de Cin
 e de Río de Janeiro donde fue reconocida como gran destaque en su secció
 n Muestra Latina. Asimismo se encuentra en la selección oficial de múlti
 ples festivales internacionales de cine como la Mostra Ambiental de cinema
  do Recife 2024\, (Brasil)\, el Festival Internacional de cine de La Plata
  Buenos Aires\, (Argentina)\, el 24 Montevideo International Film Festival
 \, (Uruguay)\, 36 Girona Film Festival\, (España)\, 45 Festival Internaci
 onal del Nuevo Cine Latinoamericano de La Habana\, (Cuba ) y recientemente
  ha sido preseleccionado al Festival de las estrellas de La Palma\, en las
  Islas Canarias.\n\n&nbsp\;\n\n\n\n\n
ATTACH;FMTTYPE=image/jpeg:https://www.larevistadelapalma.com/wp-content/up
 loads/2024/12/Los-suenos-de-pepe.jpg
CATEGORIES:Cine,Cine y Literatura
LOCATION:Teatro Chico\, Calle Díaz Pimienta\, 1\, Santa Cruz De La Palma\,
  Santa Cruz de Tenerife\, 38700\, España
GEO:28.68432;-17.764225
X-APPLE-STRUCTURED-LOCATION;VALUE=URI;X-ADDRESS=Calle Díaz Pimienta\, 1\, 
 Santa Cruz De La Palma\, Santa Cruz de Tenerife\, 38700\, España;X-APPLE-
 RADIUS=100;X-TITLE=Teatro Chico:geo:28.68432,-17.764225
END:VEVENT
END:VCALENDARBEGIN:VCALENDAR
VERSION:2.0
PRODID:-//wp-events-plugin.com//7.2.3.1//EN
TZID:Europe/London
X-WR-TIMEZONE:Europe/London
BEGIN:VEVENT
UID:3481@larevistadelapalma.com
DTSTART:20241209T170000Z
DTEND:20241209T203000Z
DTSTAMP:20241209T180433Z
URL:https://www.larevistadelapalma.com/events/la-palma-acoge-el-estreno-re
 gional-del-documental-los-suenos-de-pepe/
SUMMARY:La Palma acoge el estreno regional del documental ‘Los sueños de
  Pepe’ 
DESCRIPTION:\nLa obra audiovisual\, que cuenta con el palmero Jonay Guerra 
 como productor ejecutivo\, se podrá ver el lunes 9 de diciembre\, a las 1
 8:00 y 20:00 horas\, en el Teatro Cine Chico Municipal de Santa Cruz de La
  Palma.\n\n\nDesde el Cabildo trabajan para organizar una nueva proyecció
 n de la obra en enero.\n\n\n\n\nLos Sueños de Pepe es una pieza 100% inde
 pendiente sobre el expresidente uruguayo Pepe Mujica dirigida por Pablo Tr
 obo\, quien fuera camarógrafo personal de Mujica y a quien acompañó por
  diversos lugares del mundo a lo largo de más de 15 años para filmarlo\,
  sin tener en aquellos momentos la idea de que esas imágenes un día se c
 onvertirían en una parte de la película que ahora se estrena.\n\nLa cint
 a explora\, desde un punto de vista sensible\, la filosofía de vida de Pe
 pe Mujica que viajó por el mundo difundiendo su cosmovisión\, fundamenta
 ndo sus ideas sobre la sociedad actual y expresando su preocupación por a
 segurar un futuro mejor para las próximas generaciones.\n\nTambién se co
 ntempla a la figura actual de Pepe\, a sus casi 90 años y como su mensaje
  es hoy más que nunca de absoluta actualidad y vigencia.\n\nLa película 
 se estrenó mundialmente en el reciente 26° Festival Internacional de Cin
 e de Río de Janeiro donde fue reconocida como gran destaque en su secció
 n Muestra Latina. Asimismo se encuentra en la selección oficial de múlti
 ples festivales internacionales de cine como la Mostra Ambiental de cinema
  do Recife 2024\, (Brasil)\, el Festival Internacional de cine de La Plata
  Buenos Aires\, (Argentina)\, el 24 Montevideo International Film Festival
 \, (Uruguay)\, 36 Girona Film Festival\, (España)\, 45 Festival Internaci
 onal del Nuevo Cine Latinoamericano de La Habana\, (Cuba ) y recientemente
  ha sido preseleccionado al Festival de las estrellas de La Palma\, en las
  Islas Canarias.\n\n&nbsp\;\n\n\n\n\n
ATTACH;FMTTYPE=image/jpeg:https://www.larevistadelapalma.com/wp-content/up
 loads/2024/12/Los-suenos-de-pepe.jpg
CATEGORIES:Cine,Cine y Literatura
LOCATION:Teatro Chico\, Calle Díaz Pimienta\, 1\, Santa Cruz De La Palma\,
  Santa Cruz de Tenerife\, 38700\, España
GEO:28.68432;-17.764225
X-APPLE-STRUCTURED-LOCATION;VALUE=URI;X-ADDRESS=Calle Díaz Pimienta\, 1\, 
 Santa Cruz De La Palma\, Santa Cruz de Tenerife\, 38700\, España;X-APPLE-
 RADIUS=100;X-TITLE=Teatro Chico:geo:28.68432,-17.764225
END:VEVENT
END:VCALENDAR