BEGIN:VCALENDAR
VERSION:2.0
PRODID:-//wp-events-plugin.com//7.2.3.1//EN
TZID:Europe/London
X-WR-TIMEZONE:Europe/London
BEGIN:VEVENT
UID:4051@larevistadelapalma.com
DTSTART:20251122T170000Z
DTEND:20251122T183000Z
DTSTAMP:20251106T204208Z
URL:https://www.larevistadelapalma.com/events/la-palma-boxing-promotion-el
 -paso/
SUMMARY:La Palma Boxing Promotion El Paso
DESCRIPTION:\nEvento deportivo de boxeo donde competirán diferentes boxead
 ores de todas las islas y categorías.  Desde boxeo junior\, joven\,  é
 lite y profesional.\n Entradas online\, en este enlace.\nPuedes comprar t
 ú entrada físicamente en los siguientes establecimientos. Las entradas d
 eben abonarse en efectivo.\nEl Paso:\n\n\nGasolinera DISA\n\n 	 Los Llano
 s de Aridane:\n 	BP Gasolinera\n 	Kiosko C.C. Trocadero\n 	Club CFC La Pal
 ma\n 	Boxing Club Las Minas\n 	Club JC Fighter\n\n Tazacorte:\n\n 	Club L
 udus\n\n Santa Cruz de La Palma:\n\n 	VKR / Sport Center Isla Bonita\n\n
ATTACH;FMTTYPE=image/jpeg:https://www.larevistadelapalma.com/wp-content/up
 loads/2025/11/boxing.jpeg
CATEGORIES:Actividades deportivas,Otras propuestas
LOCATION:Municipio de El Paso\, El Paso\, La Palma \, El Paso\, 38750\, Esp
 aña
GEO:28.652378;-17.880396
X-APPLE-STRUCTURED-LOCATION;VALUE=URI;X-ADDRESS=El Paso\, La Palma \, El Pa
 so\, 38750\, España;X-APPLE-RADIUS=100;X-TITLE=Municipio de El Paso:geo:2
 8.652378,-17.880396
END:VEVENT
END:VCALENDARBEGIN:VCALENDAR
VERSION:2.0
PRODID:-//wp-events-plugin.com//7.2.3.1//EN
TZID:Europe/London
X-WR-TIMEZONE:Europe/London
BEGIN:VEVENT
UID:4051@larevistadelapalma.com
DTSTART:20251122T170000Z
DTEND:20251122T183000Z
DTSTAMP:20251106T204208Z
URL:https://www.larevistadelapalma.com/events/la-palma-boxing-promotion-el
 -paso/
SUMMARY:La Palma Boxing Promotion El Paso
DESCRIPTION:\nEvento deportivo de boxeo donde competirán diferentes boxead
 ores de todas las islas y categorías.  Desde boxeo junior\, joven\,  é
 lite y profesional.\n Entradas online\, en este enlace.\nPuedes comprar t
 ú entrada físicamente en los siguientes establecimientos. Las entradas d
 eben abonarse en efectivo.\nEl Paso:\n\n\nGasolinera DISA\n\n 	 Los Llano
 s de Aridane:\n 	BP Gasolinera\n 	Kiosko C.C. Trocadero\n 	Club CFC La Pal
 ma\n 	Boxing Club Las Minas\n 	Club JC Fighter\n\n Tazacorte:\n\n 	Club L
 udus\n\n Santa Cruz de La Palma:\n\n 	VKR / Sport Center Isla Bonita\n\n
ATTACH;FMTTYPE=image/jpeg:https://www.larevistadelapalma.com/wp-content/up
 loads/2025/11/boxing.jpeg
CATEGORIES:Actividades deportivas,Otras propuestas
LOCATION:Municipio de El Paso\, El Paso\, La Palma \, El Paso\, 38750\, Esp
 aña
GEO:28.652378;-17.880396
X-APPLE-STRUCTURED-LOCATION;VALUE=URI;X-ADDRESS=El Paso\, La Palma \, El Pa
 so\, 38750\, España;X-APPLE-RADIUS=100;X-TITLE=Municipio de El Paso:geo:2
 8.652378,-17.880396
END:VEVENT
END:VCALENDAR