BEGIN:VCALENDAR
VERSION:2.0
PRODID:-//wp-events-plugin.com//7.2.3.1//EN
TZID:Europe/London
X-WR-TIMEZONE:Europe/London
BEGIN:VEVENT
UID:2997@larevistadelapalma.com
DTSTART:20240523T190000Z
DTEND:20240523T213000Z
DTSTAMP:20240523T204304Z
URL:https://www.larevistadelapalma.com/events/la-palma-celebra-la-riqueza-
 cultural-y-artistica-del-tango-con-un-festival-dedicado-a-este-genero/
SUMMARY:La Palma celebra la riqueza cultural y artística del tango con un 
 festival dedicado a este género
DESCRIPTION:Se desarrollará del 23 al 26 de mayo en El Paso\, Los Llanos d
 e Aridane\, Tazacorte y Puntagorda.
ATTACH;FMTTYPE=image/jpeg:https://www.larevistadelapalma.com/wp-content/up
 loads/2024/05/Tango-Fest-24.jpg
CATEGORIES:Festivales/Fiestas,Música,Otras propuestas,Varios
LOCATION:Municipio de El Paso\, El Paso\, La Palma \, El Paso\, 38750\, Esp
 aña
GEO:28.652378;-17.880396
X-APPLE-STRUCTURED-LOCATION;VALUE=URI;X-ADDRESS=El Paso\, La Palma \, El Pa
 so\, 38750\, España;X-APPLE-RADIUS=100;X-TITLE=Municipio de El Paso:geo:2
 8.652378,-17.880396
END:VEVENT
END:VCALENDARBEGIN:VCALENDAR
VERSION:2.0
PRODID:-//wp-events-plugin.com//7.2.3.1//EN
TZID:Europe/London
X-WR-TIMEZONE:Europe/London
BEGIN:VEVENT
UID:2997@larevistadelapalma.com
DTSTART:20240523T190000Z
DTEND:20240523T213000Z
DTSTAMP:20240523T204304Z
URL:https://www.larevistadelapalma.com/events/la-palma-celebra-la-riqueza-
 cultural-y-artistica-del-tango-con-un-festival-dedicado-a-este-genero/
SUMMARY:La Palma celebra la riqueza cultural y artística del tango con un 
 festival dedicado a este género
DESCRIPTION:Se desarrollará del 23 al 26 de mayo en El Paso\, Los Llanos d
 e Aridane\, Tazacorte y Puntagorda.
ATTACH;FMTTYPE=image/jpeg:https://www.larevistadelapalma.com/wp-content/up
 loads/2024/05/Tango-Fest-24.jpg
CATEGORIES:Festivales/Fiestas,Música,Otras propuestas,Varios
LOCATION:Municipio de El Paso\, El Paso\, La Palma \, El Paso\, 38750\, Esp
 aña
GEO:28.652378;-17.880396
X-APPLE-STRUCTURED-LOCATION;VALUE=URI;X-ADDRESS=El Paso\, La Palma \, El Pa
 so\, 38750\, España;X-APPLE-RADIUS=100;X-TITLE=Municipio de El Paso:geo:2
 8.652378,-17.880396
END:VEVENT
END:VCALENDAR