BEGIN:VCALENDAR
VERSION:2.0
PRODID:-//wp-events-plugin.com//7.2.3.1//EN
TZID:Europe/London
X-WR-TIMEZONE:Europe/London
BEGIN:VEVENT
UID:3164@larevistadelapalma.com
DTSTART:20240914T210000Z
DTEND:20240914T224500Z
DTSTAMP:20240731T221836Z
URL:https://www.larevistadelapalma.com/events/la-palma-es-un-punto-el-vega
 -huyendo-con-fito-de-mi/
SUMMARY:Festival ‘La Palma es un Punto’- El Vega – y «Huyendo con Fi
 to de mi»
DESCRIPTION:La Palma es un Punto se despide con El Vega y "Huyendo con Fito
  de mi".
ATTACH;FMTTYPE=image/jpeg:https://www.larevistadelapalma.com/wp-content/up
 loads/2024/07/cartel-04.jpg
CATEGORIES:Festivales/Fiestas,Música
LOCATION:Parque de Los Álamos\, Bodegón Los Alamos\, Breña Alta\, 38710\
 , España
GEO:28.667222;-17.787778
X-APPLE-STRUCTURED-LOCATION;VALUE=URI;X-ADDRESS=Bodegón Los Alamos\, Breñ
 a Alta\, 38710\, España;X-APPLE-RADIUS=100;X-TITLE=Parque de Los Álamos:
 geo:28.667222,-17.787778
END:VEVENT
END:VCALENDARBEGIN:VCALENDAR
VERSION:2.0
PRODID:-//wp-events-plugin.com//7.2.3.1//EN
TZID:Europe/London
X-WR-TIMEZONE:Europe/London
BEGIN:VEVENT
UID:3164@larevistadelapalma.com
DTSTART:20240914T210000Z
DTEND:20240914T224500Z
DTSTAMP:20240731T221836Z
URL:https://www.larevistadelapalma.com/events/la-palma-es-un-punto-el-vega
 -huyendo-con-fito-de-mi/
SUMMARY:Festival ‘La Palma es un Punto’- El Vega – y «Huyendo con Fi
 to de mi»
DESCRIPTION:La Palma es un Punto se despide con El Vega y "Huyendo con Fito
  de mi".
ATTACH;FMTTYPE=image/jpeg:https://www.larevistadelapalma.com/wp-content/up
 loads/2024/07/cartel-04.jpg
CATEGORIES:Festivales/Fiestas,Música
LOCATION:Parque de Los Álamos\, Bodegón Los Alamos\, Breña Alta\, 38710\
 , España
GEO:28.667222;-17.787778
X-APPLE-STRUCTURED-LOCATION;VALUE=URI;X-ADDRESS=Bodegón Los Alamos\, Breñ
 a Alta\, 38710\, España;X-APPLE-RADIUS=100;X-TITLE=Parque de Los Álamos:
 geo:28.667222,-17.787778
END:VEVENT
END:VCALENDAR