BEGIN:VCALENDAR
VERSION:2.0
PRODID:-//wp-events-plugin.com//7.2.3.1//EN
TZID:Europe/London
X-WR-TIMEZONE:Europe/London
BEGIN:VEVENT
UID:3348@larevistadelapalma.com
DTSTART;VALUE=DATE:20241113
DTEND;VALUE=DATE:20241117
DTSTAMP:20241113T180914Z
URL:https://www.larevistadelapalma.com/events/la-palma-fashion-week-2024/
SUMMARY:La Palma Fashion Week 2024
DESCRIPTION:La isla de La Palma se prepara para la celebración de una nuev
 a edición de La Palma Fashion Week que\, bajo el lema de ‘Una escapada 
 de moda con destino el paraíso’\, se celebrará en el Museo Insular de 
 San Francisco del 13 al 16 de noviembre.\n\nEs el Cabildo de La Palma\, a 
 través de la empresa pública Sodepal y dentro del programa Isla Bonita M
 oda\, el encargado de organizar esta cita que permite visibilizar todo el 
 potencial del talento palmero en el campo creativo y textil. Y lo hace\, a
 demás\, poniendo el foco en la moda de autor y también otros valores fun
 damentales para el proyecto como la artesanía\, la sostenibilidad\, la id
 entidad y el rico patrimonio natural\, artístico y cultural de la Isla.\n
 \nLa semana comenzará el miércoles 13 de noviembre con unas jornadas for
 mativas\, que incluirán una rica agenda repleta de talleres\, ponencias y
  mentorías dirigidas no solo a las firmas de moda\, sino que también int
 egrarán a todos los agentes indispensables en el desarrollo el sector cre
 ativo y textil de La Palma\, destacando la colaboración en esta edición 
 con el profesorado y alumnado de la Escuela de Arte Manolo Blahnik.\n\nDur
 ante el fin de semana\, 15 y 16 de noviembre\, se podrá disfrutar de vari
 os desfiles de moda y diversas acciones que\, de forma paralela\, acercar
 án al público todo el potencial del sector. Asimismo\, participarán dif
 erentes invitados especiales procedentes de toda Canarias y del resto del 
 territorio nacional.\n\n\nAMARCA presentará la nueva colección "VICTORY"
 . Será en el desfile del 15 de noviembre.\nVíctor Alonso @pepinomarino 
 es dj y uno de los fotógrafos más queridos por todas las celebridades en
  nuestro país y será el encargado de poner el broche de oro a la pasarel
 a de la Palma Fashion Week con su enérgico dj set.\nVenta de entradas &gt
 \;&gt\;\n\nTodos los detalles del programa se darán a conocer en los pró
 ximos días a través de islabonitamoda.es\nEl cartel del evento ha sido d
 iseñado por Camila Sepúlveda\, alumna del Ciclo Superior de Gráfica Pub
 licitaria impartido en la Escuela de Arte Manolo Blahnik\, bajo la guía d
 el profesorado del grupo.\n\nEl vídeo promocional está protagonizado por
  los modelos canarios Marina Falcón y Darwin Echeverry\, con estilismo a 
 cargo de la directora creativa Daniela Gutiérrez\, miembro del Comité de
  Garantías de Isla Bonita Moda\, que ha contado para ello con prendas\, a
 ccesorios y joyas de todos los diseñadores miembros del programa. \n\n
ATTACH;FMTTYPE=image/jpeg:https://www.larevistadelapalma.com/wp-content/up
 loads/2024/10/La-Palma-Fashion-Week.jpg
CATEGORIES:Otras propuestas,Varios
LOCATION:Museo Insular de La Palma\, Plaza de San Francisco\, 3\, Santa Cru
 z de La Palma\, 38700\, España
GEO:28.687;-17.762092
X-APPLE-STRUCTURED-LOCATION;VALUE=URI;X-ADDRESS=Plaza de San Francisco\, 3\
 , Santa Cruz de La Palma\, 38700\, España;X-APPLE-RADIUS=100;X-TITLE=Muse
 o Insular de La Palma:geo:28.687,-17.762092
END:VEVENT
END:VCALENDARBEGIN:VCALENDAR
VERSION:2.0
PRODID:-//wp-events-plugin.com//7.2.3.1//EN
TZID:Europe/London
X-WR-TIMEZONE:Europe/London
BEGIN:VEVENT
UID:3348@larevistadelapalma.com
DTSTART;VALUE=DATE:20241113
DTEND;VALUE=DATE:20241117
DTSTAMP:20241113T180914Z
URL:https://www.larevistadelapalma.com/events/la-palma-fashion-week-2024/
SUMMARY:La Palma Fashion Week 2024
DESCRIPTION:La isla de La Palma se prepara para la celebración de una nuev
 a edición de La Palma Fashion Week que\, bajo el lema de ‘Una escapada 
 de moda con destino el paraíso’\, se celebrará en el Museo Insular de 
 San Francisco del 13 al 16 de noviembre.\n\nEs el Cabildo de La Palma\, a 
 través de la empresa pública Sodepal y dentro del programa Isla Bonita M
 oda\, el encargado de organizar esta cita que permite visibilizar todo el 
 potencial del talento palmero en el campo creativo y textil. Y lo hace\, a
 demás\, poniendo el foco en la moda de autor y también otros valores fun
 damentales para el proyecto como la artesanía\, la sostenibilidad\, la id
 entidad y el rico patrimonio natural\, artístico y cultural de la Isla.\n
 \nLa semana comenzará el miércoles 13 de noviembre con unas jornadas for
 mativas\, que incluirán una rica agenda repleta de talleres\, ponencias y
  mentorías dirigidas no solo a las firmas de moda\, sino que también int
 egrarán a todos los agentes indispensables en el desarrollo el sector cre
 ativo y textil de La Palma\, destacando la colaboración en esta edición 
 con el profesorado y alumnado de la Escuela de Arte Manolo Blahnik.\n\nDur
 ante el fin de semana\, 15 y 16 de noviembre\, se podrá disfrutar de vari
 os desfiles de moda y diversas acciones que\, de forma paralela\, acercar
 án al público todo el potencial del sector. Asimismo\, participarán dif
 erentes invitados especiales procedentes de toda Canarias y del resto del 
 territorio nacional.\n\n\nAMARCA presentará la nueva colección "VICTORY"
 . Será en el desfile del 15 de noviembre.\nVíctor Alonso @pepinomarino 
 es dj y uno de los fotógrafos más queridos por todas las celebridades en
  nuestro país y será el encargado de poner el broche de oro a la pasarel
 a de la Palma Fashion Week con su enérgico dj set.\nVenta de entradas &gt
 \;&gt\;\n\nTodos los detalles del programa se darán a conocer en los pró
 ximos días a través de islabonitamoda.es\nEl cartel del evento ha sido d
 iseñado por Camila Sepúlveda\, alumna del Ciclo Superior de Gráfica Pub
 licitaria impartido en la Escuela de Arte Manolo Blahnik\, bajo la guía d
 el profesorado del grupo.\n\nEl vídeo promocional está protagonizado por
  los modelos canarios Marina Falcón y Darwin Echeverry\, con estilismo a 
 cargo de la directora creativa Daniela Gutiérrez\, miembro del Comité de
  Garantías de Isla Bonita Moda\, que ha contado para ello con prendas\, a
 ccesorios y joyas de todos los diseñadores miembros del programa. \n\n
ATTACH;FMTTYPE=image/jpeg:https://www.larevistadelapalma.com/wp-content/up
 loads/2024/10/La-Palma-Fashion-Week.jpg
CATEGORIES:Otras propuestas,Varios
LOCATION:Museo Insular de La Palma\, Plaza de San Francisco\, 3\, Santa Cru
 z de La Palma\, 38700\, España
GEO:28.687;-17.762092
X-APPLE-STRUCTURED-LOCATION;VALUE=URI;X-ADDRESS=Plaza de San Francisco\, 3\
 , Santa Cruz de La Palma\, 38700\, España;X-APPLE-RADIUS=100;X-TITLE=Muse
 o Insular de La Palma:geo:28.687,-17.762092
END:VEVENT
END:VCALENDAR