BEGIN:VCALENDAR
VERSION:2.0
PRODID:-//wp-events-plugin.com//7.2.3.1//EN
TZID:Europe/London
X-WR-TIMEZONE:Europe/London
BEGIN:VEVENT
UID:122@larevistadelapalma.com
DTSTART;VALUE=DATE:20230714
DTEND;VALUE=DATE:20230717
DTSTAMP:20230715T120145Z
URL:https://www.larevistadelapalma.com/events/la-palma-summer-con/
SUMMARY:La Palma Summer-con
DESCRIPTION:Del 14 al 16 de julio\, el evento de nuevas tendencias de La P
 alma con LAN Party\, K-pop\, videojuegos\, realidad virtual\, talleres\, s
 imuladores y mucho más.
ATTACH;FMTTYPE=image/jpeg:https://www.larevistadelapalma.com/wp-content/up
 loads/2023/07/lan-party-la-palma-espectaculo_1.webp
CATEGORIES:Otras propuestas,Varios
LOCATION:Polideportivo de El Paso\, C. Sericícola\, 14\, El Paso\, 38750\,
  España
GEO:28.646771;-17.884458
X-APPLE-STRUCTURED-LOCATION;VALUE=URI;X-ADDRESS=C. Sericícola\, 14\, El Pa
 so\, 38750\, España;X-APPLE-RADIUS=100;X-TITLE=Polideportivo de El Paso:g
 eo:28.646771,-17.884458
END:VEVENT
END:VCALENDARBEGIN:VCALENDAR
VERSION:2.0
PRODID:-//wp-events-plugin.com//7.2.3.1//EN
TZID:Europe/London
X-WR-TIMEZONE:Europe/London
BEGIN:VEVENT
UID:122@larevistadelapalma.com
DTSTART;VALUE=DATE:20230714
DTEND;VALUE=DATE:20230717
DTSTAMP:20230715T120145Z
URL:https://www.larevistadelapalma.com/events/la-palma-summer-con/
SUMMARY:La Palma Summer-con
DESCRIPTION:Del 14 al 16 de julio\, el evento de nuevas tendencias de La P
 alma con LAN Party\, K-pop\, videojuegos\, realidad virtual\, talleres\, s
 imuladores y mucho más.
ATTACH;FMTTYPE=image/jpeg:https://www.larevistadelapalma.com/wp-content/up
 loads/2023/07/lan-party-la-palma-espectaculo_1.webp
CATEGORIES:Otras propuestas,Varios
LOCATION:Polideportivo de El Paso\, C. Sericícola\, 14\, El Paso\, 38750\,
  España
GEO:28.646771;-17.884458
X-APPLE-STRUCTURED-LOCATION;VALUE=URI;X-ADDRESS=C. Sericícola\, 14\, El Pa
 so\, 38750\, España;X-APPLE-RADIUS=100;X-TITLE=Polideportivo de El Paso:g
 eo:28.646771,-17.884458
END:VEVENT
END:VCALENDAR