BEGIN:VCALENDAR
VERSION:2.0
PRODID:-//wp-events-plugin.com//7.2.3.1//EN
TZID:Europe/London
X-WR-TIMEZONE:Europe/London
BEGIN:VEVENT
UID:3243@larevistadelapalma.com
DTSTART;VALUE=DATE:20240920
DTEND;VALUE=DATE:20240923
DTSTAMP:20240918T163647Z
URL:https://www.larevistadelapalma.com/events/la-pelicula-canaria-voy-a-de
 saparecer-llega-este-viernes-a-multiciones-millennium/
SUMMARY:La película canaria ‘Voy a desaparecer’ llega\, este viernes a
  Multiciones Millennium
DESCRIPTION:El largometraje ‘Voy a Desaparecer’\, del director canario 
 Coré Ruiz\, se estrenará el viernes\, 20 de septiembre\, en los Multicin
 es Millennium de La Palma\, tras su paso por varios festivales españoles 
 y de Estados Unidos.  Las proyecciones serán los días 20\, 21 y 22 de s
 eptiembre.\nEl elenco de actores está formado por Abraham Santa Cruz\, Ra
 quel Herrera y Vicente Ayala. ‘Voy a desaparecer’\, rodada en diferen
 tes municipios de Gran Canaria\, es una coproducción de IMACO 89\, MUAK C
 anarias y Silvia Sánchez\, con distribución de Digital 104.\nLa ópera 
 prima de Coré Ruiz tuvo una gran acogida en su presentación en la secci
 ón Market Premieres de la programación de MAFIZ\, el mercado de ventas d
 el Festival de Cine de Málaga\; en la sección ‘Cinerama’ del Fest
 ivalito de La Palma\; en la sección ‘Canarias Cinema’\, del Festival 
 Internacional de Cine de Las Palmas de Gran Canaria\, y en el Festival Ci
 ne Las Américas de Austin (Texas)\, dentro de la selección de ‘Showca
 se Features’.\nFue precisamente en el X Festivalito de La Palma de 2015\
 , donde se conocieron Coré Ruiz y Raquel Herrera\, quien fue la protagoni
 sta de los cortos ‘Osito’ y ‘Heavy de explicar’\, seleccionados\,
  respectivamente\, en el catálogo ‘Canarias En Corto 2018’ y el Premi
 o del Público en el concurso ‘Visionaria 2017’.\nEn 2024\, Raquel y C
 oré regresan al Festivalito donde escriben y ruedan el cortometraje ‘E
 mpezar de nuevo’\, protagonizado por Raquel Herrera\, que recibió el 
 ‘Premio Arco Iris’\, por visibilizar de forma destacada los valores d
 e Igualdad\, de no discriminación por la identidad\, orientación sexual 
 o razones de género y el derecho al libre desarrollo de la personalidad.\
 n\n\n\n\n\nSu primer largometraje\, `Voy a desaparecer´ (2024)\, cuenta l
 a historia de Rocío (Raquel Herrera)\, una joven cuya rutina cambia drás
 ticamente con el encuentro con su hermano David (Abraham Santacruz)\, desp
 ués de diez años sin tener ningún contacto. David\, que ha estado todo 
 este tiempo en la cárcel\, propone a Rocío una escapada a Puerto Plata\,
  la localidad turística donde solían veranear de pequeños con la famili
 a. Este encuentro será una ocasión para recuperar el tiempo perdido\, mi
 entras comparten los recuerdos más dulces de su pasado\, pero\, también
  los más amargos. Con un final sorprendente\, esta película está destin
 ada a no dejar indiferente al espectador.\n\n\n\nLa música juega un papel
  clave y\, al mismo tiempo\, supone una reivindicación del talento local.
  El canario Gabriel Vidanauta firma la banda sonora\, coronada por la canc
 ión original ‘Y tu compañía’\, que cuenta con un videoclip con im
 ágenes de la película. También tienen un papel destacado las voces de
  Lajalada\, Fajardo o EvilMrSod\, cuyo tema ‘I'm gonna disappear’ 
 inspiró el título de este trabajo. La selección musical la completan ot
 ros artistas isleños\, como Usted\, Birkins\, Virya Cruz\, Nationalx\, Al
 berdi\, Sanches\, Resonance\, Opereta Humanoide\, Mariclon\, The Amaroses 
 y Gio Castellano &amp\; Vegax.\n ‘Voy a desaparecer’ no solo es el pr
 imer largometraje de Coré Ruiz\, sino también su “proyecto más person
 al”\, que ha definido como una ‘’carta de amor” a Gran Canaria\, a
  su hermana y su pasado adolescente. El director y guionista destaca que e
 sta producción haya contado exclusivamente con técnicos\, actores y prod
 uctores de Canarias\, con especial énfasis en el que el resultado es toda
  una reivindicación “del acento canario”. “Esta película parte de 
 una reflexión personal: ¿qué habría sido de mí si hubiese entrado en 
 la cárcel cuando tenía 18 años?”.\nEsta producción cuenta con subven
 ciones del Gobierno de Canarias y del Cabildo de Gran Canaria\, además de
 l apoyo de Televisión Canaria y la colaboración del Ayuntamiento de Las 
 Palmas de Gran Canaria\, el Instituto del Cine Canarias\, SPAR Gran Canari
 a\, Gofio La Piña\, Aguas de Teror\, Tirma\, Macaronesia Films\, Policía
  Municipal de Las Palmas de Gran Canaria y de San Bartolomé de Tirajana\,
  Cuerpo Nacional de Policía\, GLOBAL y DISA.\n&nbsp\;\n\n
ATTACH;FMTTYPE=image/jpeg:https://www.larevistadelapalma.com/wp-content/up
 loads/2024/09/CARTEL-PELICULA-VOY-A-DESAPARECER-2024.jpg
CATEGORIES:Cine,Cine y Literatura
LOCATION:Municipio de Los Llanos de Aridane\, Los Llanos de Aridane\, Los L
 lanos de Aridane\, 38760\, España
GEO:28.660236;-17.913187
X-APPLE-STRUCTURED-LOCATION;VALUE=URI;X-ADDRESS=Los Llanos de Aridane\, Los
  Llanos de Aridane\, 38760\, España;X-APPLE-RADIUS=100;X-TITLE=Municipio 
 de Los Llanos de Aridane:geo:28.660236,-17.913187
END:VEVENT
END:VCALENDARBEGIN:VCALENDAR
VERSION:2.0
PRODID:-//wp-events-plugin.com//7.2.3.1//EN
TZID:Europe/London
X-WR-TIMEZONE:Europe/London
BEGIN:VEVENT
UID:3243@larevistadelapalma.com
DTSTART;VALUE=DATE:20240920
DTEND;VALUE=DATE:20240923
DTSTAMP:20240918T163647Z
URL:https://www.larevistadelapalma.com/events/la-pelicula-canaria-voy-a-de
 saparecer-llega-este-viernes-a-multiciones-millennium/
SUMMARY:La película canaria ‘Voy a desaparecer’ llega\, este viernes a
  Multiciones Millennium
DESCRIPTION:El largometraje ‘Voy a Desaparecer’\, del director canario 
 Coré Ruiz\, se estrenará el viernes\, 20 de septiembre\, en los Multicin
 es Millennium de La Palma\, tras su paso por varios festivales españoles 
 y de Estados Unidos.  Las proyecciones serán los días 20\, 21 y 22 de s
 eptiembre.\nEl elenco de actores está formado por Abraham Santa Cruz\, Ra
 quel Herrera y Vicente Ayala. ‘Voy a desaparecer’\, rodada en diferen
 tes municipios de Gran Canaria\, es una coproducción de IMACO 89\, MUAK C
 anarias y Silvia Sánchez\, con distribución de Digital 104.\nLa ópera 
 prima de Coré Ruiz tuvo una gran acogida en su presentación en la secci
 ón Market Premieres de la programación de MAFIZ\, el mercado de ventas d
 el Festival de Cine de Málaga\; en la sección ‘Cinerama’ del Fest
 ivalito de La Palma\; en la sección ‘Canarias Cinema’\, del Festival 
 Internacional de Cine de Las Palmas de Gran Canaria\, y en el Festival Ci
 ne Las Américas de Austin (Texas)\, dentro de la selección de ‘Showca
 se Features’.\nFue precisamente en el X Festivalito de La Palma de 2015\
 , donde se conocieron Coré Ruiz y Raquel Herrera\, quien fue la protagoni
 sta de los cortos ‘Osito’ y ‘Heavy de explicar’\, seleccionados\,
  respectivamente\, en el catálogo ‘Canarias En Corto 2018’ y el Premi
 o del Público en el concurso ‘Visionaria 2017’.\nEn 2024\, Raquel y C
 oré regresan al Festivalito donde escriben y ruedan el cortometraje ‘E
 mpezar de nuevo’\, protagonizado por Raquel Herrera\, que recibió el 
 ‘Premio Arco Iris’\, por visibilizar de forma destacada los valores d
 e Igualdad\, de no discriminación por la identidad\, orientación sexual 
 o razones de género y el derecho al libre desarrollo de la personalidad.\
 n\n\n\n\n\nSu primer largometraje\, `Voy a desaparecer´ (2024)\, cuenta l
 a historia de Rocío (Raquel Herrera)\, una joven cuya rutina cambia drás
 ticamente con el encuentro con su hermano David (Abraham Santacruz)\, desp
 ués de diez años sin tener ningún contacto. David\, que ha estado todo 
 este tiempo en la cárcel\, propone a Rocío una escapada a Puerto Plata\,
  la localidad turística donde solían veranear de pequeños con la famili
 a. Este encuentro será una ocasión para recuperar el tiempo perdido\, mi
 entras comparten los recuerdos más dulces de su pasado\, pero\, también
  los más amargos. Con un final sorprendente\, esta película está destin
 ada a no dejar indiferente al espectador.\n\n\n\nLa música juega un papel
  clave y\, al mismo tiempo\, supone una reivindicación del talento local.
  El canario Gabriel Vidanauta firma la banda sonora\, coronada por la canc
 ión original ‘Y tu compañía’\, que cuenta con un videoclip con im
 ágenes de la película. También tienen un papel destacado las voces de
  Lajalada\, Fajardo o EvilMrSod\, cuyo tema ‘I'm gonna disappear’ 
 inspiró el título de este trabajo. La selección musical la completan ot
 ros artistas isleños\, como Usted\, Birkins\, Virya Cruz\, Nationalx\, Al
 berdi\, Sanches\, Resonance\, Opereta Humanoide\, Mariclon\, The Amaroses 
 y Gio Castellano &amp\; Vegax.\n ‘Voy a desaparecer’ no solo es el pr
 imer largometraje de Coré Ruiz\, sino también su “proyecto más person
 al”\, que ha definido como una ‘’carta de amor” a Gran Canaria\, a
  su hermana y su pasado adolescente. El director y guionista destaca que e
 sta producción haya contado exclusivamente con técnicos\, actores y prod
 uctores de Canarias\, con especial énfasis en el que el resultado es toda
  una reivindicación “del acento canario”. “Esta película parte de 
 una reflexión personal: ¿qué habría sido de mí si hubiese entrado en 
 la cárcel cuando tenía 18 años?”.\nEsta producción cuenta con subven
 ciones del Gobierno de Canarias y del Cabildo de Gran Canaria\, además de
 l apoyo de Televisión Canaria y la colaboración del Ayuntamiento de Las 
 Palmas de Gran Canaria\, el Instituto del Cine Canarias\, SPAR Gran Canari
 a\, Gofio La Piña\, Aguas de Teror\, Tirma\, Macaronesia Films\, Policía
  Municipal de Las Palmas de Gran Canaria y de San Bartolomé de Tirajana\,
  Cuerpo Nacional de Policía\, GLOBAL y DISA.\n&nbsp\;\n\n
ATTACH;FMTTYPE=image/jpeg:https://www.larevistadelapalma.com/wp-content/up
 loads/2024/09/CARTEL-PELICULA-VOY-A-DESAPARECER-2024.jpg
CATEGORIES:Cine,Cine y Literatura
LOCATION:Municipio de Los Llanos de Aridane\, Los Llanos de Aridane\, Los L
 lanos de Aridane\, 38760\, España
GEO:28.660236;-17.913187
X-APPLE-STRUCTURED-LOCATION;VALUE=URI;X-ADDRESS=Los Llanos de Aridane\, Los
  Llanos de Aridane\, 38760\, España;X-APPLE-RADIUS=100;X-TITLE=Municipio 
 de Los Llanos de Aridane:geo:28.660236,-17.913187
END:VEVENT
END:VCALENDAR