BEGIN:VCALENDAR
VERSION:2.0
PRODID:-//wp-events-plugin.com//7.2.3.1//EN
TZID:Europe/London
X-WR-TIMEZONE:Europe/London
BEGIN:VEVENT
UID:3539@larevistadelapalma.com
DTSTART:20250111T100000Z
DTEND:20250111T113000Z
DTSTAMP:20250107T195326Z
URL:https://www.larevistadelapalma.com/events/la-plaza-de-la-poesia-club-d
 e-lectura-en-los-llanos-de-aridane/
SUMMARY:"La Plaza de la poesía": Club de lectura en Los Llanos de Aridane
DESCRIPTION:\nModerado por Aquiles García.\nBiblioteca Pública Municipal 
 María Nieves Pérez Acosta.\n\n
ATTACH;FMTTYPE=image/jpeg:https://www.larevistadelapalma.com/wp-content/up
 loads/2025/01/Club-de-lectura-los-llanos.jpg
CATEGORIES:Cine y Literatura,Literatura
LOCATION:Casa de La Cultura de Los Llanos de Aridane\, : C. Real\, 8\, Los 
 Llanos de Aridane \, 38760\, España
GEO:28.658651;-17.913512
X-APPLE-STRUCTURED-LOCATION;VALUE=URI;X-ADDRESS=: C. Real\, 8\, Los Llanos 
 de Aridane \, 38760\, España;X-APPLE-RADIUS=100;X-TITLE=Casa de La Cultur
 a de Los Llanos de Aridane:geo:28.658651,-17.913512
END:VEVENT
END:VCALENDARBEGIN:VCALENDAR
VERSION:2.0
PRODID:-//wp-events-plugin.com//7.2.3.1//EN
TZID:Europe/London
X-WR-TIMEZONE:Europe/London
BEGIN:VEVENT
UID:3539@larevistadelapalma.com
DTSTART:20250111T100000Z
DTEND:20250111T113000Z
DTSTAMP:20250107T195326Z
URL:https://www.larevistadelapalma.com/events/la-plaza-de-la-poesia-club-d
 e-lectura-en-los-llanos-de-aridane/
SUMMARY:"La Plaza de la poesía": Club de lectura en Los Llanos de Aridane
DESCRIPTION:\nModerado por Aquiles García.\nBiblioteca Pública Municipal 
 María Nieves Pérez Acosta.\n\n
ATTACH;FMTTYPE=image/jpeg:https://www.larevistadelapalma.com/wp-content/up
 loads/2025/01/Club-de-lectura-los-llanos.jpg
CATEGORIES:Cine y Literatura,Literatura
LOCATION:Casa de La Cultura de Los Llanos de Aridane\, : C. Real\, 8\, Los 
 Llanos de Aridane \, 38760\, España
GEO:28.658651;-17.913512
X-APPLE-STRUCTURED-LOCATION;VALUE=URI;X-ADDRESS=: C. Real\, 8\, Los Llanos 
 de Aridane \, 38760\, España;X-APPLE-RADIUS=100;X-TITLE=Casa de La Cultur
 a de Los Llanos de Aridane:geo:28.658651,-17.913512
END:VEVENT
END:VCALENDAR