BEGIN:VCALENDAR
VERSION:2.0
PRODID:-//wp-events-plugin.com//7.2.3.1//EN
TZID:Europe/London
X-WR-TIMEZONE:Europe/London
BEGIN:VEVENT
UID:4039@larevistadelapalma.com
DTSTART:20251031T193000Z
DTEND:20251031T210000Z
DTSTAMP:20251028T150528Z
URL:https://www.larevistadelapalma.com/events/la-premiada-obra-las-que-lim
 pian-llega-a-la-palma/
SUMMARY:La premiada obra "Las que limpian" llega a La Palma
DESCRIPTION:Las que limpian\, de la compañía gallega  A Panadaría\, fue
  estrenada en el 2022 y es una sátira utópica inspirada en la lucha orga
 nizada de las camareras de piso de los hoteles por conseguir unos derechos
  laborales y sociales justos. Frente a ellas\, la avaricia voraz de los pr
 opietarios de las cadenas hoteleras. Hay quien nunca ha limpiado un váter
  y hay quien limpia quinientos al mes.\nComprar entradas &gt\;&gt\;\nTambi
 én pueden adquirir la entrada en la taquilla del teatro:\n\n\n 	 Del 28 
 al 30 de octubre de: 11:30 a 13:30 h.\n 	31 de octubre de octubre de: 11:3
 0 a13:30 h. Y de 19:30 a 20:30 h.\n\n\n\nPREMIOS- Las que limpian.\n\n\n\n
 2022\n\n\n\n 	Premio del Público en la Muestra de Teatro Galego de Cariñ
 o.\n 	Premio a Mejor Espectáculo de Sala en la Feria de Teatro de Castill
 a y León.\n\n2023\n\n\n 	Premio María Casares a Mejor Espectáculo.\n 	P
 remio María Casares a Mejor Texto Original.\n 	Premio María Casares a Me
 jor Actriz Protagonista (Noelia Castro).\n 	Premio María Casares a Mejor 
 Dirección.\n 	Premio del Público en la Muestra Internacional de Teatro d
 e Ribadavia.\n 	Premio María Casares a Mejor Espectáculo.\n 	Premio Mar
 ía Casares a Mejor Texto Original.\n 	Premio María Casares a Mejor Actri
 z Protagonista (Noelia Castro).\n 	Premio María Casares a Mejor Direcció
 n.\n 	Premio del Público en la Muestra Internacional de Teatro de Ribadav
 ia.\n\n\nA Panadaría abre su horno teatral en 2013 en Vigo. Sus fundadora
 s (Areta Bolado\, Noelia Castro y Ailén Kendelman) amasan un teatro que r
 enuncia a los elementos escenográficos para desbordar humor ácido\, mús
 ica vocal y unas interpretaciones lúdicas y habilidosas que nos llevan po
 r un camino de transgresión hilarante y profundamente político. En esta 
 década de trabajo creativo estrenan los montajes Pan!Pan! (2013)\, Pan
 americana (2015)\, el multipremiado Elisa y Marcela (2017\, en coproduc
 ción con el Centro Dramático Galego) y Las que limpian (2022\, en copr
 oducción con el Centro Dramático Nacional).
ATTACH;FMTTYPE=image/jpeg:https://www.larevistadelapalma.com/wp-content/up
 loads/2025/10/As-que-limpan-06-e1671613168684.jpg
CATEGORIES:Espectáculos,Teatro
LOCATION:Teatro Circo de Marte\, Calle Virgen de La Luz\, 5\, Santa Cruz de
  La Palma\, 38700\, España
GEO:28.682989;-17.765755
X-APPLE-STRUCTURED-LOCATION;VALUE=URI;X-ADDRESS=Calle Virgen de La Luz\, 5\
 , Santa Cruz de La Palma\, 38700\, España;X-APPLE-RADIUS=100;X-TITLE=Teat
 ro Circo de Marte:geo:28.682989,-17.765755
END:VEVENT
END:VCALENDARBEGIN:VCALENDAR
VERSION:2.0
PRODID:-//wp-events-plugin.com//7.2.3.1//EN
TZID:Europe/London
X-WR-TIMEZONE:Europe/London
BEGIN:VEVENT
UID:4039@larevistadelapalma.com
DTSTART:20251031T193000Z
DTEND:20251031T210000Z
DTSTAMP:20251028T150528Z
URL:https://www.larevistadelapalma.com/events/la-premiada-obra-las-que-lim
 pian-llega-a-la-palma/
SUMMARY:La premiada obra "Las que limpian" llega a La Palma
DESCRIPTION:Las que limpian\, de la compañía gallega  A Panadaría\, fue
  estrenada en el 2022 y es una sátira utópica inspirada en la lucha orga
 nizada de las camareras de piso de los hoteles por conseguir unos derechos
  laborales y sociales justos. Frente a ellas\, la avaricia voraz de los pr
 opietarios de las cadenas hoteleras. Hay quien nunca ha limpiado un váter
  y hay quien limpia quinientos al mes.\nComprar entradas &gt\;&gt\;\nTambi
 én pueden adquirir la entrada en la taquilla del teatro:\n\n\n 	 Del 28 
 al 30 de octubre de: 11:30 a 13:30 h.\n 	31 de octubre de octubre de: 11:3
 0 a13:30 h. Y de 19:30 a 20:30 h.\n\n\n\nPREMIOS- Las que limpian.\n\n\n\n
 2022\n\n\n\n 	Premio del Público en la Muestra de Teatro Galego de Cariñ
 o.\n 	Premio a Mejor Espectáculo de Sala en la Feria de Teatro de Castill
 a y León.\n\n2023\n\n\n 	Premio María Casares a Mejor Espectáculo.\n 	P
 remio María Casares a Mejor Texto Original.\n 	Premio María Casares a Me
 jor Actriz Protagonista (Noelia Castro).\n 	Premio María Casares a Mejor 
 Dirección.\n 	Premio del Público en la Muestra Internacional de Teatro d
 e Ribadavia.\n 	Premio María Casares a Mejor Espectáculo.\n 	Premio Mar
 ía Casares a Mejor Texto Original.\n 	Premio María Casares a Mejor Actri
 z Protagonista (Noelia Castro).\n 	Premio María Casares a Mejor Direcció
 n.\n 	Premio del Público en la Muestra Internacional de Teatro de Ribadav
 ia.\n\n\nA Panadaría abre su horno teatral en 2013 en Vigo. Sus fundadora
 s (Areta Bolado\, Noelia Castro y Ailén Kendelman) amasan un teatro que r
 enuncia a los elementos escenográficos para desbordar humor ácido\, mús
 ica vocal y unas interpretaciones lúdicas y habilidosas que nos llevan po
 r un camino de transgresión hilarante y profundamente político. En esta 
 década de trabajo creativo estrenan los montajes Pan!Pan! (2013)\, Pan
 americana (2015)\, el multipremiado Elisa y Marcela (2017\, en coproduc
 ción con el Centro Dramático Galego) y Las que limpian (2022\, en copr
 oducción con el Centro Dramático Nacional).
ATTACH;FMTTYPE=image/jpeg:https://www.larevistadelapalma.com/wp-content/up
 loads/2025/10/As-que-limpan-06-e1671613168684.jpg
CATEGORIES:Espectáculos,Teatro
LOCATION:Teatro Circo de Marte\, Calle Virgen de La Luz\, 5\, Santa Cruz de
  La Palma\, 38700\, España
GEO:28.682989;-17.765755
X-APPLE-STRUCTURED-LOCATION;VALUE=URI;X-ADDRESS=Calle Virgen de La Luz\, 5\
 , Santa Cruz de La Palma\, 38700\, España;X-APPLE-RADIUS=100;X-TITLE=Teat
 ro Circo de Marte:geo:28.682989,-17.765755
END:VEVENT
END:VCALENDAR