BEGIN:VCALENDAR
VERSION:2.0
PRODID:-//wp-events-plugin.com//7.2.3.1//EN
TZID:Europe/London
X-WR-TIMEZONE:Europe/London
BEGIN:VEVENT
UID:3043@larevistadelapalma.com
DTSTART:20240617T180000Z
DTEND:20240617T193000Z
DTSTAMP:20240606T231612Z
URL:https://www.larevistadelapalma.com/events/la-profesora-rosalba-scholas
 ticus/
SUMMARY:La profesora Rosalba Scholasticus
DESCRIPTION:Rosalba es una maestra de escuela de primaria a punto de jubila
 rse. Sus años han transcurrido entre su fría habitación y el salón de 
 clases. El amor tocó a su puerta solo una vez y aún vive en el recuerdo 
 de aquel pasado.\n\nSu personalidad cartesiana\, rígida y estricta se va 
 desmoronando en esta primera clase del año escolar en la que explica a su
 s alumnos el calendario del año y las reglas de comportamiento.\n\nEl abu
 so del poder\, el premio y el castigo\, la regla\, copiar y memorizar… e
 n esta clase la “profe” hablará de todos los materiales escolares\, l
 as tareas\, la disciplina\, lo qué les espera a los que repiten\, a los i
 ndisciplinados\, a los groseros y a los que aspiren a sacar buenas notas c
 on ella. La profesora Rosalba también desnudara su alma\, sus pasiones\, 
 sentimientos\, secretos\, amores\, pecados\, tristezas y deseos.\nComprar 
 entradas &gt\;&gt\;\nDitirambo Teatro anuncia su próxima gira internacion
 al\, en el marco de la celebración de 35 años de trayectoria artística.
  Se embarcará en un viaje cultural que iniciará en Madrid\, con un breve
  paso por Toledo en España\; posteriormente habrá presentaciones en Tene
 rife y La Palma en Islas Canarias\; seguido de un regreso a la península 
 para deleitar al público de Barcelona. La travesía continuará en París
 \, la ciudad de la luz\; luego en Stuttgart\, Alemania\, y culminará en Z
 úrich\, Suiza. El repertorio incluirá clásicos ditirámbicos que han ca
 utivado a diversas audiencias a lo largo de los años.\n\n&nbsp\;
ATTACH;FMTTYPE=image/jpeg:https://www.larevistadelapalma.com/wp-content/up
 loads/2024/06/La-profesora-Rosalba-Scholasticus.jpg
CATEGORIES:Espectáculos,Teatro
LOCATION:Teatro Chico\, Calle Díaz Pimienta\, 1\, Santa Cruz De La Palma\,
  Santa Cruz de Tenerife\, 38700\, España
GEO:28.68432;-17.764225
X-APPLE-STRUCTURED-LOCATION;VALUE=URI;X-ADDRESS=Calle Díaz Pimienta\, 1\, 
 Santa Cruz De La Palma\, Santa Cruz de Tenerife\, 38700\, España;X-APPLE-
 RADIUS=100;X-TITLE=Teatro Chico:geo:28.68432,-17.764225
END:VEVENT
END:VCALENDARBEGIN:VCALENDAR
VERSION:2.0
PRODID:-//wp-events-plugin.com//7.2.3.1//EN
TZID:Europe/London
X-WR-TIMEZONE:Europe/London
BEGIN:VEVENT
UID:3043@larevistadelapalma.com
DTSTART:20240617T180000Z
DTEND:20240617T193000Z
DTSTAMP:20240606T231612Z
URL:https://www.larevistadelapalma.com/events/la-profesora-rosalba-scholas
 ticus/
SUMMARY:La profesora Rosalba Scholasticus
DESCRIPTION:Rosalba es una maestra de escuela de primaria a punto de jubila
 rse. Sus años han transcurrido entre su fría habitación y el salón de 
 clases. El amor tocó a su puerta solo una vez y aún vive en el recuerdo 
 de aquel pasado.\n\nSu personalidad cartesiana\, rígida y estricta se va 
 desmoronando en esta primera clase del año escolar en la que explica a su
 s alumnos el calendario del año y las reglas de comportamiento.\n\nEl abu
 so del poder\, el premio y el castigo\, la regla\, copiar y memorizar… e
 n esta clase la “profe” hablará de todos los materiales escolares\, l
 as tareas\, la disciplina\, lo qué les espera a los que repiten\, a los i
 ndisciplinados\, a los groseros y a los que aspiren a sacar buenas notas c
 on ella. La profesora Rosalba también desnudara su alma\, sus pasiones\, 
 sentimientos\, secretos\, amores\, pecados\, tristezas y deseos.\nComprar 
 entradas &gt\;&gt\;\nDitirambo Teatro anuncia su próxima gira internacion
 al\, en el marco de la celebración de 35 años de trayectoria artística.
  Se embarcará en un viaje cultural que iniciará en Madrid\, con un breve
  paso por Toledo en España\; posteriormente habrá presentaciones en Tene
 rife y La Palma en Islas Canarias\; seguido de un regreso a la península 
 para deleitar al público de Barcelona. La travesía continuará en París
 \, la ciudad de la luz\; luego en Stuttgart\, Alemania\, y culminará en Z
 úrich\, Suiza. El repertorio incluirá clásicos ditirámbicos que han ca
 utivado a diversas audiencias a lo largo de los años.\n\n&nbsp\;
ATTACH;FMTTYPE=image/jpeg:https://www.larevistadelapalma.com/wp-content/up
 loads/2024/06/La-profesora-Rosalba-Scholasticus.jpg
CATEGORIES:Espectáculos,Teatro
LOCATION:Teatro Chico\, Calle Díaz Pimienta\, 1\, Santa Cruz De La Palma\,
  Santa Cruz de Tenerife\, 38700\, España
GEO:28.68432;-17.764225
X-APPLE-STRUCTURED-LOCATION;VALUE=URI;X-ADDRESS=Calle Díaz Pimienta\, 1\, 
 Santa Cruz De La Palma\, Santa Cruz de Tenerife\, 38700\, España;X-APPLE-
 RADIUS=100;X-TITLE=Teatro Chico:geo:28.68432,-17.764225
END:VEVENT
END:VCALENDAR