BEGIN:VCALENDAR
VERSION:2.0
PRODID:-//wp-events-plugin.com//7.2.3.1//EN
TZID:Europe/London
X-WR-TIMEZONE:Europe/London
BEGIN:VEVENT
UID:136@larevistadelapalma.com
DTSTART:20230703T190000Z
DTEND:20230703T201500Z
DTSTAMP:20230702T120514Z
URL:https://www.larevistadelapalma.com/events/la-proyeccion-a-gran-pantall
 a-hoy-y-ayer-vuelve-al-teatro-cine-chico/
SUMMARY:La proyección a gran pantalla ‘Hoy y ayer’ vuelve al Teatro Ci
 ne Chico
DESCRIPTION:Un paseo fotográfico por la historia de Santa Cruz de La Palma
 .\nMañana lunes\, 3 de julio\, a las 20.00 horas\, en el Teatro Cine Chic
 o Municipal de Santa Cruz de La Palma tendrá\, lugar nuevamente la proyec
 ción a gran pantalla ‘Hoy y ayer’.\n\n\nUn paseo por la historia soci
 ocultural y militar de Santa Cruz de La Palma con fotografías antiguas pe
 rtenecientes al Archivo Insular de La Palma y al grupo Historia de La Palm
 a de Facebook realizado por el grupo Afoto La Palma y presentado por el in
 vestigador palmero Fernando Rodríguez Sánchez. \n\nHasta la Bajada de l
 a Virgen del 2025 esta proyección fotográfica a gran pantalla no será e
 xpuesta públicamente.\n\nRecalca Fernando Rodríguez que “lo que se int
 enta con este tipo de actos es acercar la amplia historia de la capital in
 sular de forma amena e interactiva en la que sea el propio público el que
  interactúe con el ponente pudiendo incluso ampliar la información aport
 ada para enriquecer de esta manera el contenido expuesto”. \n\n&nbsp\;\
 n\n
ATTACH;FMTTYPE=image/jpeg:https://www.larevistadelapalma.com/wp-content/up
 loads/2023/07/Proyeccion-Hoy-y-ayer.jpg
CATEGORIES:Cine,Cine y Literatura
LOCATION:Teatro Chico\, Calle Díaz Pimienta\, 1\, Santa Cruz De La Palma\,
  Santa Cruz de Tenerife\, 38700\, España
GEO:28.68432;-17.764225
X-APPLE-STRUCTURED-LOCATION;VALUE=URI;X-ADDRESS=Calle Díaz Pimienta\, 1\, 
 Santa Cruz De La Palma\, Santa Cruz de Tenerife\, 38700\, España;X-APPLE-
 RADIUS=100;X-TITLE=Teatro Chico:geo:28.68432,-17.764225
END:VEVENT
END:VCALENDARBEGIN:VCALENDAR
VERSION:2.0
PRODID:-//wp-events-plugin.com//7.2.3.1//EN
TZID:Europe/London
X-WR-TIMEZONE:Europe/London
BEGIN:VEVENT
UID:136@larevistadelapalma.com
DTSTART:20230703T190000Z
DTEND:20230703T201500Z
DTSTAMP:20230702T120514Z
URL:https://www.larevistadelapalma.com/events/la-proyeccion-a-gran-pantall
 a-hoy-y-ayer-vuelve-al-teatro-cine-chico/
SUMMARY:La proyección a gran pantalla ‘Hoy y ayer’ vuelve al Teatro Ci
 ne Chico
DESCRIPTION:Un paseo fotográfico por la historia de Santa Cruz de La Palma
 .\nMañana lunes\, 3 de julio\, a las 20.00 horas\, en el Teatro Cine Chic
 o Municipal de Santa Cruz de La Palma tendrá\, lugar nuevamente la proyec
 ción a gran pantalla ‘Hoy y ayer’.\n\n\nUn paseo por la historia soci
 ocultural y militar de Santa Cruz de La Palma con fotografías antiguas pe
 rtenecientes al Archivo Insular de La Palma y al grupo Historia de La Palm
 a de Facebook realizado por el grupo Afoto La Palma y presentado por el in
 vestigador palmero Fernando Rodríguez Sánchez. \n\nHasta la Bajada de l
 a Virgen del 2025 esta proyección fotográfica a gran pantalla no será e
 xpuesta públicamente.\n\nRecalca Fernando Rodríguez que “lo que se int
 enta con este tipo de actos es acercar la amplia historia de la capital in
 sular de forma amena e interactiva en la que sea el propio público el que
  interactúe con el ponente pudiendo incluso ampliar la información aport
 ada para enriquecer de esta manera el contenido expuesto”. \n\n&nbsp\;\
 n\n
ATTACH;FMTTYPE=image/jpeg:https://www.larevistadelapalma.com/wp-content/up
 loads/2023/07/Proyeccion-Hoy-y-ayer.jpg
CATEGORIES:Cine,Cine y Literatura
LOCATION:Teatro Chico\, Calle Díaz Pimienta\, 1\, Santa Cruz De La Palma\,
  Santa Cruz de Tenerife\, 38700\, España
GEO:28.68432;-17.764225
X-APPLE-STRUCTURED-LOCATION;VALUE=URI;X-ADDRESS=Calle Díaz Pimienta\, 1\, 
 Santa Cruz De La Palma\, Santa Cruz de Tenerife\, 38700\, España;X-APPLE-
 RADIUS=100;X-TITLE=Teatro Chico:geo:28.68432,-17.764225
END:VEVENT
END:VCALENDAR