BEGIN:VCALENDAR
VERSION:2.0
PRODID:-//wp-events-plugin.com//7.2.3.1//EN
TZID:Europe/London
X-WR-TIMEZONE:Europe/London
BEGIN:VEVENT
UID:3115@larevistadelapalma.com
DTSTART:20240720T110000Z
DTEND:20240720T180000Z
DTSTAMP:20240710T204707Z
URL:https://www.larevistadelapalma.com/events/la-segunda-edicion-de-la-fer
 ia-del-vino-de-fuencaliente-contara-con-la-actuacion-de-bombai/
SUMMARY:La segunda edición de la Feria del Vino de Fuencaliente contará c
 on la actuación de Bombai 
DESCRIPTION:Se celebrará el próximo sábado 20 de julio\, con degustacion
 es\, la actuación de Bombai\, de los locales Atlantis y DJ Equis.\n\nEl A
 yuntamiento de Fuencaliente prepara la celebración de la segunda edición
  de su Feria del Vino\, que tendrá como principal protagonista la música
  y la degustación de productos gastronómicos\, y teniendo la actuación 
 estelar del grupo Bombai.\n\nLa cita se celebrará en la Plaza del Ayuntam
 iento el próximo sábado 20 de julio\, entre las 12:00 y las 19:00 horas\
 , contando con la participación de las bodegas del municipio.\nLa feria c
 ontará con la participación de las bodegas Llanovid\, Carballo\, Tamanca
 \, Tendal\, Victoria i Torres\, Vega Norte\, Bodegas Juan Jesús Pérez y 
 Adrian\, además de Destilerías Aldea\, así como dispondrá de degustaci
 ones preparadas por varios establecimientos del municipio. \n\nEl evento g
 astronómico se completará con las actuaciones musicales de Bombai\, Atla
 ntis y DJ Equis.\nEl grupo valenciano Bombai se da a conocer al gran públ
 ico con su single ‘Solo si es contigo’\, un tema fresco y positivo con
  un sonido pop-rock y un toque reggae muy cuidado que ha contado con la co
 laboración de la cantante extremeña Bebe. \n\nhttps://www.youtube.com/w
 atch?v=NMVBQ6C4iNA\n\n&nbsp\;\n\nEl alcalde de Fuencaliente\, Gregorio Alo
 nso\, destaca que esta Feria surge como impulso al trabajo que realizan la
 s bodegas del municipio en particular\, y de la Isla en general\, propicia
 ndo un escaparate en el que el público pueda acceder no sólo a la degust
 ación\, también a la posibilidad de adquirir los productos que generan.
  \n\n&nbsp\;\n\n 
ATTACH;FMTTYPE=image/jpeg:https://www.larevistadelapalma.com/wp-content/up
 loads/2024/07/Feria-del-Vino-2024.jpg
CATEGORIES:Conciertos,Gastro,Música,Otras propuestas
LOCATION:Plaza del Ayuntamiento de Fuencaliente\, C. San Antonio\, Los Cana
 rios\, Fuencaliente\, 38740\, España
GEO:28.494669;-17.845068
X-APPLE-STRUCTURED-LOCATION;VALUE=URI;X-ADDRESS=C. San Antonio\, Los Canari
 os\, Fuencaliente\, 38740\, España;X-APPLE-RADIUS=100;X-TITLE=Plaza del A
 yuntamiento de Fuencaliente:geo:28.494669,-17.845068
END:VEVENT
END:VCALENDARBEGIN:VCALENDAR
VERSION:2.0
PRODID:-//wp-events-plugin.com//7.2.3.1//EN
TZID:Europe/London
X-WR-TIMEZONE:Europe/London
BEGIN:VEVENT
UID:3115@larevistadelapalma.com
DTSTART:20240720T110000Z
DTEND:20240720T180000Z
DTSTAMP:20240710T204707Z
URL:https://www.larevistadelapalma.com/events/la-segunda-edicion-de-la-fer
 ia-del-vino-de-fuencaliente-contara-con-la-actuacion-de-bombai/
SUMMARY:La segunda edición de la Feria del Vino de Fuencaliente contará c
 on la actuación de Bombai 
DESCRIPTION:Se celebrará el próximo sábado 20 de julio\, con degustacion
 es\, la actuación de Bombai\, de los locales Atlantis y DJ Equis.\n\nEl A
 yuntamiento de Fuencaliente prepara la celebración de la segunda edición
  de su Feria del Vino\, que tendrá como principal protagonista la música
  y la degustación de productos gastronómicos\, y teniendo la actuación 
 estelar del grupo Bombai.\n\nLa cita se celebrará en la Plaza del Ayuntam
 iento el próximo sábado 20 de julio\, entre las 12:00 y las 19:00 horas\
 , contando con la participación de las bodegas del municipio.\nLa feria c
 ontará con la participación de las bodegas Llanovid\, Carballo\, Tamanca
 \, Tendal\, Victoria i Torres\, Vega Norte\, Bodegas Juan Jesús Pérez y 
 Adrian\, además de Destilerías Aldea\, así como dispondrá de degustaci
 ones preparadas por varios establecimientos del municipio. \n\nEl evento g
 astronómico se completará con las actuaciones musicales de Bombai\, Atla
 ntis y DJ Equis.\nEl grupo valenciano Bombai se da a conocer al gran públ
 ico con su single ‘Solo si es contigo’\, un tema fresco y positivo con
  un sonido pop-rock y un toque reggae muy cuidado que ha contado con la co
 laboración de la cantante extremeña Bebe. \n\nhttps://www.youtube.com/w
 atch?v=NMVBQ6C4iNA\n\n&nbsp\;\n\nEl alcalde de Fuencaliente\, Gregorio Alo
 nso\, destaca que esta Feria surge como impulso al trabajo que realizan la
 s bodegas del municipio en particular\, y de la Isla en general\, propicia
 ndo un escaparate en el que el público pueda acceder no sólo a la degust
 ación\, también a la posibilidad de adquirir los productos que generan.
  \n\n&nbsp\;\n\n 
ATTACH;FMTTYPE=image/jpeg:https://www.larevistadelapalma.com/wp-content/up
 loads/2024/07/Feria-del-Vino-2024.jpg
CATEGORIES:Conciertos,Gastro,Música,Otras propuestas
LOCATION:Plaza del Ayuntamiento de Fuencaliente\, C. San Antonio\, Los Cana
 rios\, Fuencaliente\, 38740\, España
GEO:28.494669;-17.845068
X-APPLE-STRUCTURED-LOCATION;VALUE=URI;X-ADDRESS=C. San Antonio\, Los Canari
 os\, Fuencaliente\, 38740\, España;X-APPLE-RADIUS=100;X-TITLE=Plaza del A
 yuntamiento de Fuencaliente:geo:28.494669,-17.845068
END:VEVENT
END:VCALENDAR