BEGIN:VCALENDAR
VERSION:2.0
PRODID:-//wp-events-plugin.com//7.2.3.1//EN
TZID:Europe/London
X-WR-TIMEZONE:Europe/London
BEGIN:VEVENT
UID:3801@larevistadelapalma.com
DTSTART:20250614T193000Z
DTEND:20250614T210000Z
DTSTAMP:20250606T121712Z
URL:https://www.larevistadelapalma.com/events/la-solera-cuenta-narracion-o
 ral-para-adultos-con-samantha-moreno/
SUMMARY:"La Solera cuenta": Narración oral para adultos con Samantha Moren
 o
DESCRIPTION:El noveno ciclo de narración oral de Villa de Mazo prosigue co
 n Samantha Moreno y una recopilación de cuentos de aquí y de allá\, de 
 la tradición oral o de autoría.\n\nDesde la frescura y la autenticidad\,
  Samantha Moreno nos hará viajar con su voz a través de cuentos llenos d
 e vida\, humor y emoción.  Con el título "Inventario" nos presenta una 
 selección hecha para la ocasión\, y que bien se parece a cuando abres el
  armario y eliges tu atuendo del día: una prenda para el abrigo de las pa
 labras\, otra para que reluzcan\, los complementos porque combinan y los z
 apatos para ayudarlas a andar.\n\nY así se vestirán las palabras\, combi
 nando fantasía y realidad\, con un poco de amor\, algo de lógica y tambi
 én de picardía.\n\n&nbsp\;\n\n&nbsp\;
ATTACH;FMTTYPE=image/jpeg:https://www.larevistadelapalma.com/wp-content/up
 loads/2025/06/La-Solera-cuenta-Samantha-Moreno-25.webp
CATEGORIES:Espectáculos
LOCATION:Museo Casa Roja\, C. Maximiliano Pérez Díaz\, 23\, Villa de Mazo
 \, 38730\, España
GEO:28.607435;-17.77894
X-APPLE-STRUCTURED-LOCATION;VALUE=URI;X-ADDRESS=C. Maximiliano Pérez Díaz
 \, 23\, Villa de Mazo\, 38730\, España;X-APPLE-RADIUS=100;X-TITLE=Museo C
 asa Roja:geo:28.607435,-17.77894
END:VEVENT
END:VCALENDARBEGIN:VCALENDAR
VERSION:2.0
PRODID:-//wp-events-plugin.com//7.2.3.1//EN
TZID:Europe/London
X-WR-TIMEZONE:Europe/London
BEGIN:VEVENT
UID:3801@larevistadelapalma.com
DTSTART:20250614T193000Z
DTEND:20250614T210000Z
DTSTAMP:20250606T121712Z
URL:https://www.larevistadelapalma.com/events/la-solera-cuenta-narracion-o
 ral-para-adultos-con-samantha-moreno/
SUMMARY:"La Solera cuenta": Narración oral para adultos con Samantha Moren
 o
DESCRIPTION:El noveno ciclo de narración oral de Villa de Mazo prosigue co
 n Samantha Moreno y una recopilación de cuentos de aquí y de allá\, de 
 la tradición oral o de autoría.\n\nDesde la frescura y la autenticidad\,
  Samantha Moreno nos hará viajar con su voz a través de cuentos llenos d
 e vida\, humor y emoción.  Con el título "Inventario" nos presenta una 
 selección hecha para la ocasión\, y que bien se parece a cuando abres el
  armario y eliges tu atuendo del día: una prenda para el abrigo de las pa
 labras\, otra para que reluzcan\, los complementos porque combinan y los z
 apatos para ayudarlas a andar.\n\nY así se vestirán las palabras\, combi
 nando fantasía y realidad\, con un poco de amor\, algo de lógica y tambi
 én de picardía.\n\n&nbsp\;\n\n&nbsp\;
ATTACH;FMTTYPE=image/jpeg:https://www.larevistadelapalma.com/wp-content/up
 loads/2025/06/La-Solera-cuenta-Samantha-Moreno-25.webp
CATEGORIES:Espectáculos
LOCATION:Museo Casa Roja\, C. Maximiliano Pérez Díaz\, 23\, Villa de Mazo
 \, 38730\, España
GEO:28.607435;-17.77894
X-APPLE-STRUCTURED-LOCATION;VALUE=URI;X-ADDRESS=C. Maximiliano Pérez Díaz
 \, 23\, Villa de Mazo\, 38730\, España;X-APPLE-RADIUS=100;X-TITLE=Museo C
 asa Roja:geo:28.607435,-17.77894
END:VEVENT
END:VCALENDAR