BEGIN:VCALENDAR
VERSION:2.0
PRODID:-//wp-events-plugin.com//7.2.3.1//EN
TZID:Europe/London
X-WR-TIMEZONE:Europe/London
BEGIN:VEVENT
UID:3802@larevistadelapalma.com
DTSTART:20250621T180000Z
DTEND:20250621T193000Z
DTSTAMP:20250606T122751Z
URL:https://www.larevistadelapalma.com/events/la-solera-cuenta-narracion-o
 ral-para-adultos-con-viicente-cortes/
SUMMARY:"La Solera cuenta": Narración oral para adultos con Vicente Corté
 s
DESCRIPTION:Vicente Cortés cierra el noveno ciclo de narración oral de Vi
 lla de Mazo.\n\nUn maestro de la palabra hablada\, Vicente Cortés cierra 
 este ciclo con "Festín de Palabras"\, un conjunto de relatos cautivadores
  que nos harán reflexionar\, reír y sentir el poder de la narración ora
 l.\nSiempre va bien que te hagan reír y pensar con festivas palabras. Est
 e divertido espectáculo de oralidad variada – cuentos\, canciones\, rom
 ances\, adivinanzas- nos ayuda a recordar que no sólo de pan vive el ser 
 humano.\n\n\n&nbsp\;
ATTACH;FMTTYPE=image/jpeg:https://www.larevistadelapalma.com/wp-content/up
 loads/2025/06/solera-cuenta-vicente-cortes.jpg
CATEGORIES:Espectáculos
LOCATION:Museo Casa Roja\, C. Maximiliano Pérez Díaz\, 23\, Villa de Mazo
 \, 38730\, España
GEO:28.607435;-17.77894
X-APPLE-STRUCTURED-LOCATION;VALUE=URI;X-ADDRESS=C. Maximiliano Pérez Díaz
 \, 23\, Villa de Mazo\, 38730\, España;X-APPLE-RADIUS=100;X-TITLE=Museo C
 asa Roja:geo:28.607435,-17.77894
END:VEVENT
END:VCALENDARBEGIN:VCALENDAR
VERSION:2.0
PRODID:-//wp-events-plugin.com//7.2.3.1//EN
TZID:Europe/London
X-WR-TIMEZONE:Europe/London
BEGIN:VEVENT
UID:3802@larevistadelapalma.com
DTSTART:20250621T180000Z
DTEND:20250621T193000Z
DTSTAMP:20250606T122751Z
URL:https://www.larevistadelapalma.com/events/la-solera-cuenta-narracion-o
 ral-para-adultos-con-viicente-cortes/
SUMMARY:"La Solera cuenta": Narración oral para adultos con Vicente Corté
 s
DESCRIPTION:Vicente Cortés cierra el noveno ciclo de narración oral de Vi
 lla de Mazo.\n\nUn maestro de la palabra hablada\, Vicente Cortés cierra 
 este ciclo con "Festín de Palabras"\, un conjunto de relatos cautivadores
  que nos harán reflexionar\, reír y sentir el poder de la narración ora
 l.\nSiempre va bien que te hagan reír y pensar con festivas palabras. Est
 e divertido espectáculo de oralidad variada – cuentos\, canciones\, rom
 ances\, adivinanzas- nos ayuda a recordar que no sólo de pan vive el ser 
 humano.\n\n\n&nbsp\;
ATTACH;FMTTYPE=image/jpeg:https://www.larevistadelapalma.com/wp-content/up
 loads/2025/06/solera-cuenta-vicente-cortes.jpg
CATEGORIES:Espectáculos
LOCATION:Museo Casa Roja\, C. Maximiliano Pérez Díaz\, 23\, Villa de Mazo
 \, 38730\, España
GEO:28.607435;-17.77894
X-APPLE-STRUCTURED-LOCATION;VALUE=URI;X-ADDRESS=C. Maximiliano Pérez Díaz
 \, 23\, Villa de Mazo\, 38730\, España;X-APPLE-RADIUS=100;X-TITLE=Museo C
 asa Roja:geo:28.607435,-17.77894
END:VEVENT
END:VCALENDAR