BEGIN:VCALENDAR
VERSION:2.0
PRODID:-//wp-events-plugin.com//7.2.3.1//EN
TZID:Europe/London
X-WR-TIMEZONE:Europe/London
BEGIN:VEVENT
UID:4408@larevistadelapalma.com
DTSTART:20251226T190000Z
DTEND:20251226T210000Z
DTSTAMP:20251217T213724Z
URL:https://www.larevistadelapalma.com/events/la-sonrisa-de-la-navidad-san
 ta-cruz-de-la-palma/
SUMMARY:La sonrisa de la Navidad - Santa Cruz de La Palma
DESCRIPTION:La Plaza de San Francisco se convierte en el punto de encuentro
  del humor estas fiestas\, con una noche de risas y comedia en directo jun
 to a Tony Tobío y Saúl Romero\, conducida por Ayoze Pérez
ATTACH;FMTTYPE=image/jpeg:https://www.larevistadelapalma.com/wp-content/up
 loads/2025/12/la-sonrisa-de-la-navidad.png
CATEGORIES:Espectáculos
LOCATION:Plaza de San Francisco\, Plaza de San Francisco \, Santa Cruz De L
 a Palma\, Santa Cruz de Tenerife\, 38700\, España
GEO:28.683698;-17.767894
X-APPLE-STRUCTURED-LOCATION;VALUE=URI;X-ADDRESS=Plaza de San Francisco \, S
 anta Cruz De La Palma\, Santa Cruz de Tenerife\, 38700\, España;X-APPLE-R
 ADIUS=100;X-TITLE=Plaza de San Francisco:geo:28.683698,-17.767894
END:VEVENT
END:VCALENDARBEGIN:VCALENDAR
VERSION:2.0
PRODID:-//wp-events-plugin.com//7.2.3.1//EN
TZID:Europe/London
X-WR-TIMEZONE:Europe/London
BEGIN:VEVENT
UID:4408@larevistadelapalma.com
DTSTART:20251226T190000Z
DTEND:20251226T210000Z
DTSTAMP:20251217T213724Z
URL:https://www.larevistadelapalma.com/events/la-sonrisa-de-la-navidad-san
 ta-cruz-de-la-palma/
SUMMARY:La sonrisa de la Navidad - Santa Cruz de La Palma
DESCRIPTION:La Plaza de San Francisco se convierte en el punto de encuentro
  del humor estas fiestas\, con una noche de risas y comedia en directo jun
 to a Tony Tobío y Saúl Romero\, conducida por Ayoze Pérez
ATTACH;FMTTYPE=image/jpeg:https://www.larevistadelapalma.com/wp-content/up
 loads/2025/12/la-sonrisa-de-la-navidad.png
CATEGORIES:Espectáculos
LOCATION:Plaza de San Francisco\, Plaza de San Francisco \, Santa Cruz De L
 a Palma\, Santa Cruz de Tenerife\, 38700\, España
GEO:28.683698;-17.767894
X-APPLE-STRUCTURED-LOCATION;VALUE=URI;X-ADDRESS=Plaza de San Francisco \, S
 anta Cruz De La Palma\, Santa Cruz de Tenerife\, 38700\, España;X-APPLE-R
 ADIUS=100;X-TITLE=Plaza de San Francisco:geo:28.683698,-17.767894
END:VEVENT
END:VCALENDAR