BEGIN:VCALENDAR
VERSION:2.0
PRODID:-//wp-events-plugin.com//7.2.3.1//EN
TZID:Europe/London
X-WR-TIMEZONE:Europe/London
BEGIN:VEVENT
UID:959@larevistadelapalma.com
DTSTART:20231228T190000Z
DTEND:20231228T213000Z
DTSTAMP:20231227T001724Z
URL:https://www.larevistadelapalma.com/events/la-sonrisa-de-la-navidad/
SUMMARY:La Sonrisa de la Navidad 
DESCRIPTION:Epectáculo de humor La Sonrisa de la Navidad\, con Himar Armas
 \, Ayoze Pérez y Pily Soy Yo.\nTres humoristas canarios que vendrán con 
 sus mejores monólogos: Himar Armas que reside en Madrid\, y es uno de los
  mejores cómicos canarios de España\, la humorista palmera Pilara Batist
 a\, conocida como "Pily soy yo" que reside en Tenerife y la podemos record
 ar en su paso por "En clave de Ja" y el humorista palmero\, conocido por t
 odos por sus labores de speaker\, Ayoze Pérez.
ATTACH;FMTTYPE=image/jpeg:https://www.larevistadelapalma.com/wp-content/up
 loads/2023/12/La-sonrisa-de-la-navidad.jpg
CATEGORIES:Espectáculos
LOCATION:Plaza de España de Santa Cruz de La Palma\, Plaza de España\, Sa
 nta Cruz De La Palma\, Santa Cruz de Tenerife\, 38700\, España
GEO:28.683369;-17.76487
X-APPLE-STRUCTURED-LOCATION;VALUE=URI;X-ADDRESS=Plaza de España\, Santa Cr
 uz De La Palma\, Santa Cruz de Tenerife\, 38700\, España;X-APPLE-RADIUS=1
 00;X-TITLE=Plaza de España de Santa Cruz de La Palma:geo:28.683369,-17.76
 487
END:VEVENT
END:VCALENDARBEGIN:VCALENDAR
VERSION:2.0
PRODID:-//wp-events-plugin.com//7.2.3.1//EN
TZID:Europe/London
X-WR-TIMEZONE:Europe/London
BEGIN:VEVENT
UID:959@larevistadelapalma.com
DTSTART:20231228T190000Z
DTEND:20231228T213000Z
DTSTAMP:20231227T001724Z
URL:https://www.larevistadelapalma.com/events/la-sonrisa-de-la-navidad/
SUMMARY:La Sonrisa de la Navidad 
DESCRIPTION:Epectáculo de humor La Sonrisa de la Navidad\, con Himar Armas
 \, Ayoze Pérez y Pily Soy Yo.\nTres humoristas canarios que vendrán con 
 sus mejores monólogos: Himar Armas que reside en Madrid\, y es uno de los
  mejores cómicos canarios de España\, la humorista palmera Pilara Batist
 a\, conocida como "Pily soy yo" que reside en Tenerife y la podemos record
 ar en su paso por "En clave de Ja" y el humorista palmero\, conocido por t
 odos por sus labores de speaker\, Ayoze Pérez.
ATTACH;FMTTYPE=image/jpeg:https://www.larevistadelapalma.com/wp-content/up
 loads/2023/12/La-sonrisa-de-la-navidad.jpg
CATEGORIES:Espectáculos
LOCATION:Plaza de España de Santa Cruz de La Palma\, Plaza de España\, Sa
 nta Cruz De La Palma\, Santa Cruz de Tenerife\, 38700\, España
GEO:28.683369;-17.76487
X-APPLE-STRUCTURED-LOCATION;VALUE=URI;X-ADDRESS=Plaza de España\, Santa Cr
 uz De La Palma\, Santa Cruz de Tenerife\, 38700\, España;X-APPLE-RADIUS=1
 00;X-TITLE=Plaza de España de Santa Cruz de La Palma:geo:28.683369,-17.76
 487
END:VEVENT
END:VCALENDAR