BEGIN:VCALENDAR
VERSION:2.0
PRODID:-//wp-events-plugin.com//7.2.3.1//EN
TZID:Europe/London
X-WR-TIMEZONE:Europe/London
BEGIN:VEVENT
UID:3911@larevistadelapalma.com
DTSTART:20250821T203000Z
DTEND:20250821T214500Z
DTSTAMP:20250818T182230Z
URL:https://www.larevistadelapalma.com/events/la-tecla-de-la-capital-lajal
 ada-angela-glezal/
SUMMARY: Lajalada y Ángela Glezal en la Plaza del Tanquito ("La Tecla de
  la Capital")
DESCRIPTION:Música en vivo + ilustración en directo\, con "Lajalada" y la
  ilustradora Ángela Glezal
ATTACH;FMTTYPE=image/jpeg:https://www.larevistadelapalma.com/wp-content/up
 loads/2025/08/Lajalada-y-Angela.jpg
CATEGORIES:Conciertos,Música
LOCATION:Plaza Del Tanquito (Santa Cruz de La Palma)\, C Navarra.\, Santa C
 ruz De La Palma\, Santa Cruz de Tenerife\, 38700\, España
GEO:28.681228;-17.768608
X-APPLE-STRUCTURED-LOCATION;VALUE=URI;X-ADDRESS=C Navarra.\, Santa Cruz De 
 La Palma\, Santa Cruz de Tenerife\, 38700\, España;X-APPLE-RADIUS=100;X-T
 ITLE=Plaza Del Tanquito (Santa Cruz de La Palma):geo:28.681228,-17.768608
END:VEVENT
END:VCALENDARBEGIN:VCALENDAR
VERSION:2.0
PRODID:-//wp-events-plugin.com//7.2.3.1//EN
TZID:Europe/London
X-WR-TIMEZONE:Europe/London
BEGIN:VEVENT
UID:3911@larevistadelapalma.com
DTSTART:20250821T203000Z
DTEND:20250821T214500Z
DTSTAMP:20250818T182230Z
URL:https://www.larevistadelapalma.com/events/la-tecla-de-la-capital-lajal
 ada-angela-glezal/
SUMMARY: Lajalada y Ángela Glezal en la Plaza del Tanquito ("La Tecla de
  la Capital")
DESCRIPTION:Música en vivo + ilustración en directo\, con "Lajalada" y la
  ilustradora Ángela Glezal
ATTACH;FMTTYPE=image/jpeg:https://www.larevistadelapalma.com/wp-content/up
 loads/2025/08/Lajalada-y-Angela.jpg
CATEGORIES:Conciertos,Música
LOCATION:Plaza Del Tanquito (Santa Cruz de La Palma)\, C Navarra.\, Santa C
 ruz De La Palma\, Santa Cruz de Tenerife\, 38700\, España
GEO:28.681228;-17.768608
X-APPLE-STRUCTURED-LOCATION;VALUE=URI;X-ADDRESS=C Navarra.\, Santa Cruz De 
 La Palma\, Santa Cruz de Tenerife\, 38700\, España;X-APPLE-RADIUS=100;X-T
 ITLE=Plaza Del Tanquito (Santa Cruz de La Palma):geo:28.681228,-17.768608
END:VEVENT
END:VCALENDAR