BEGIN:VCALENDAR
VERSION:2.0
PRODID:-//wp-events-plugin.com//7.2.3.1//EN
TZID:Europe/London
X-WR-TIMEZONE:Europe/London
BEGIN:VEVENT
UID:3900@larevistadelapalma.com
DTSTART:20250807T203000Z
DTEND:20250807T214500Z
DTSTAMP:20250806T221729Z
URL:https://www.larevistadelapalma.com/events/la-tecla-de-la-capital-mirca
 /
SUMMARY:Comienza en Santa Cruz de La Palma el ciclo "La Tecla de la Capital
 "
DESCRIPTION:En esta primera cita Sheila Blanco ha convertido en canciones u
 na selección de poemas de las mejores autoras de la Generación del 27. A
 compañándose únicamente por un piano
ATTACH;FMTTYPE=image/jpeg:https://www.larevistadelapalma.com/wp-content/up
 loads/2025/08/Sheila-Blanco-La-tecla-de-la-capital.png
CATEGORIES:Conciertos,Música
LOCATION:Plaza de Candelaria\, Mirca\, Ntra. Sra. de Candelaria - Mirca\, S
 anta Cruz de La Palma\, 38715\, España
GEO:28.707125;-17.766356
X-APPLE-STRUCTURED-LOCATION;VALUE=URI;X-ADDRESS=Ntra. Sra. de Candelaria - 
 Mirca\, Santa Cruz de La Palma\, 38715\, España;X-APPLE-RADIUS=100;X-TITL
 E=Plaza de Candelaria\, Mirca:geo:28.707125,-17.766356
END:VEVENT
END:VCALENDARBEGIN:VCALENDAR
VERSION:2.0
PRODID:-//wp-events-plugin.com//7.2.3.1//EN
TZID:Europe/London
X-WR-TIMEZONE:Europe/London
BEGIN:VEVENT
UID:3900@larevistadelapalma.com
DTSTART:20250807T203000Z
DTEND:20250807T214500Z
DTSTAMP:20250806T221729Z
URL:https://www.larevistadelapalma.com/events/la-tecla-de-la-capital-mirca
 /
SUMMARY:Comienza en Santa Cruz de La Palma el ciclo "La Tecla de la Capital
 "
DESCRIPTION:En esta primera cita Sheila Blanco ha convertido en canciones u
 na selección de poemas de las mejores autoras de la Generación del 27. A
 compañándose únicamente por un piano
ATTACH;FMTTYPE=image/jpeg:https://www.larevistadelapalma.com/wp-content/up
 loads/2025/08/Sheila-Blanco-La-tecla-de-la-capital.png
CATEGORIES:Conciertos,Música
LOCATION:Plaza de Candelaria\, Mirca\, Ntra. Sra. de Candelaria - Mirca\, S
 anta Cruz de La Palma\, 38715\, España
GEO:28.707125;-17.766356
X-APPLE-STRUCTURED-LOCATION;VALUE=URI;X-ADDRESS=Ntra. Sra. de Candelaria - 
 Mirca\, Santa Cruz de La Palma\, 38715\, España;X-APPLE-RADIUS=100;X-TITL
 E=Plaza de Candelaria\, Mirca:geo:28.707125,-17.766356
END:VEVENT
END:VCALENDAR