BEGIN:VCALENDAR
VERSION:2.0
PRODID:-//wp-events-plugin.com//7.2.3.1//EN
TZID:Europe/London
X-WR-TIMEZONE:Europe/London
BEGIN:VEVENT
UID:3444@larevistadelapalma.com
DTSTART:20241207T150000Z
DTEND:20241207T163000Z
DTSTAMP:20241201T125818Z
URL:https://www.larevistadelapalma.com/events/la-teruka-puntagorda/
SUMMARY:Concierto de "La Teruka" en Puntagorda
DESCRIPTION:Cumbia sureña y psicodelia para tres conciertos en La Palma: 
 En Tazacorte\, Puntagorda y Los Llanos de Aridane.\nLa Teruka se formó en
  abril del año 2010 con la intención de potenciar la nueva cumbia chilen
 a o cumbia urbana. Esta banda surge en el año 2010 en la comuna de Futro
 no. La idea de crear esta banda nace de una conversación entre el vocalis
 ta y el antiguo percusionista de esta agrupación\, los cuales decidieron 
 formar esta banda de cumbia urbana. Tal como señala Carlos Andrés Kunz\,
  bajista\, “La Teruka se alza en sus primeros tiempos como una banda de 
 cover\, tocando en diferentes fiestas y discotecas de la Región de Los R
 íos”.\n\nEl punto de inflexión en la trayectoria de la banda fue su pa
 rticipación en el programa de televisión “Talento Chileno”\, transmi
 tido a todo el país por Chilevisión. En aquel concurso esta agrupación 
 tuvo una participación destacada\, lo que le significó llegar a las inst
 ancias finales de dicho programa. Sin duda esta experiencia fue fundamenta
 l en la profesionalización de la banda\, ya que al terminar este concurso
  ellos comienzan a escribir sus propias canciones y a preparar su primer d
 isco de estudio.\n\nEn la actualidad La Teruka tiene un extenso repertorio
  musical\, reflejo de un trabajo serio y profesional\, logrando una gran c
 oncurrencia de público en sus presentaciones.\n\n
ATTACH;FMTTYPE=image/jpeg:https://www.larevistadelapalma.com/wp-content/up
 loads/2024/11/La-Teruka.jpg
CATEGORIES:Conciertos,Música
LOCATION:Mercadillo de Puntagorda\, Cno. el Pinar\, 56A\, Puntagorda\, 3878
 9 \, España
GEO:28.778862;-17.973843
X-APPLE-STRUCTURED-LOCATION;VALUE=URI;X-ADDRESS=Cno. el Pinar\, 56A\, Punta
 gorda\, 38789 \, España;X-APPLE-RADIUS=100;X-TITLE=Mercadillo de Puntagor
 da:geo:28.778862,-17.973843
END:VEVENT
END:VCALENDARBEGIN:VCALENDAR
VERSION:2.0
PRODID:-//wp-events-plugin.com//7.2.3.1//EN
TZID:Europe/London
X-WR-TIMEZONE:Europe/London
BEGIN:VEVENT
UID:3444@larevistadelapalma.com
DTSTART:20241207T150000Z
DTEND:20241207T163000Z
DTSTAMP:20241201T125818Z
URL:https://www.larevistadelapalma.com/events/la-teruka-puntagorda/
SUMMARY:Concierto de "La Teruka" en Puntagorda
DESCRIPTION:Cumbia sureña y psicodelia para tres conciertos en La Palma: 
 En Tazacorte\, Puntagorda y Los Llanos de Aridane.\nLa Teruka se formó en
  abril del año 2010 con la intención de potenciar la nueva cumbia chilen
 a o cumbia urbana. Esta banda surge en el año 2010 en la comuna de Futro
 no. La idea de crear esta banda nace de una conversación entre el vocalis
 ta y el antiguo percusionista de esta agrupación\, los cuales decidieron 
 formar esta banda de cumbia urbana. Tal como señala Carlos Andrés Kunz\,
  bajista\, “La Teruka se alza en sus primeros tiempos como una banda de 
 cover\, tocando en diferentes fiestas y discotecas de la Región de Los R
 íos”.\n\nEl punto de inflexión en la trayectoria de la banda fue su pa
 rticipación en el programa de televisión “Talento Chileno”\, transmi
 tido a todo el país por Chilevisión. En aquel concurso esta agrupación 
 tuvo una participación destacada\, lo que le significó llegar a las inst
 ancias finales de dicho programa. Sin duda esta experiencia fue fundamenta
 l en la profesionalización de la banda\, ya que al terminar este concurso
  ellos comienzan a escribir sus propias canciones y a preparar su primer d
 isco de estudio.\n\nEn la actualidad La Teruka tiene un extenso repertorio
  musical\, reflejo de un trabajo serio y profesional\, logrando una gran c
 oncurrencia de público en sus presentaciones.\n\n
ATTACH;FMTTYPE=image/jpeg:https://www.larevistadelapalma.com/wp-content/up
 loads/2024/11/La-Teruka.jpg
CATEGORIES:Conciertos,Música
LOCATION:Mercadillo de Puntagorda\, Cno. el Pinar\, 56A\, Puntagorda\, 3878
 9 \, España
GEO:28.778862;-17.973843
X-APPLE-STRUCTURED-LOCATION;VALUE=URI;X-ADDRESS=Cno. el Pinar\, 56A\, Punta
 gorda\, 38789 \, España;X-APPLE-RADIUS=100;X-TITLE=Mercadillo de Puntagor
 da:geo:28.778862,-17.973843
END:VEVENT
END:VCALENDAR