BEGIN:VCALENDAR
VERSION:2.0
PRODID:-//wp-events-plugin.com//7.2.3.1//EN
TZID:Europe/London
X-WR-TIMEZONE:Europe/London
BEGIN:VEVENT
UID:2837@larevistadelapalma.com
DTSTART;VALUE=DATE:20241130
DTEND;VALUE=DATE:20241201
DTSTAMP:20240731T205541Z
URL:https://www.larevistadelapalma.com/events/la-transvulcania-bike-24/
SUMMARY:Transvulcania Bike se realizará el 30 de noviembre
DESCRIPTION:\n 	La Transvulcania Bike se realizará el 30 de noviembre. Tra
 s su aplazamiento\, en el mes de julio\, por las altas temperaturas se ha 
 consensuado esta\nnueva fecha.\n \n\nLa carrera mantiene sus dos circuito
 s con salida y meta en Los Canarios.\n\nLa Transvulcania Bike ya tiene fec
 ha para 2024: se disputará el sábado día 20 de julio\, con salida y met
 a en el casco urbano de Los Canarios. La prueba ciclista está organizada 
 por la empresa pública Sodepal\, con financiación de la Consejería de D
 eportes del Cabildo de La Palma.\n\nLa prueba\, en la que colabora el Ayun
 tamiento de Fuencaliente\, contará con corredores referentes a nivel naci
 onal e internacional\, y aspira a consolidarse como un referente de evento
  deportivo que sigue sutuando a la Isla en el escaparate de deportivo mund
 ial.\nLa Transvulcania Bike contará en esta edición con la participació
 n de deportistas de primer nivel en esta disciplina\, como es el caso del 
 siete veces campeón de España\, Sergio Mantecón. Además\, Mantecón es
  subcampeón de Europa y dos veces segundo en pruebas de la Copa del Mundo
 . En su extenso currículum deportivo destaca también su participación e
 n los Juegos Olímpicos de Londres.\nLa prueba contará con dos recorridos
 . La prueba reina partirá de Los Canarios para subir por la pista foresta
 l Fran Santana hacia el mirador del Llano del Jable\, para continuar en di
 rección al área recreativa del Refugio de El Pilar y desviarse por la pi
 sta de La Hilera. Desde ahí\, los participantes tendrán que descender a 
 la LP-3 para dirigirse a la pista de Los Lomos y seguir hasta la Pared Vie
 ja\, bordeando el Roque Niquiomo hasta alcanzar por la pista del Cabrito l
 a meta en el casco urbano de Fuencaliente. Esta modalidad cuenta con un re
 corrido de 66\,38 kilómetros\, con un desnivel acumulado de 3.475 metros.
 \n\nLa Bike ofrece una distancia más corta\, de 47\,98 kilómetros y un d
 esnivel acumulado de 2.246 metros. Comparte recorrido con su ‘hermana ma
 yor’\, con el mismo punto de salida para que los ciclistas suban por la 
 pista Fran Santana hasta el mirador del Llano del Jable. Una circular que 
 discurre  también por la pista del Cabrito hasta llegar a Los Canarios. 
 Esta prueba cuenta incluso con la denominada ‘peque bike’\, un circuit
 o urbano de dos kilómetros en el casco urbano de Los Canarios destinado a
  los menores.\n\n&nbsp\;
ATTACH;FMTTYPE=image/jpeg:https://www.larevistadelapalma.com/wp-content/up
 loads/2024/03/Transvulcania-Bike-2.jpeg
CATEGORIES:Actividades deportivas,Otras propuestas
LOCATION:Municipio de Fuencaliente\, Fuencaliente\, Fuencaliente\, 38740\, 
 España
GEO:28.479676;-17.840616
X-APPLE-STRUCTURED-LOCATION;VALUE=URI;X-ADDRESS=Fuencaliente\, Fuencaliente
 \, 38740\, España;X-APPLE-RADIUS=100;X-TITLE=Municipio de Fuencaliente:ge
 o:28.479676,-17.840616
END:VEVENT
END:VCALENDARBEGIN:VCALENDAR
VERSION:2.0
PRODID:-//wp-events-plugin.com//7.2.3.1//EN
TZID:Europe/London
X-WR-TIMEZONE:Europe/London
BEGIN:VEVENT
UID:2837@larevistadelapalma.com
DTSTART;VALUE=DATE:20241130
DTEND;VALUE=DATE:20241201
DTSTAMP:20240731T205541Z
URL:https://www.larevistadelapalma.com/events/la-transvulcania-bike-24/
SUMMARY:Transvulcania Bike se realizará el 30 de noviembre
DESCRIPTION:\n 	La Transvulcania Bike se realizará el 30 de noviembre. Tra
 s su aplazamiento\, en el mes de julio\, por las altas temperaturas se ha 
 consensuado esta\nnueva fecha.\n \n\nLa carrera mantiene sus dos circuito
 s con salida y meta en Los Canarios.\n\nLa Transvulcania Bike ya tiene fec
 ha para 2024: se disputará el sábado día 20 de julio\, con salida y met
 a en el casco urbano de Los Canarios. La prueba ciclista está organizada 
 por la empresa pública Sodepal\, con financiación de la Consejería de D
 eportes del Cabildo de La Palma.\n\nLa prueba\, en la que colabora el Ayun
 tamiento de Fuencaliente\, contará con corredores referentes a nivel naci
 onal e internacional\, y aspira a consolidarse como un referente de evento
  deportivo que sigue sutuando a la Isla en el escaparate de deportivo mund
 ial.\nLa Transvulcania Bike contará en esta edición con la participació
 n de deportistas de primer nivel en esta disciplina\, como es el caso del 
 siete veces campeón de España\, Sergio Mantecón. Además\, Mantecón es
  subcampeón de Europa y dos veces segundo en pruebas de la Copa del Mundo
 . En su extenso currículum deportivo destaca también su participación e
 n los Juegos Olímpicos de Londres.\nLa prueba contará con dos recorridos
 . La prueba reina partirá de Los Canarios para subir por la pista foresta
 l Fran Santana hacia el mirador del Llano del Jable\, para continuar en di
 rección al área recreativa del Refugio de El Pilar y desviarse por la pi
 sta de La Hilera. Desde ahí\, los participantes tendrán que descender a 
 la LP-3 para dirigirse a la pista de Los Lomos y seguir hasta la Pared Vie
 ja\, bordeando el Roque Niquiomo hasta alcanzar por la pista del Cabrito l
 a meta en el casco urbano de Fuencaliente. Esta modalidad cuenta con un re
 corrido de 66\,38 kilómetros\, con un desnivel acumulado de 3.475 metros.
 \n\nLa Bike ofrece una distancia más corta\, de 47\,98 kilómetros y un d
 esnivel acumulado de 2.246 metros. Comparte recorrido con su ‘hermana ma
 yor’\, con el mismo punto de salida para que los ciclistas suban por la 
 pista Fran Santana hasta el mirador del Llano del Jable. Una circular que 
 discurre  también por la pista del Cabrito hasta llegar a Los Canarios. 
 Esta prueba cuenta incluso con la denominada ‘peque bike’\, un circuit
 o urbano de dos kilómetros en el casco urbano de Los Canarios destinado a
  los menores.\n\n&nbsp\;
ATTACH;FMTTYPE=image/jpeg:https://www.larevistadelapalma.com/wp-content/up
 loads/2024/03/Transvulcania-Bike-2.jpeg
CATEGORIES:Actividades deportivas,Otras propuestas
LOCATION:Municipio de Fuencaliente\, Fuencaliente\, Fuencaliente\, 38740\, 
 España
GEO:28.479676;-17.840616
X-APPLE-STRUCTURED-LOCATION;VALUE=URI;X-ADDRESS=Fuencaliente\, Fuencaliente
 \, 38740\, España;X-APPLE-RADIUS=100;X-TITLE=Municipio de Fuencaliente:ge
 o:28.479676,-17.840616
END:VEVENT
END:VCALENDAR