BEGIN:VCALENDAR
VERSION:2.0
PRODID:-//wp-events-plugin.com//7.2.3.1//EN
TZID:Europe/London
X-WR-TIMEZONE:Europe/London
BEGIN:VEVENT
UID:3025@larevistadelapalma.com
DTSTART:20240530T203000Z
DTEND:20240530T214500Z
DTSTAMP:20240530T121902Z
URL:https://www.larevistadelapalma.com/events/la-trova-en-concierto-en-vil
 la-de-mazo/
SUMMARY:La Trova en concierto en Villa de Mazo
DESCRIPTION:\nLa Trova nace en 2003\, sus componentes proceden de La Tuna d
 e Distrito de La Universidad de Las Palmas de Gran Canaria y de agrupacion
 es folclóricas\, coros y grupos de rock y jazz .\n\n\n\nEstarán también
  hoy en la Isla\, en el municipio de El Paso\, para terminar con este conc
 ierto que tendrá lugar en Mazo a las 21:30 horas\, en el Recinto Festivo 
 de la Plaza del Corpus\, Villa de Mazo.\n\n
ATTACH;FMTTYPE=image/jpeg:https://www.larevistadelapalma.com/wp-content/up
 loads/2024/05/La-Trova.jpg
CATEGORIES:Conciertos,Fiestas populares,Música,Otras propuestas
LOCATION:Municipio de Villa de Mazo\, Villa de Mazo\, Villa de Mazo\, 38730
 \, España
GEO:28.622071;-17.780675
X-APPLE-STRUCTURED-LOCATION;VALUE=URI;X-ADDRESS=Villa de Mazo\, Villa de Ma
 zo\, 38730\, España;X-APPLE-RADIUS=100;X-TITLE=Municipio de Villa de Mazo
 :geo:28.622071,-17.780675
END:VEVENT
END:VCALENDARBEGIN:VCALENDAR
VERSION:2.0
PRODID:-//wp-events-plugin.com//7.2.3.1//EN
TZID:Europe/London
X-WR-TIMEZONE:Europe/London
BEGIN:VEVENT
UID:3025@larevistadelapalma.com
DTSTART:20240530T203000Z
DTEND:20240530T214500Z
DTSTAMP:20240530T121902Z
URL:https://www.larevistadelapalma.com/events/la-trova-en-concierto-en-vil
 la-de-mazo/
SUMMARY:La Trova en concierto en Villa de Mazo
DESCRIPTION:\nLa Trova nace en 2003\, sus componentes proceden de La Tuna d
 e Distrito de La Universidad de Las Palmas de Gran Canaria y de agrupacion
 es folclóricas\, coros y grupos de rock y jazz .\n\n\n\nEstarán también
  hoy en la Isla\, en el municipio de El Paso\, para terminar con este conc
 ierto que tendrá lugar en Mazo a las 21:30 horas\, en el Recinto Festivo 
 de la Plaza del Corpus\, Villa de Mazo.\n\n
ATTACH;FMTTYPE=image/jpeg:https://www.larevistadelapalma.com/wp-content/up
 loads/2024/05/La-Trova.jpg
CATEGORIES:Conciertos,Fiestas populares,Música,Otras propuestas
LOCATION:Municipio de Villa de Mazo\, Villa de Mazo\, Villa de Mazo\, 38730
 \, España
GEO:28.622071;-17.780675
X-APPLE-STRUCTURED-LOCATION;VALUE=URI;X-ADDRESS=Villa de Mazo\, Villa de Ma
 zo\, 38730\, España;X-APPLE-RADIUS=100;X-TITLE=Municipio de Villa de Mazo
 :geo:28.622071,-17.780675
END:VEVENT
END:VCALENDAR