BEGIN:VCALENDAR
VERSION:2.0
PRODID:-//wp-events-plugin.com//7.2.3.1//EN
TZID:Europe/London
X-WR-TIMEZONE:Europe/London
BEGIN:VEVENT
UID:4114@larevistadelapalma.com
DTSTART:20251213T110000Z
DTEND:20251213T123000Z
DTSTAMP:20251212T200148Z
URL:https://www.larevistadelapalma.com/events/la-viuda-blanca-los-llanos/
SUMMARY:APLAZADA - Presentación de la novela "La viuda blanca"\, de María
  del Mar Rodríguez Pérez (Los Llanos)
DESCRIPTION:\n 	\n\nEvento aplazado por fenómeno meteorológico adverso de
 clarado en el archipiélago. Pronto anunciarán nueva fecha.\n\n\nLa viuda
  blanca\, de María del Mar Rodríguez Pérez\, es la tercera novela de 
 la autora publicada por la editorial Baile del Sol\, después de La pres
 tamista y La tuerta\, y es uno de los dos únicos actos de presentación q
 ue se realizarán en La Palma.\nEl relato cierra la trilogía Relatos de 
 unas islas desamparadas\, y su trama se sitúa\, por una parte\, en La Pal
 ma y\, por otra\, en San Cristóbal de La Laguna. La historia aborda temas
  de emigración y olvido\, así como el compromiso político\, ofreciendo 
 una mirada profunda sobre la experiencia de las islas y sus gentes.\nLas d
 os entregas anteriores\, La prestamista (2019) y La tuerta (2023)\, llevan
  ya varias ediciones y funcionan por separado\, aunque para pillarle todo 
 el jugo a La viuda blanca conviene leerlas en el orden previsto\, porque l
 a cosa va encadenando generaciones. El viaje narrativo arranca en 1850 con
  los abuelos de Petra\, la famosa prestamista\, y se cierra en 1982 con un
 as islas tratando de modernizarse a su manera.
ATTACH;FMTTYPE=image/jpeg:https://www.larevistadelapalma.com/wp-content/up
 loads/2025/12/La-viuda-blanca-Los-llanos.jpg
CATEGORIES:Cine y Literatura,Literatura
LOCATION:Casa de La Cultura de Los Llanos de Aridane\, : C. Real\, 8\, Los 
 Llanos de Aridane \, 38760\, España
GEO:28.658651;-17.913512
X-APPLE-STRUCTURED-LOCATION;VALUE=URI;X-ADDRESS=: C. Real\, 8\, Los Llanos 
 de Aridane \, 38760\, España;X-APPLE-RADIUS=100;X-TITLE=Casa de La Cultur
 a de Los Llanos de Aridane:geo:28.658651,-17.913512
END:VEVENT
END:VCALENDARBEGIN:VCALENDAR
VERSION:2.0
PRODID:-//wp-events-plugin.com//7.2.3.1//EN
TZID:Europe/London
X-WR-TIMEZONE:Europe/London
BEGIN:VEVENT
UID:4114@larevistadelapalma.com
DTSTART:20251213T110000Z
DTEND:20251213T123000Z
DTSTAMP:20251212T200148Z
URL:https://www.larevistadelapalma.com/events/la-viuda-blanca-los-llanos/
SUMMARY:APLAZADA - Presentación de la novela "La viuda blanca"\, de María
  del Mar Rodríguez Pérez (Los Llanos)
DESCRIPTION:\n 	\n\nEvento aplazado por fenómeno meteorológico adverso de
 clarado en el archipiélago. Pronto anunciarán nueva fecha.\n\n\nLa viuda
  blanca\, de María del Mar Rodríguez Pérez\, es la tercera novela de 
 la autora publicada por la editorial Baile del Sol\, después de La pres
 tamista y La tuerta\, y es uno de los dos únicos actos de presentación q
 ue se realizarán en La Palma.\nEl relato cierra la trilogía Relatos de 
 unas islas desamparadas\, y su trama se sitúa\, por una parte\, en La Pal
 ma y\, por otra\, en San Cristóbal de La Laguna. La historia aborda temas
  de emigración y olvido\, así como el compromiso político\, ofreciendo 
 una mirada profunda sobre la experiencia de las islas y sus gentes.\nLas d
 os entregas anteriores\, La prestamista (2019) y La tuerta (2023)\, llevan
  ya varias ediciones y funcionan por separado\, aunque para pillarle todo 
 el jugo a La viuda blanca conviene leerlas en el orden previsto\, porque l
 a cosa va encadenando generaciones. El viaje narrativo arranca en 1850 con
  los abuelos de Petra\, la famosa prestamista\, y se cierra en 1982 con un
 as islas tratando de modernizarse a su manera.
ATTACH;FMTTYPE=image/jpeg:https://www.larevistadelapalma.com/wp-content/up
 loads/2025/12/La-viuda-blanca-Los-llanos.jpg
CATEGORIES:Cine y Literatura,Literatura
LOCATION:Casa de La Cultura de Los Llanos de Aridane\, : C. Real\, 8\, Los 
 Llanos de Aridane \, 38760\, España
GEO:28.658651;-17.913512
X-APPLE-STRUCTURED-LOCATION;VALUE=URI;X-ADDRESS=: C. Real\, 8\, Los Llanos 
 de Aridane \, 38760\, España;X-APPLE-RADIUS=100;X-TITLE=Casa de La Cultur
 a de Los Llanos de Aridane:geo:28.658651,-17.913512
END:VEVENT
END:VCALENDAR