BEGIN:VCALENDAR
VERSION:2.0
PRODID:-//wp-events-plugin.com//7.2.3.1//EN
TZID:Europe/London
X-WR-TIMEZONE:Europe/London
BEGIN:VEVENT
UID:4097@larevistadelapalma.com
DTSTART;VALUE=DATE:20251217
DTEND;VALUE=DATE:20251218
DTSTAMP:20251210T205946Z
URL:https://www.larevistadelapalma.com/events/la-voz-de-los-clasicos-funci
 ones/
SUMMARY:Representaciones de ‘La voz de los clásicos’ con Teatro La Far
 sa
DESCRIPTION: Esta iniciativa combina formación y 3 representaciones.\nVil
 la de Mazo será escenario de La voz de los clásicos\, una propuesta del
  Grupo de Teatro La Farsa que acerca el teatro clásico al municipio. Esta
  iniciativa\, organizada por La Farsa con la colaboración del Ayuntamient
 o y financiada por el Cabildo de La Palma\, combina talleres y representac
 iones teatrales con el objetivo de poner en valor la fuerza de la palabra 
 en escena y acercar los textos clásicos al público local.\nEl proyecto c
 onsta del taller ‘La palabra en escena’\, celebrado el 6 de diciembre\
 , donde los participantes exploraron técnicas de interpretación\, dicci
 ón y lectura dramatizada trabajando con textos del repertorio clásico.\n
 A partir del 17 de diciembre\, se llevarán a cabo varias representaciones
  teatrales abiertas al público en distintos espacios culturales del munic
 ipio.\n\n\n 	17 de diciembre: Centro de la Cultura de Lodero\n 	20 de dic
 iembre: Centro de la Cultura de Montes de Luna\n 	26 de diciembre: Centr
 o de la Cultura de Callejones\n\nEstas actuaciones ofrecerán una experien
 cia cercana\, formativa y participativa\, poniendo en valor la riqueza lit
 eraria de los grandes autores.\n\n\n 	Imagen destacada\, el grupo de Teatr
 o amateur durante la celebración de su 30 aniversario\, el pasado mes de 
 agosto.\n\n
ATTACH;FMTTYPE=image/jpeg:https://www.larevistadelapalma.com/wp-content/up
 loads/2025/12/Grupo-teatro-la-farsa.jpg
CATEGORIES:Espectáculos,Teatro
LOCATION:Municipio de Villa de Mazo\, Villa de Mazo\, Villa de Mazo\, 38730
 \, España
GEO:28.622071;-17.780675
X-APPLE-STRUCTURED-LOCATION;VALUE=URI;X-ADDRESS=Villa de Mazo\, Villa de Ma
 zo\, 38730\, España;X-APPLE-RADIUS=100;X-TITLE=Municipio de Villa de Mazo
 :geo:28.622071,-17.780675
END:VEVENT
END:VCALENDARBEGIN:VCALENDAR
VERSION:2.0
PRODID:-//wp-events-plugin.com//7.2.3.1//EN
TZID:Europe/London
X-WR-TIMEZONE:Europe/London
BEGIN:VEVENT
UID:4097@larevistadelapalma.com
DTSTART;VALUE=DATE:20251217
DTEND;VALUE=DATE:20251218
DTSTAMP:20251210T205946Z
URL:https://www.larevistadelapalma.com/events/la-voz-de-los-clasicos-funci
 ones/
SUMMARY:Representaciones de ‘La voz de los clásicos’ con Teatro La Far
 sa
DESCRIPTION: Esta iniciativa combina formación y 3 representaciones.\nVil
 la de Mazo será escenario de La voz de los clásicos\, una propuesta del
  Grupo de Teatro La Farsa que acerca el teatro clásico al municipio. Esta
  iniciativa\, organizada por La Farsa con la colaboración del Ayuntamient
 o y financiada por el Cabildo de La Palma\, combina talleres y representac
 iones teatrales con el objetivo de poner en valor la fuerza de la palabra 
 en escena y acercar los textos clásicos al público local.\nEl proyecto c
 onsta del taller ‘La palabra en escena’\, celebrado el 6 de diciembre\
 , donde los participantes exploraron técnicas de interpretación\, dicci
 ón y lectura dramatizada trabajando con textos del repertorio clásico.\n
 A partir del 17 de diciembre\, se llevarán a cabo varias representaciones
  teatrales abiertas al público en distintos espacios culturales del munic
 ipio.\n\n\n 	17 de diciembre: Centro de la Cultura de Lodero\n 	20 de dic
 iembre: Centro de la Cultura de Montes de Luna\n 	26 de diciembre: Centr
 o de la Cultura de Callejones\n\nEstas actuaciones ofrecerán una experien
 cia cercana\, formativa y participativa\, poniendo en valor la riqueza lit
 eraria de los grandes autores.\n\n\n 	Imagen destacada\, el grupo de Teatr
 o amateur durante la celebración de su 30 aniversario\, el pasado mes de 
 agosto.\n\n
ATTACH;FMTTYPE=image/jpeg:https://www.larevistadelapalma.com/wp-content/up
 loads/2025/12/Grupo-teatro-la-farsa.jpg
CATEGORIES:Espectáculos,Teatro
LOCATION:Municipio de Villa de Mazo\, Villa de Mazo\, Villa de Mazo\, 38730
 \, España
GEO:28.622071;-17.780675
X-APPLE-STRUCTURED-LOCATION;VALUE=URI;X-ADDRESS=Villa de Mazo\, Villa de Ma
 zo\, 38730\, España;X-APPLE-RADIUS=100;X-TITLE=Municipio de Villa de Mazo
 :geo:28.622071,-17.780675
END:VEVENT
END:VCALENDAR