BEGIN:VCALENDAR
VERSION:2.0
PRODID:-//wp-events-plugin.com//7.2.3.1//EN
TZID:Europe/London
X-WR-TIMEZONE:Europe/London
BEGIN:VEVENT
UID:3226@larevistadelapalma.com
DTSTART:20240914T170000Z
DTEND:20240914T190000Z
DTSTAMP:20240911T205627Z
URL:https://www.larevistadelapalma.com/events/las-mujeres-de-verdad-tienen
 -curvas/
SUMMARY:Proyección y coloquio de la película ‘Las mujeres de verdad tie
 nen curvas’
DESCRIPTION:\nVuelve el proyecto de coaching para la igualdad ‘Quiérete 
 bien y acertarás’\, a través del Ayuntamiento de Villa de Mazo\, que a
 rranca con la proyección y posterior coloquio de la película ‘Las muje
 res de verdad tienen curvas’ el sábado 14 de septiembre\, a las 18:00 h
 oras\, en el Centro de la Cultura Andares.\n\n\n\nLAS MUJERES DE VERDAD TI
 ENEN CURVAS&gt\;&gt\;\nDirigido por Patricia Cardoso y escrito por George 
 LaVoo &amp\; Josefina Lopez en base a una obra de teatro de Lopez\, el fil
 m relata la historia de Ana (la nominada al Oscar America Ferrera en su de
 but en el cine)\, una adolescente mexicano-estadounidense que vive en la c
 omunidad hispana del Este de Los Ángeles\, y a la que tras acabar el inst
 ituto su profesor anima a solicitar una beca para la Universidad de Columb
 ia. Pero sus tradicionales padres piensan que no es tiempo para estudiar\,
  sino para ayudar a su familia. Dividida entre sus ambiciones personales y
  su tradición cultural\, accede a trabajar con su madre (Lupe Ontiveros) 
 en la fábrica de costura de su hermana\, y este tiempo juntas hace que ca
 da una aprenda sobre la otra.\n\n\n
ATTACH;FMTTYPE=image/jpeg:https://www.larevistadelapalma.com/wp-content/up
 loads/2024/09/las-mujeres-de-verdad-tienen-curvas.jpg
CATEGORIES:Cine,Cine y Literatura
LOCATION:Centro de la Cultura Andares\, Ctra. Dr. Morera Bravo\, 2. El Pueb
 lo.\, Villa de Mazo\, 38730\, España
GEO:28.604882;-17.777431
X-APPLE-STRUCTURED-LOCATION;VALUE=URI;X-ADDRESS=Ctra. Dr. Morera Bravo\, 2.
  El Pueblo.\, Villa de Mazo\, 38730\, España;X-APPLE-RADIUS=100;X-TITLE=C
 entro de la Cultura Andares:geo:28.604882,-17.777431
END:VEVENT
END:VCALENDARBEGIN:VCALENDAR
VERSION:2.0
PRODID:-//wp-events-plugin.com//7.2.3.1//EN
TZID:Europe/London
X-WR-TIMEZONE:Europe/London
BEGIN:VEVENT
UID:3226@larevistadelapalma.com
DTSTART:20240914T170000Z
DTEND:20240914T190000Z
DTSTAMP:20240911T205627Z
URL:https://www.larevistadelapalma.com/events/las-mujeres-de-verdad-tienen
 -curvas/
SUMMARY:Proyección y coloquio de la película ‘Las mujeres de verdad tie
 nen curvas’
DESCRIPTION:\nVuelve el proyecto de coaching para la igualdad ‘Quiérete 
 bien y acertarás’\, a través del Ayuntamiento de Villa de Mazo\, que a
 rranca con la proyección y posterior coloquio de la película ‘Las muje
 res de verdad tienen curvas’ el sábado 14 de septiembre\, a las 18:00 h
 oras\, en el Centro de la Cultura Andares.\n\n\n\nLAS MUJERES DE VERDAD TI
 ENEN CURVAS&gt\;&gt\;\nDirigido por Patricia Cardoso y escrito por George 
 LaVoo &amp\; Josefina Lopez en base a una obra de teatro de Lopez\, el fil
 m relata la historia de Ana (la nominada al Oscar America Ferrera en su de
 but en el cine)\, una adolescente mexicano-estadounidense que vive en la c
 omunidad hispana del Este de Los Ángeles\, y a la que tras acabar el inst
 ituto su profesor anima a solicitar una beca para la Universidad de Columb
 ia. Pero sus tradicionales padres piensan que no es tiempo para estudiar\,
  sino para ayudar a su familia. Dividida entre sus ambiciones personales y
  su tradición cultural\, accede a trabajar con su madre (Lupe Ontiveros) 
 en la fábrica de costura de su hermana\, y este tiempo juntas hace que ca
 da una aprenda sobre la otra.\n\n\n
ATTACH;FMTTYPE=image/jpeg:https://www.larevistadelapalma.com/wp-content/up
 loads/2024/09/las-mujeres-de-verdad-tienen-curvas.jpg
CATEGORIES:Cine,Cine y Literatura
LOCATION:Centro de la Cultura Andares\, Ctra. Dr. Morera Bravo\, 2. El Pueb
 lo.\, Villa de Mazo\, 38730\, España
GEO:28.604882;-17.777431
X-APPLE-STRUCTURED-LOCATION;VALUE=URI;X-ADDRESS=Ctra. Dr. Morera Bravo\, 2.
  El Pueblo.\, Villa de Mazo\, 38730\, España;X-APPLE-RADIUS=100;X-TITLE=C
 entro de la Cultura Andares:geo:28.604882,-17.777431
END:VEVENT
END:VCALENDAR