BEGIN:VCALENDAR
VERSION:2.0
PRODID:-//wp-events-plugin.com//7.2.3.1//EN
TZID:Europe/London
X-WR-TIMEZONE:Europe/London
BEGIN:VEVENT
UID:3806@larevistadelapalma.com
DTSTART:20250613T190000Z
DTEND:20250613T203000Z
DTSTAMP:20250610T014423Z
URL:https://www.larevistadelapalma.com/events/las-salinas-de-los-cancajos-
 presentan-noches-de-sal-cucanas-y-plastico/
SUMMARY:Las salinas de Los Cancajos presentan "Noches de sal: Cucañas y pl
 ástico"
DESCRIPTION:La antropoeta social y autora tinerfeña Gloria Cabrera present
 a su libro «Cucañas y plástico. Una historia triste del tomate en Canar
 ias» en una noche amenizada por el cantautor canario Tomas Vera. \n\nEL 
 LIBRO\n¿Cómo sería esta tierra antes de ser torturada hasta dar la sang
 re de su último tomate? Barranquillos soleados\, imaginaba de niña\, rei
 nos solitarios de tabaibas y cardones\, con batallas solo de cernícalos y
  lagartos entre las salvajes palmeras y las frondosas magarzas\, hasta que
  llegaron las compañías con toda su hambre y avaricia de fruta fresca y 
 carne joven y cumplidora.\nAsí comienza "Cucañas y Plástico. Una histor
 ia triste del tomate en Canarias"\, obra divulgativa sobre la realidad soc
 ioeconómica de miles de familias canarias dedicadas al sector del cultivo
  del tomate\, auténtico motor económico en las Islas hasta un pasado no 
 muy lejano\, con el que su autora\, Gloria Cabrera\, intenta combinar la n
 arrativa literaria y la antropología social de compromiso\, buscando rela
 tar los acontecimientos sociales con un lenguaje directo y accesible sin r
 enunciar por ello a la subjetividad y la belleza.\n\nTestimonios de sus pr
 otagonistas\, canciones\, fotos\, memorias y poemas se entrelazan junto co
 n datos históricos y técnicos en esta monografía etnográfica experimen
 tal y de denuncia en la que el habla canaria adquiere especial relevancia 
 desentrañando la memoria colectiva.\n\nLA AUTORA\n\nGloria Esther Cabrera
  Socorro es Licenciada en Filosofía y Ciencias Sociales y Doctora en Antr
 opología Social. Imparte docencia en la Universidad de La Laguna desde el
  año 2003 en el Departamento de Sociología y Antropología.\n\nAdemás e
 s escritora y divulgadora cultural especializada en el ámbito de la antro
 pología de las poblaciones pesqueras y agrícolas en contextos neocolonia
 les\, las relaciones de género así como particularmente los impactos soc
 ioculturales del neoliberalismo hegemónico.\n\nComo investigadora\, se ha
  especializado en la antropología de género en las comunidades pesqueras
 \, el racismo y la globalización. A raíz de ello\, ha colaborado en proy
 ectos relacionados con la gestión de espacios marinos protegidos\, reflej
 ando su trabajo en artículos y ponencias en congresos especializados. Ade
 más\, ha trabajado como experto especialista por la UE y como investigado
 ra por el Cabildo de Lanzarote. Ha sido también colaboradora en la red te
 mática europea Femme\, centrada en el empoderamiento de las mujeres de la
 s comunidades pesqueras tradicionales.\n\nEL CANTAUTOR\n\nLos comienzos mu
 sicales del tinerfeño Tomas Vera Pérez se remonta a finales de los años
  80 en bandas como “Occidente” y “Bananas Pop”. En 1990 debuta en 
 el segundo certamen de Cantautores de Canarias. Vinculadose para siempre a
  la Nueva Canción Canaria y a la Canción de Autor. A partir de ahí form
 a el grupo Chigada y Shekere grabando su primer CD “Más que una simple 
 sonrisa”.\n\nDespués de esto continúa en solitario harto de pasar por 
 filtros y censura de sus canciones\, por productores y discográficas\, el
 igiendo un camino musical libre... su tierra\, su pasado\, su cultura Cana
 ria\, la lucha obrera\, la paz y la conservación del medio ambiente\, cab
 algan en sus temas.\nEn todos estos años a participado como músico y com
 o autor en un sinfín de festivales\, conciertos y eventos\; solo y acompa
 ñado con grandes agrupaciones musicales\, en las islas y fuera de la mism
 a.\n\nEn estos momentos se encuentra formando un proyecto musical para ayu
 dar a todos aquellos que pasen por este mundo cantando de una forma distin
 ta a la usual con “Cantautores de Acampada”.\n\nLAS NOCHES\n\nLas Noch
 es de Sal\, se empezaron a promover en el año 2018 por parte del Ayuntami
 ento de Breña Baja. Estos encuentros literarios se pusieron en marcha con
  el objetivo de dar visibilidad y apoyo a artistas palmeros y canarios. En
  cada presentación\, además de los autores de las obras\, se cuenta con 
 poetas y literarios locales que colaboran recitando y\, por último\, se c
 uenta con acompañamiento musical que dan un toque mas agradable al evento
 .
ATTACH;FMTTYPE=image/jpeg:https://www.larevistadelapalma.com/wp-content/up
 loads/2025/06/NochesSal-25-GloriaCabrera-Cartel.jpg
CATEGORIES:Cine y Literatura,Literatura,Otras propuestas,Varios
LOCATION:Antiguas Salinas de Los Cancajos\, P.º del litoral\, Breña Baja\
 , 38712\, España
GEO:28.650095;-17.75849
X-APPLE-STRUCTURED-LOCATION;VALUE=URI;X-ADDRESS=P.º del litoral\, Breña B
 aja\, 38712\, España;X-APPLE-RADIUS=100;X-TITLE=Antiguas Salinas de Los C
 ancajos:geo:28.650095,-17.75849
END:VEVENT
END:VCALENDARBEGIN:VCALENDAR
VERSION:2.0
PRODID:-//wp-events-plugin.com//7.2.3.1//EN
TZID:Europe/London
X-WR-TIMEZONE:Europe/London
BEGIN:VEVENT
UID:3806@larevistadelapalma.com
DTSTART:20250613T190000Z
DTEND:20250613T203000Z
DTSTAMP:20250610T014423Z
URL:https://www.larevistadelapalma.com/events/las-salinas-de-los-cancajos-
 presentan-noches-de-sal-cucanas-y-plastico/
SUMMARY:Las salinas de Los Cancajos presentan "Noches de sal: Cucañas y pl
 ástico"
DESCRIPTION:La antropoeta social y autora tinerfeña Gloria Cabrera present
 a su libro «Cucañas y plástico. Una historia triste del tomate en Canar
 ias» en una noche amenizada por el cantautor canario Tomas Vera. \n\nEL 
 LIBRO\n¿Cómo sería esta tierra antes de ser torturada hasta dar la sang
 re de su último tomate? Barranquillos soleados\, imaginaba de niña\, rei
 nos solitarios de tabaibas y cardones\, con batallas solo de cernícalos y
  lagartos entre las salvajes palmeras y las frondosas magarzas\, hasta que
  llegaron las compañías con toda su hambre y avaricia de fruta fresca y 
 carne joven y cumplidora.\nAsí comienza "Cucañas y Plástico. Una histor
 ia triste del tomate en Canarias"\, obra divulgativa sobre la realidad soc
 ioeconómica de miles de familias canarias dedicadas al sector del cultivo
  del tomate\, auténtico motor económico en las Islas hasta un pasado no 
 muy lejano\, con el que su autora\, Gloria Cabrera\, intenta combinar la n
 arrativa literaria y la antropología social de compromiso\, buscando rela
 tar los acontecimientos sociales con un lenguaje directo y accesible sin r
 enunciar por ello a la subjetividad y la belleza.\n\nTestimonios de sus pr
 otagonistas\, canciones\, fotos\, memorias y poemas se entrelazan junto co
 n datos históricos y técnicos en esta monografía etnográfica experimen
 tal y de denuncia en la que el habla canaria adquiere especial relevancia 
 desentrañando la memoria colectiva.\n\nLA AUTORA\n\nGloria Esther Cabrera
  Socorro es Licenciada en Filosofía y Ciencias Sociales y Doctora en Antr
 opología Social. Imparte docencia en la Universidad de La Laguna desde el
  año 2003 en el Departamento de Sociología y Antropología.\n\nAdemás e
 s escritora y divulgadora cultural especializada en el ámbito de la antro
 pología de las poblaciones pesqueras y agrícolas en contextos neocolonia
 les\, las relaciones de género así como particularmente los impactos soc
 ioculturales del neoliberalismo hegemónico.\n\nComo investigadora\, se ha
  especializado en la antropología de género en las comunidades pesqueras
 \, el racismo y la globalización. A raíz de ello\, ha colaborado en proy
 ectos relacionados con la gestión de espacios marinos protegidos\, reflej
 ando su trabajo en artículos y ponencias en congresos especializados. Ade
 más\, ha trabajado como experto especialista por la UE y como investigado
 ra por el Cabildo de Lanzarote. Ha sido también colaboradora en la red te
 mática europea Femme\, centrada en el empoderamiento de las mujeres de la
 s comunidades pesqueras tradicionales.\n\nEL CANTAUTOR\n\nLos comienzos mu
 sicales del tinerfeño Tomas Vera Pérez se remonta a finales de los años
  80 en bandas como “Occidente” y “Bananas Pop”. En 1990 debuta en 
 el segundo certamen de Cantautores de Canarias. Vinculadose para siempre a
  la Nueva Canción Canaria y a la Canción de Autor. A partir de ahí form
 a el grupo Chigada y Shekere grabando su primer CD “Más que una simple 
 sonrisa”.\n\nDespués de esto continúa en solitario harto de pasar por 
 filtros y censura de sus canciones\, por productores y discográficas\, el
 igiendo un camino musical libre... su tierra\, su pasado\, su cultura Cana
 ria\, la lucha obrera\, la paz y la conservación del medio ambiente\, cab
 algan en sus temas.\nEn todos estos años a participado como músico y com
 o autor en un sinfín de festivales\, conciertos y eventos\; solo y acompa
 ñado con grandes agrupaciones musicales\, en las islas y fuera de la mism
 a.\n\nEn estos momentos se encuentra formando un proyecto musical para ayu
 dar a todos aquellos que pasen por este mundo cantando de una forma distin
 ta a la usual con “Cantautores de Acampada”.\n\nLAS NOCHES\n\nLas Noch
 es de Sal\, se empezaron a promover en el año 2018 por parte del Ayuntami
 ento de Breña Baja. Estos encuentros literarios se pusieron en marcha con
  el objetivo de dar visibilidad y apoyo a artistas palmeros y canarios. En
  cada presentación\, además de los autores de las obras\, se cuenta con 
 poetas y literarios locales que colaboran recitando y\, por último\, se c
 uenta con acompañamiento musical que dan un toque mas agradable al evento
 .
ATTACH;FMTTYPE=image/jpeg:https://www.larevistadelapalma.com/wp-content/up
 loads/2025/06/NochesSal-25-GloriaCabrera-Cartel.jpg
CATEGORIES:Cine y Literatura,Literatura,Otras propuestas,Varios
LOCATION:Antiguas Salinas de Los Cancajos\, P.º del litoral\, Breña Baja\
 , 38712\, España
GEO:28.650095;-17.75849
X-APPLE-STRUCTURED-LOCATION;VALUE=URI;X-ADDRESS=P.º del litoral\, Breña B
 aja\, 38712\, España;X-APPLE-RADIUS=100;X-TITLE=Antiguas Salinas de Los C
 ancajos:geo:28.650095,-17.75849
END:VEVENT
END:VCALENDAR