BEGIN:VCALENDAR
VERSION:2.0
PRODID:-//wp-events-plugin.com//7.2.3.1//EN
TZID:Europe/London
X-WR-TIMEZONE:Europe/London
BEGIN:VEVENT
UID:3215@larevistadelapalma.com
DTSTART:20240921T200000Z
DTEND:20240921T225900Z
DTSTAMP:20240906T123253Z
URL:https://www.larevistadelapalma.com/events/latino-world-fest-san-miguel
 -2024/
SUMMARY:Latino World Fest San Miguel 2024
DESCRIPTION:La Villa de Tazacorte nos presenta este Festival que mezcla la 
 calidez canaria y la pasión latina. Variedad de actuaciones musicales\, s
 alsa\, merengue\, reggaetón\, bachata... y una lista de participantes a l
 os que se van sumando integrantes.\n\nContará con una feria gastronómica
  donde se podrán degustar platos típicos latinoamericanos y canarios.\nC
 omprar entradas &gt\;&gt\;
ATTACH;FMTTYPE=image/jpeg:https://www.larevistadelapalma.com/wp-content/up
 loads/2024/09/latino-Word-Fest-Tazacorte.jpg
CATEGORIES:Festivales/Fiestas,Música
LOCATION:Municipio de Tazacorte\, Villa y Puerto de Tazacorte\, Tazacorte\,
  38770\, España
GEO:28.642917;-17.936888
X-APPLE-STRUCTURED-LOCATION;VALUE=URI;X-ADDRESS=Villa y Puerto de Tazacorte
 \, Tazacorte\, 38770\, España;X-APPLE-RADIUS=100;X-TITLE=Municipio de Taz
 acorte:geo:28.642917,-17.936888
END:VEVENT
END:VCALENDARBEGIN:VCALENDAR
VERSION:2.0
PRODID:-//wp-events-plugin.com//7.2.3.1//EN
TZID:Europe/London
X-WR-TIMEZONE:Europe/London
BEGIN:VEVENT
UID:3215@larevistadelapalma.com
DTSTART:20240921T200000Z
DTEND:20240921T225900Z
DTSTAMP:20240906T123253Z
URL:https://www.larevistadelapalma.com/events/latino-world-fest-san-miguel
 -2024/
SUMMARY:Latino World Fest San Miguel 2024
DESCRIPTION:La Villa de Tazacorte nos presenta este Festival que mezcla la 
 calidez canaria y la pasión latina. Variedad de actuaciones musicales\, s
 alsa\, merengue\, reggaetón\, bachata... y una lista de participantes a l
 os que se van sumando integrantes.\n\nContará con una feria gastronómica
  donde se podrán degustar platos típicos latinoamericanos y canarios.\nC
 omprar entradas &gt\;&gt\;
ATTACH;FMTTYPE=image/jpeg:https://www.larevistadelapalma.com/wp-content/up
 loads/2024/09/latino-Word-Fest-Tazacorte.jpg
CATEGORIES:Festivales/Fiestas,Música
LOCATION:Municipio de Tazacorte\, Villa y Puerto de Tazacorte\, Tazacorte\,
  38770\, España
GEO:28.642917;-17.936888
X-APPLE-STRUCTURED-LOCATION;VALUE=URI;X-ADDRESS=Villa y Puerto de Tazacorte
 \, Tazacorte\, 38770\, España;X-APPLE-RADIUS=100;X-TITLE=Municipio de Taz
 acorte:geo:28.642917,-17.936888
END:VEVENT
END:VCALENDAR