BEGIN:VCALENDAR
VERSION:2.0
PRODID:-//wp-events-plugin.com//7.2.3.1//EN
TZID:Europe/London
X-WR-TIMEZONE:Europe/London
BEGIN:VEVENT
UID:3853@larevistadelapalma.com
DTSTART:20250722T193000Z
DTEND:20250722T210000Z
DTSTAMP:20250712T124116Z
URL:https://www.larevistadelapalma.com/events/laura-enriquez-presenta-lo-q
 ue-tengo-que-contar-en-el-circo-de-marte/
SUMMARY:Laura Enríquez presenta "Lo que tengo que contar" en el Circo de M
 arte
DESCRIPTION:Como artistas invitados contará con  Sorahaya González\, Ma
 caca Radiata\, Ramón_Betancor y Laura López. \n\nEl martes 22 de julio\
 , la cantautora palmera Laura Enríquez\, estará en el Circo de Marte pre
 sentando su segundo disco "Lo que te tengo que contar"\, su segundo álbum
  de estudio con 15 nuevos temas de diferentes estilos\, de los que ha escr
 ito música y letra .\nA partir del lunes 14 de julio pueden retirar las i
 nvitaciones en horario de taquilla. Horario de taquilla: Del 14 al 18 de 
 julio de: 11:30 a 13:30 h.\n\n\n\n\n&nbsp\;\n\n\n\n\n\n\n\n\n\n\nVer esta 
 publicación en Instagram\n\n\n\n\n\n\n\n\n\n\n\n\n\n\n\n\n\n\n\n\n\n\n&nb
 sp\;\nUna publicación compartida de Laura Henríquez (@laura.henriquez_)\
 n\n\n\n\nLaura\, es cantautora y médica en el Hospital Universitario de C
 anarias. Nació en La Palma\, en el municipio de Fuencaliente. Se traslad
 ó a la isla vecina de Tenerife para comenzar sus estudios universitarios.
  Allí\, durante su época en la facultad\, conoció a quienes serian los 
 componentes de su primer grupo\, A pie de lluvia.\n"Los que me conocen sab
 en la ilusión con la que estamos trabajando en este concierto tan especia
 l para mí". \nENTRADA LIBRE.\n\n&nbsp\;\n\n&nbsp\;
ATTACH;FMTTYPE=image/jpeg:https://www.larevistadelapalma.com/wp-content/up
 loads/2025/06/Laura-Enriquez-Lo-que-tengo-que-contar-circo-de-Marte.jpg
CATEGORIES:Conciertos,Música
LOCATION:Teatro Circo de Marte\, Calle Virgen de La Luz\, 5\, Santa Cruz de
  La Palma\, 38700\, España
GEO:28.682989;-17.765755
X-APPLE-STRUCTURED-LOCATION;VALUE=URI;X-ADDRESS=Calle Virgen de La Luz\, 5\
 , Santa Cruz de La Palma\, 38700\, España;X-APPLE-RADIUS=100;X-TITLE=Teat
 ro Circo de Marte:geo:28.682989,-17.765755
END:VEVENT
END:VCALENDARBEGIN:VCALENDAR
VERSION:2.0
PRODID:-//wp-events-plugin.com//7.2.3.1//EN
TZID:Europe/London
X-WR-TIMEZONE:Europe/London
BEGIN:VEVENT
UID:3853@larevistadelapalma.com
DTSTART:20250722T193000Z
DTEND:20250722T210000Z
DTSTAMP:20250712T124116Z
URL:https://www.larevistadelapalma.com/events/laura-enriquez-presenta-lo-q
 ue-tengo-que-contar-en-el-circo-de-marte/
SUMMARY:Laura Enríquez presenta "Lo que tengo que contar" en el Circo de M
 arte
DESCRIPTION:Como artistas invitados contará con  Sorahaya González\, Ma
 caca Radiata\, Ramón_Betancor y Laura López. \n\nEl martes 22 de julio\
 , la cantautora palmera Laura Enríquez\, estará en el Circo de Marte pre
 sentando su segundo disco "Lo que te tengo que contar"\, su segundo álbum
  de estudio con 15 nuevos temas de diferentes estilos\, de los que ha escr
 ito música y letra .\nA partir del lunes 14 de julio pueden retirar las i
 nvitaciones en horario de taquilla. Horario de taquilla: Del 14 al 18 de 
 julio de: 11:30 a 13:30 h.\n\n\n\n\n&nbsp\;\n\n\n\n\n\n\n\n\n\n\nVer esta 
 publicación en Instagram\n\n\n\n\n\n\n\n\n\n\n\n\n\n\n\n\n\n\n\n\n\n\n&nb
 sp\;\nUna publicación compartida de Laura Henríquez (@laura.henriquez_)\
 n\n\n\n\nLaura\, es cantautora y médica en el Hospital Universitario de C
 anarias. Nació en La Palma\, en el municipio de Fuencaliente. Se traslad
 ó a la isla vecina de Tenerife para comenzar sus estudios universitarios.
  Allí\, durante su época en la facultad\, conoció a quienes serian los 
 componentes de su primer grupo\, A pie de lluvia.\n"Los que me conocen sab
 en la ilusión con la que estamos trabajando en este concierto tan especia
 l para mí". \nENTRADA LIBRE.\n\n&nbsp\;\n\n&nbsp\;
ATTACH;FMTTYPE=image/jpeg:https://www.larevistadelapalma.com/wp-content/up
 loads/2025/06/Laura-Enriquez-Lo-que-tengo-que-contar-circo-de-Marte.jpg
CATEGORIES:Conciertos,Música
LOCATION:Teatro Circo de Marte\, Calle Virgen de La Luz\, 5\, Santa Cruz de
  La Palma\, 38700\, España
GEO:28.682989;-17.765755
X-APPLE-STRUCTURED-LOCATION;VALUE=URI;X-ADDRESS=Calle Virgen de La Luz\, 5\
 , Santa Cruz de La Palma\, 38700\, España;X-APPLE-RADIUS=100;X-TITLE=Teat
 ro Circo de Marte:geo:28.682989,-17.765755
END:VEVENT
END:VCALENDAR