BEGIN:VCALENDAR
VERSION:2.0
PRODID:-//wp-events-plugin.com//7.2.3.1//EN
TZID:Europe/London
X-WR-TIMEZONE:Europe/London
BEGIN:VEVENT
UID:2733@larevistadelapalma.com
DTSTART:20240120T120000Z
DTEND:20240120T133000Z
DTSTAMP:20240116T222555Z
URL:https://www.larevistadelapalma.com/events/letras-a-tiros/
SUMMARY:Letras a tiros
DESCRIPTION:“Letras a tiros”\, la cita musico literaria que pone el bro
 che final a este Aridane Criminal 2024.\nPara ello contarán con Cristóba
 l Montesdeoca al piano\, Carlos Álvarez dando vida a textos literarios co
 n su expresiva voz\, y Cristina Santana entonando canciones inspiradas en 
 esas letras. Este trío se une para ofrecer un viaje sonoro\, donde las te
 clas se convierten en puentes hacia emociones profundas\; el maestro narra
 dor\, prestará su voz para dar vida a textos literarios de Alexis Ravelo 
 seleccionados cuidadosamente y Cristina Santana tomará las riendas de la 
 interpretación musical fusionando la literatura con la melodía".\n\nEste
  será el punto final del Festival de novela negra Aridane Criminal.\n\n&n
 bsp\;
ATTACH;FMTTYPE=image/jpeg:https://www.larevistadelapalma.com/wp-content/up
 loads/2024/01/Letras-a-tiros.jpg
CATEGORIES:Cine y Literatura,Conciertos,Literatura,Música
LOCATION:Plaza de España en Los Llanos de Aridane\, Plaza de España\, Los
  Llanos de Aridane\, 38760\, España
GEO:28.658934;-17.913174
X-APPLE-STRUCTURED-LOCATION;VALUE=URI;X-ADDRESS=Plaza de España\, Los Llan
 os de Aridane\, 38760\, España;X-APPLE-RADIUS=100;X-TITLE=Plaza de Españ
 a en Los Llanos de Aridane:geo:28.658934,-17.913174
END:VEVENT
END:VCALENDARBEGIN:VCALENDAR
VERSION:2.0
PRODID:-//wp-events-plugin.com//7.2.3.1//EN
TZID:Europe/London
X-WR-TIMEZONE:Europe/London
BEGIN:VEVENT
UID:2733@larevistadelapalma.com
DTSTART:20240120T120000Z
DTEND:20240120T133000Z
DTSTAMP:20240116T222555Z
URL:https://www.larevistadelapalma.com/events/letras-a-tiros/
SUMMARY:Letras a tiros
DESCRIPTION:“Letras a tiros”\, la cita musico literaria que pone el bro
 che final a este Aridane Criminal 2024.\nPara ello contarán con Cristóba
 l Montesdeoca al piano\, Carlos Álvarez dando vida a textos literarios co
 n su expresiva voz\, y Cristina Santana entonando canciones inspiradas en 
 esas letras. Este trío se une para ofrecer un viaje sonoro\, donde las te
 clas se convierten en puentes hacia emociones profundas\; el maestro narra
 dor\, prestará su voz para dar vida a textos literarios de Alexis Ravelo 
 seleccionados cuidadosamente y Cristina Santana tomará las riendas de la 
 interpretación musical fusionando la literatura con la melodía".\n\nEste
  será el punto final del Festival de novela negra Aridane Criminal.\n\n&n
 bsp\;
ATTACH;FMTTYPE=image/jpeg:https://www.larevistadelapalma.com/wp-content/up
 loads/2024/01/Letras-a-tiros.jpg
CATEGORIES:Cine y Literatura,Conciertos,Literatura,Música
LOCATION:Plaza de España en Los Llanos de Aridane\, Plaza de España\, Los
  Llanos de Aridane\, 38760\, España
GEO:28.658934;-17.913174
X-APPLE-STRUCTURED-LOCATION;VALUE=URI;X-ADDRESS=Plaza de España\, Los Llan
 os de Aridane\, 38760\, España;X-APPLE-RADIUS=100;X-TITLE=Plaza de Españ
 a en Los Llanos de Aridane:geo:28.658934,-17.913174
END:VEVENT
END:VCALENDAR