BEGIN:VCALENDAR
VERSION:2.0
PRODID:-//wp-events-plugin.com//7.2.3.1//EN
TZID:Europe/London
X-WR-TIMEZONE:Europe/London
BEGIN:VEVENT
UID:3928@larevistadelapalma.com
DTSTART:20250830T193000Z
DTEND:20250830T210000Z
DTSTAMP:20250820T132807Z
URL:https://www.larevistadelapalma.com/events/leyendas-del-cielo-bajo-la-l
 uz-de-la-luna-8-25/
SUMMARY:“Leyendas del cielo bajo la luz de la luna”\,  Salinas de Los C
 ancajos
DESCRIPTION:Historias y leyendas sobre las constelaciones con una narradora
  oral\, una pianista y una astrónoma.
ATTACH;FMTTYPE=image/jpeg:https://www.larevistadelapalma.com/wp-content/up
 loads/2023/08/Leyendas-del-Cielo.jpg
CATEGORIES:Otras propuestas,Varios
LOCATION:Antiguas Salinas de Los Cancajos\, P.º del litoral\, Breña Baja\
 , 38712\, España
GEO:28.650095;-17.75849
X-APPLE-STRUCTURED-LOCATION;VALUE=URI;X-ADDRESS=P.º del litoral\, Breña B
 aja\, 38712\, España;X-APPLE-RADIUS=100;X-TITLE=Antiguas Salinas de Los C
 ancajos:geo:28.650095,-17.75849
END:VEVENT
END:VCALENDARBEGIN:VCALENDAR
VERSION:2.0
PRODID:-//wp-events-plugin.com//7.2.3.1//EN
TZID:Europe/London
X-WR-TIMEZONE:Europe/London
BEGIN:VEVENT
UID:3928@larevistadelapalma.com
DTSTART:20250830T193000Z
DTEND:20250830T210000Z
DTSTAMP:20250820T132807Z
URL:https://www.larevistadelapalma.com/events/leyendas-del-cielo-bajo-la-l
 uz-de-la-luna-8-25/
SUMMARY:“Leyendas del cielo bajo la luz de la luna”\,  Salinas de Los C
 ancajos
DESCRIPTION:Historias y leyendas sobre las constelaciones con una narradora
  oral\, una pianista y una astrónoma.
ATTACH;FMTTYPE=image/jpeg:https://www.larevistadelapalma.com/wp-content/up
 loads/2023/08/Leyendas-del-Cielo.jpg
CATEGORIES:Otras propuestas,Varios
LOCATION:Antiguas Salinas de Los Cancajos\, P.º del litoral\, Breña Baja\
 , 38712\, España
GEO:28.650095;-17.75849
X-APPLE-STRUCTURED-LOCATION;VALUE=URI;X-ADDRESS=P.º del litoral\, Breña B
 aja\, 38712\, España;X-APPLE-RADIUS=100;X-TITLE=Antiguas Salinas de Los C
 ancajos:geo:28.650095,-17.75849
END:VEVENT
END:VCALENDAR