BEGIN:VCALENDAR
VERSION:2.0
PRODID:-//wp-events-plugin.com//7.2.3.1//EN
TZID:Europe/London
X-WR-TIMEZONE:Europe/London
BEGIN:VEVENT
UID:4444@larevistadelapalma.com
DTSTART:20260102T180000Z
DTEND:20260102T180000Z
DTSTAMP:20251228T213216Z
URL:https://www.larevistadelapalma.com/events/leyendas-del-cielo-bajo-la-l
 uz-de-la-luna-brena-baja/
SUMMARY:Leyendas del Cielo bajo la luz de la luna. Breña Baja
DESCRIPTION:\nUn evento cultural y astronómico donde se unen la astronomí
 a\, los relatos de mitos y la música en vivo para descubrir las historias
  que esconde el firmamento y observar las estrellas en un entorno mágico.
 \n\n\n\n\nLa representación de Leyendas del Cielo bajo la luz de la Luna 
 cuenta con aforo limitado por lo que se recomienda la reserva previa de la
  plaza a través de la página web www.adastralapalma.com\nEntradas: Niño
 s 5€\; adultos: 10€.\n\nEn Leyendas del Cielo bajo la luz de la Luna\,
  la astrónoma Elena Nordio introducirá las constelaciones que dieron ori
 gen a los mitos y leyendas del cielo\, explicando cómo encontrarlas en la
  bóveda celeste.\n\nLa actriz y narradora María J. Batista contará las 
 historias\, aportando frescura\, intriga y diversión a antiguos mitos y l
 eyendas que se cuentan alrededor del mundo. La pianista Blanca Quevedo ade
 rezará el conjunto\, de forma inspiradora y envolvente\, con su música.
  Las tres guiarán a los y las asistentes por un viaje celestial con la i
 maginación.\n\nEl evento concluirá con la observación de la Luna a trav
 és del telescopio\, con la exploración de los cráteres y mares de la Lu
 na mientras la observamos\, siempre guiados por Elena Nordio.\n\nElena Nor
 dio es astrofísica y guía Starlight. En 2009 llega a Canarias atraída 
 por el maravilloso cielo de La Palma. En 2010 empieza a dedicarse al astro
 turismo y en marzo de 2015 funda la empresa Ad Astra La Palma. Desde enton
 ces sigue enseñando con mucha ilusión y dedicación nuestros cielos estr
 ellados a locales y turistas de todo el mundo.\n\nMaría Jesús Batista\, 
 creadora de iniciativas artísticas (Comedia teatral\, narración oral\, t
 eatro musical\, microteatro y video blog) es\, desde 1998\, directora y ac
 triz de la Compañía de Teatro Cruzado Mágico\, de la isla de La Palma\,
  con la que ha recorrido los escenarios de Canarias y participado en Festi
 vales de Teatro y Narración Oral.\n\nBlanca Quevedo es profesora de la E
 scuela Insular de Música de La Palma desde 2004. Gracias a su extensa for
 mación e inquietudes artísticas\, participa en proyectos musicales\, po
 éticos y teatrales que demuestran su versatilidad escénica.\n\n
ATTACH;FMTTYPE=image/jpeg:https://www.larevistadelapalma.com/wp-content/up
 loads/2025/12/2026-2-enero-leyendas-del-cielo.jpg
CATEGORIES:Otras propuestas,Varios
LOCATION:Antiguas Salinas de Los Cancajos\, P.º del litoral\, Breña Baja\
 , 38712\, España
GEO:28.650095;-17.75849
X-APPLE-STRUCTURED-LOCATION;VALUE=URI;X-ADDRESS=P.º del litoral\, Breña B
 aja\, 38712\, España;X-APPLE-RADIUS=100;X-TITLE=Antiguas Salinas de Los C
 ancajos:geo:28.650095,-17.75849
END:VEVENT
END:VCALENDARBEGIN:VCALENDAR
VERSION:2.0
PRODID:-//wp-events-plugin.com//7.2.3.1//EN
TZID:Europe/London
X-WR-TIMEZONE:Europe/London
BEGIN:VEVENT
UID:4444@larevistadelapalma.com
DTSTART:20260102T180000Z
DTEND:20260102T180000Z
DTSTAMP:20251228T213216Z
URL:https://www.larevistadelapalma.com/events/leyendas-del-cielo-bajo-la-l
 uz-de-la-luna-brena-baja/
SUMMARY:Leyendas del Cielo bajo la luz de la luna. Breña Baja
DESCRIPTION:\nUn evento cultural y astronómico donde se unen la astronomí
 a\, los relatos de mitos y la música en vivo para descubrir las historias
  que esconde el firmamento y observar las estrellas en un entorno mágico.
 \n\n\n\n\nLa representación de Leyendas del Cielo bajo la luz de la Luna 
 cuenta con aforo limitado por lo que se recomienda la reserva previa de la
  plaza a través de la página web www.adastralapalma.com\nEntradas: Niño
 s 5€\; adultos: 10€.\n\nEn Leyendas del Cielo bajo la luz de la Luna\,
  la astrónoma Elena Nordio introducirá las constelaciones que dieron ori
 gen a los mitos y leyendas del cielo\, explicando cómo encontrarlas en la
  bóveda celeste.\n\nLa actriz y narradora María J. Batista contará las 
 historias\, aportando frescura\, intriga y diversión a antiguos mitos y l
 eyendas que se cuentan alrededor del mundo. La pianista Blanca Quevedo ade
 rezará el conjunto\, de forma inspiradora y envolvente\, con su música.
  Las tres guiarán a los y las asistentes por un viaje celestial con la i
 maginación.\n\nEl evento concluirá con la observación de la Luna a trav
 és del telescopio\, con la exploración de los cráteres y mares de la Lu
 na mientras la observamos\, siempre guiados por Elena Nordio.\n\nElena Nor
 dio es astrofísica y guía Starlight. En 2009 llega a Canarias atraída 
 por el maravilloso cielo de La Palma. En 2010 empieza a dedicarse al astro
 turismo y en marzo de 2015 funda la empresa Ad Astra La Palma. Desde enton
 ces sigue enseñando con mucha ilusión y dedicación nuestros cielos estr
 ellados a locales y turistas de todo el mundo.\n\nMaría Jesús Batista\, 
 creadora de iniciativas artísticas (Comedia teatral\, narración oral\, t
 eatro musical\, microteatro y video blog) es\, desde 1998\, directora y ac
 triz de la Compañía de Teatro Cruzado Mágico\, de la isla de La Palma\,
  con la que ha recorrido los escenarios de Canarias y participado en Festi
 vales de Teatro y Narración Oral.\n\nBlanca Quevedo es profesora de la E
 scuela Insular de Música de La Palma desde 2004. Gracias a su extensa for
 mación e inquietudes artísticas\, participa en proyectos musicales\, po
 éticos y teatrales que demuestran su versatilidad escénica.\n\n
ATTACH;FMTTYPE=image/jpeg:https://www.larevistadelapalma.com/wp-content/up
 loads/2025/12/2026-2-enero-leyendas-del-cielo.jpg
CATEGORIES:Otras propuestas,Varios
LOCATION:Antiguas Salinas de Los Cancajos\, P.º del litoral\, Breña Baja\
 , 38712\, España
GEO:28.650095;-17.75849
X-APPLE-STRUCTURED-LOCATION;VALUE=URI;X-ADDRESS=P.º del litoral\, Breña B
 aja\, 38712\, España;X-APPLE-RADIUS=100;X-TITLE=Antiguas Salinas de Los C
 ancajos:geo:28.650095,-17.75849
END:VEVENT
END:VCALENDAR