BEGIN:VCALENDAR
VERSION:2.0
PRODID:-//wp-events-plugin.com//7.2.3.1//EN
TZID:Europe/London
X-WR-TIMEZONE:Europe/London
BEGIN:VEVENT
UID:116@larevistadelapalma.com
DTSTART:20230702T200000Z
DTEND:20230702T213000Z
DTSTAMP:20230628T004607Z
URL:https://www.larevistadelapalma.com/events/leyendas-del-cielo-bajo-la-l
 uz-de-la-luna-en-las-antiguas-salinas-de-los-cancajos/
SUMMARY:“Leyendas del cielo bajo la luz de la luna” en las Antiguas Sal
 inas de Los Cancajos
DESCRIPTION:Historias y leyendas sobre las constelaciones con una narradora
  oral\, una pianista y una astrónoma.
ATTACH;FMTTYPE=image/jpeg:https://www.larevistadelapalma.com/wp-content/up
 loads/2023/06/Leyendas-del-Cielo-2Julio-2023.webp
CATEGORIES:Otras propuestas,Varios
LOCATION:Antiguas Salinas de Los Cancajos\, P.º del litoral\, Breña Baja\
 , 38712\, España
GEO:28.650095;-17.75849
X-APPLE-STRUCTURED-LOCATION;VALUE=URI;X-ADDRESS=P.º del litoral\, Breña B
 aja\, 38712\, España;X-APPLE-RADIUS=100;X-TITLE=Antiguas Salinas de Los C
 ancajos:geo:28.650095,-17.75849
END:VEVENT
END:VCALENDARBEGIN:VCALENDAR
VERSION:2.0
PRODID:-//wp-events-plugin.com//7.2.3.1//EN
TZID:Europe/London
X-WR-TIMEZONE:Europe/London
BEGIN:VEVENT
UID:116@larevistadelapalma.com
DTSTART:20230702T200000Z
DTEND:20230702T213000Z
DTSTAMP:20230628T004607Z
URL:https://www.larevistadelapalma.com/events/leyendas-del-cielo-bajo-la-l
 uz-de-la-luna-en-las-antiguas-salinas-de-los-cancajos/
SUMMARY:“Leyendas del cielo bajo la luz de la luna” en las Antiguas Sal
 inas de Los Cancajos
DESCRIPTION:Historias y leyendas sobre las constelaciones con una narradora
  oral\, una pianista y una astrónoma.
ATTACH;FMTTYPE=image/jpeg:https://www.larevistadelapalma.com/wp-content/up
 loads/2023/06/Leyendas-del-Cielo-2Julio-2023.webp
CATEGORIES:Otras propuestas,Varios
LOCATION:Antiguas Salinas de Los Cancajos\, P.º del litoral\, Breña Baja\
 , 38712\, España
GEO:28.650095;-17.75849
X-APPLE-STRUCTURED-LOCATION;VALUE=URI;X-ADDRESS=P.º del litoral\, Breña B
 aja\, 38712\, España;X-APPLE-RADIUS=100;X-TITLE=Antiguas Salinas de Los C
 ancajos:geo:28.650095,-17.75849
END:VEVENT
END:VCALENDAR