BEGIN:VCALENDAR
VERSION:2.0
PRODID:-//wp-events-plugin.com//7.2.3.1//EN
TZID:Europe/London
X-WR-TIMEZONE:Europe/London
BEGIN:VEVENT
UID:3137@larevistadelapalma.com
DTSTART:20240720T203000Z
DTEND:20240720T220000Z
DTSTAMP:20240716T191242Z
URL:https://www.larevistadelapalma.com/events/leyendas-del-cielo/
SUMMARY:“Leyendas del Cielo”
DESCRIPTION:El sábado 20 de julio se podrá volver a disfrutar “Leyendas
  del cielo bajo la luz de la luna” en Las Antiguas Salinas de Los Cancaj
 os a las 21.30 horas. Ayuntamiento de Breña Baja y Ad Astra La Palma desc
 ubrirán a los asistentes\, un verdadero deleite para los sentidos y el al
 ma de la mano de una narradora oral\, una pianista y una astrónoma.\nLa r
 epresentación de Leyendas del Cielo bajo la luz de la Luna contará con a
 foro limitado por lo que se recomienda la reserva previa de la plaza a tra
 vés de la página web www.adastralapalma.com\nEn Leyendas del Cielo bajo 
 la luz de la Luna\, la astrónoma Elena Nordio introducirá las constelaci
 ones que dieron origen a los mitos y leyendas del cielo\, explicando cómo
  encontrarlas en la bóveda celeste. La actriz y narradora María J. Batis
 ta contará las historias\, aportando frescura\, intriga y diversión a an
 tiguos mitos y leyendas que se cuentan alrededor del mundo. La pianista Bl
 anca Quevedo aderezará el conjunto\, de forma inspiradora y envolvente\, 
 con su música.\n\n\nLas tres guiarán a los y las asistentes por un viaje
  celestial con la imaginación. El evento concluirá con la observación d
 e la Luna a través del telescopio\, con la exploración de los cráteres 
 y mares de la Luna mientras la observamos\, siempre guiados por Elena Nord
 io.\n\nElena Nordio es astrofísica y guía Starlight. En 2009 llega a Can
 arias atraída por el maravilloso cielo de La Palma. En 2010 empieza a ded
 icarse al astroturismo y en marzo de 2015 funda la empresa Ad Astra La Pal
 ma. Desde entonces sigue enseñando con mucha ilusión y dedicación nuest
 ros cielos estrellados a locales y turistas de todo el mundo.\nMaría Jes
 ús Batista\, creadora de iniciativas artísticas (Comedia teatral\, narra
 ción oral\, teatro musical\, microteatro y video blog) es\, desde 1998\, 
 directora y actriz de la Compañía de Teatro Cruzado Mágico\, de la isla
  de La Palma\, con la que ha recorrido los escenarios de Canarias y partic
 ipado en Festivales de Teatro y Narración Oral.\nBlanca Quevedo es profes
 ora de la Escuela Insular de Música de La Palma desde 2004. Gracias a su 
 extensa formación e inquietudes artísticas\, participa en proyectos musi
 cales\, poéticos y teatrales que demuestran su versatilidad escénica. Re
 cientemente ha visto la luz su último trabajo discográfico titulado “I
 ntempesta” junto al chelista Miguel Ángel Vilariño. (Nocturnos para ce
 llo y piano).
ATTACH;FMTTYPE=image/jpeg:https://www.larevistadelapalma.com/wp-content/up
 loads/2023/08/Leyendas-del-Cielo.jpg
CATEGORIES:Otras propuestas,Varios
LOCATION:Antiguas Salinas de Los Cancajos\, P.º del litoral\, Breña Baja\
 , 38712\, España
GEO:28.650095;-17.75849
X-APPLE-STRUCTURED-LOCATION;VALUE=URI;X-ADDRESS=P.º del litoral\, Breña B
 aja\, 38712\, España;X-APPLE-RADIUS=100;X-TITLE=Antiguas Salinas de Los C
 ancajos:geo:28.650095,-17.75849
END:VEVENT
END:VCALENDARBEGIN:VCALENDAR
VERSION:2.0
PRODID:-//wp-events-plugin.com//7.2.3.1//EN
TZID:Europe/London
X-WR-TIMEZONE:Europe/London
BEGIN:VEVENT
UID:3137@larevistadelapalma.com
DTSTART:20240720T203000Z
DTEND:20240720T220000Z
DTSTAMP:20240716T191242Z
URL:https://www.larevistadelapalma.com/events/leyendas-del-cielo/
SUMMARY:“Leyendas del Cielo”
DESCRIPTION:El sábado 20 de julio se podrá volver a disfrutar “Leyendas
  del cielo bajo la luz de la luna” en Las Antiguas Salinas de Los Cancaj
 os a las 21.30 horas. Ayuntamiento de Breña Baja y Ad Astra La Palma desc
 ubrirán a los asistentes\, un verdadero deleite para los sentidos y el al
 ma de la mano de una narradora oral\, una pianista y una astrónoma.\nLa r
 epresentación de Leyendas del Cielo bajo la luz de la Luna contará con a
 foro limitado por lo que se recomienda la reserva previa de la plaza a tra
 vés de la página web www.adastralapalma.com\nEn Leyendas del Cielo bajo 
 la luz de la Luna\, la astrónoma Elena Nordio introducirá las constelaci
 ones que dieron origen a los mitos y leyendas del cielo\, explicando cómo
  encontrarlas en la bóveda celeste. La actriz y narradora María J. Batis
 ta contará las historias\, aportando frescura\, intriga y diversión a an
 tiguos mitos y leyendas que se cuentan alrededor del mundo. La pianista Bl
 anca Quevedo aderezará el conjunto\, de forma inspiradora y envolvente\, 
 con su música.\n\n\nLas tres guiarán a los y las asistentes por un viaje
  celestial con la imaginación. El evento concluirá con la observación d
 e la Luna a través del telescopio\, con la exploración de los cráteres 
 y mares de la Luna mientras la observamos\, siempre guiados por Elena Nord
 io.\n\nElena Nordio es astrofísica y guía Starlight. En 2009 llega a Can
 arias atraída por el maravilloso cielo de La Palma. En 2010 empieza a ded
 icarse al astroturismo y en marzo de 2015 funda la empresa Ad Astra La Pal
 ma. Desde entonces sigue enseñando con mucha ilusión y dedicación nuest
 ros cielos estrellados a locales y turistas de todo el mundo.\nMaría Jes
 ús Batista\, creadora de iniciativas artísticas (Comedia teatral\, narra
 ción oral\, teatro musical\, microteatro y video blog) es\, desde 1998\, 
 directora y actriz de la Compañía de Teatro Cruzado Mágico\, de la isla
  de La Palma\, con la que ha recorrido los escenarios de Canarias y partic
 ipado en Festivales de Teatro y Narración Oral.\nBlanca Quevedo es profes
 ora de la Escuela Insular de Música de La Palma desde 2004. Gracias a su 
 extensa formación e inquietudes artísticas\, participa en proyectos musi
 cales\, poéticos y teatrales que demuestran su versatilidad escénica. Re
 cientemente ha visto la luz su último trabajo discográfico titulado “I
 ntempesta” junto al chelista Miguel Ángel Vilariño. (Nocturnos para ce
 llo y piano).
ATTACH;FMTTYPE=image/jpeg:https://www.larevistadelapalma.com/wp-content/up
 loads/2023/08/Leyendas-del-Cielo.jpg
CATEGORIES:Otras propuestas,Varios
LOCATION:Antiguas Salinas de Los Cancajos\, P.º del litoral\, Breña Baja\
 , 38712\, España
GEO:28.650095;-17.75849
X-APPLE-STRUCTURED-LOCATION;VALUE=URI;X-ADDRESS=P.º del litoral\, Breña B
 aja\, 38712\, España;X-APPLE-RADIUS=100;X-TITLE=Antiguas Salinas de Los C
 ancajos:geo:28.650095,-17.75849
END:VEVENT
END:VCALENDAR