BEGIN:VCALENDAR
VERSION:2.0
PRODID:-//wp-events-plugin.com//7.2.3.1//EN
TZID:Europe/London
X-WR-TIMEZONE:Europe/London
BEGIN:VEVENT
UID:885@larevistadelapalma.com
DTSTART:20231207T193000Z
DTEND:20231207T225900Z
DTSTAMP:20241126T001803Z
URL:https://www.larevistadelapalma.com/events/light-night-en-brena-alta/
SUMMARY:Light Night en Breña Alta
DESCRIPTION:El 7 de diciembre le toca el turno al encendido navideño de Br
 eña Alta\, que contará con las actuaciones de Cristina Ramos y la sesió
 n de Dj con Renzzo El Selector y David Álvarez.
ATTACH;FMTTYPE=image/jpeg:https://www.larevistadelapalma.com/wp-content/up
 loads/2023/11/Light-Night-en-B-Alta.jpg
CATEGORIES:Fiestas populares,Otras propuestas
LOCATION:Plaza Bujaz\, Breña Alta\, Calle Treinta de Mayo\, Breña Alta\, 
 38710\, España
GEO:28.662869;-17.788333
X-APPLE-STRUCTURED-LOCATION;VALUE=URI;X-ADDRESS=Calle Treinta de Mayo\, Bre
 ña Alta\, 38710\, España;X-APPLE-RADIUS=100;X-TITLE=Plaza Bujaz\, Breña
  Alta:geo:28.662869,-17.788333
END:VEVENT
END:VCALENDARBEGIN:VCALENDAR
VERSION:2.0
PRODID:-//wp-events-plugin.com//7.2.3.1//EN
TZID:Europe/London
X-WR-TIMEZONE:Europe/London
BEGIN:VEVENT
UID:885@larevistadelapalma.com
DTSTART:20231207T193000Z
DTEND:20231207T225900Z
DTSTAMP:20241126T001803Z
URL:https://www.larevistadelapalma.com/events/light-night-en-brena-alta/
SUMMARY:Light Night en Breña Alta
DESCRIPTION:El 7 de diciembre le toca el turno al encendido navideño de Br
 eña Alta\, que contará con las actuaciones de Cristina Ramos y la sesió
 n de Dj con Renzzo El Selector y David Álvarez.
ATTACH;FMTTYPE=image/jpeg:https://www.larevistadelapalma.com/wp-content/up
 loads/2023/11/Light-Night-en-B-Alta.jpg
CATEGORIES:Fiestas populares,Otras propuestas
LOCATION:Plaza Bujaz\, Breña Alta\, Calle Treinta de Mayo\, Breña Alta\, 
 38710\, España
GEO:28.662869;-17.788333
X-APPLE-STRUCTURED-LOCATION;VALUE=URI;X-ADDRESS=Calle Treinta de Mayo\, Bre
 ña Alta\, 38710\, España;X-APPLE-RADIUS=100;X-TITLE=Plaza Bujaz\, Breña
  Alta:geo:28.662869,-17.788333
END:VEVENT
END:VCALENDAR