BEGIN:VCALENDAR
VERSION:2.0
PRODID:-//wp-events-plugin.com//7.2.3.1//EN
TZID:Europe/London
X-WR-TIMEZONE:Europe/London
BEGIN:VEVENT
UID:2986@larevistadelapalma.com
DTSTART:20240824T190000Z
DTEND:20240824T225900Z
DTSTAMP:20240824T131338Z
URL:https://www.larevistadelapalma.com/events/los-40-capital-pop-llega-a-s
 anta-cruz-de-la-palma/
SUMMARY:Los 40 Capital Pop llega a Santa Cruz de La Palma
DESCRIPTION:Los 40 Capital Pop llega a Santa Cruz de La Palma con Dani Fern
 ández\, La Oreja de Van Gogh\, Álvaro de Luna\, Veintiuno y la palmera J
 ulia Debis.\nÉxitos del pop que van desde los clásicos como La Oreja de 
 Van Gogh\, a las nuevas voces de la industria musical como Dani Fernández
  y Álvaro de Luna. Se unirá a este Festival\, el grupo Veintiuno y la
  joven palmera Julia Debis.\n\nEste 24 de agosto\, en el Recinto Portuar
 io de Santa Cruz de La Palma. Las entradas a la venta en www.tomaticket.es
 \n\nhttps://www.youtube.com/watch?v=zEqydjm1AP0\n\nhttps://www.youtube.com
 /watch?v=7v8dn8AUxUY\n\nhttps://www.youtube.com/watch?v=nzFlWZMo1FU\n\nhtt
 ps://www.youtube.com/watch?v=rGoXnMjLyfo&amp\;t=2s\n\nhttps://www.youtube.
 com/watch?v=NSGINTNOi5Q
ATTACH;FMTTYPE=image/jpeg:https://www.larevistadelapalma.com/wp-content/up
 loads/2024/05/40-Capital-Pop.jpg
CATEGORIES:Festivales/Fiestas,Música
LOCATION:Municipio de Santa Cruz de La Palma\, Santa Cruz de La Palma \, Sa
 nta Cruz de La Palma \, 38700\, España
GEO:28.688757;-17.765102
X-APPLE-STRUCTURED-LOCATION;VALUE=URI;X-ADDRESS=Santa Cruz de La Palma \, S
 anta Cruz de La Palma \, 38700\, España;X-APPLE-RADIUS=100;X-TITLE=Munici
 pio de Santa Cruz de La Palma:geo:28.688757,-17.765102
END:VEVENT
END:VCALENDARBEGIN:VCALENDAR
VERSION:2.0
PRODID:-//wp-events-plugin.com//7.2.3.1//EN
TZID:Europe/London
X-WR-TIMEZONE:Europe/London
BEGIN:VEVENT
UID:2986@larevistadelapalma.com
DTSTART:20240824T190000Z
DTEND:20240824T225900Z
DTSTAMP:20240824T131338Z
URL:https://www.larevistadelapalma.com/events/los-40-capital-pop-llega-a-s
 anta-cruz-de-la-palma/
SUMMARY:Los 40 Capital Pop llega a Santa Cruz de La Palma
DESCRIPTION:Los 40 Capital Pop llega a Santa Cruz de La Palma con Dani Fern
 ández\, La Oreja de Van Gogh\, Álvaro de Luna\, Veintiuno y la palmera J
 ulia Debis.\nÉxitos del pop que van desde los clásicos como La Oreja de 
 Van Gogh\, a las nuevas voces de la industria musical como Dani Fernández
  y Álvaro de Luna. Se unirá a este Festival\, el grupo Veintiuno y la
  joven palmera Julia Debis.\n\nEste 24 de agosto\, en el Recinto Portuar
 io de Santa Cruz de La Palma. Las entradas a la venta en www.tomaticket.es
 \n\nhttps://www.youtube.com/watch?v=zEqydjm1AP0\n\nhttps://www.youtube.com
 /watch?v=7v8dn8AUxUY\n\nhttps://www.youtube.com/watch?v=nzFlWZMo1FU\n\nhtt
 ps://www.youtube.com/watch?v=rGoXnMjLyfo&amp\;t=2s\n\nhttps://www.youtube.
 com/watch?v=NSGINTNOi5Q
ATTACH;FMTTYPE=image/jpeg:https://www.larevistadelapalma.com/wp-content/up
 loads/2024/05/40-Capital-Pop.jpg
CATEGORIES:Festivales/Fiestas,Música
LOCATION:Municipio de Santa Cruz de La Palma\, Santa Cruz de La Palma \, Sa
 nta Cruz de La Palma \, 38700\, España
GEO:28.688757;-17.765102
X-APPLE-STRUCTURED-LOCATION;VALUE=URI;X-ADDRESS=Santa Cruz de La Palma \, S
 anta Cruz de La Palma \, 38700\, España;X-APPLE-RADIUS=100;X-TITLE=Munici
 pio de Santa Cruz de La Palma:geo:28.688757,-17.765102
END:VEVENT
END:VCALENDAR