BEGIN:VCALENDAR
VERSION:2.0
PRODID:-//wp-events-plugin.com//7.2.3.1//EN
TZID:Europe/London
X-WR-TIMEZONE:Europe/London
BEGIN:VEVENT
UID:2763@larevistadelapalma.com
DTSTART:20240210T183000Z
DTEND:20240210T225900Z
DTSTAMP:20240208T214107Z
URL:https://www.larevistadelapalma.com/events/los-40-pop/
SUMMARY:"Los 40 POP"
DESCRIPTION:Los 40 se unen al Carnaval de calle en Santa Cruz de La Palma c
 on Ptazeta\, Lérica\, Juacko\, Dellacruz\, Marlena\, St. Pedro\, Almacor
 \, Ariann\, Paula Koops y Polo Nández. \nPresenta: Tony Aguilar.
ATTACH;FMTTYPE=image/jpeg:https://www.larevistadelapalma.com/wp-content/up
 loads/2024/02/Los-40-pop.jpg
CATEGORIES:Conciertos,Música
LOCATION:Municipio de Santa Cruz de La Palma\, Santa Cruz de La Palma \, Sa
 nta Cruz de La Palma \, 38700\, España
GEO:28.688757;-17.765102
X-APPLE-STRUCTURED-LOCATION;VALUE=URI;X-ADDRESS=Santa Cruz de La Palma \, S
 anta Cruz de La Palma \, 38700\, España;X-APPLE-RADIUS=100;X-TITLE=Munici
 pio de Santa Cruz de La Palma:geo:28.688757,-17.765102
END:VEVENT
END:VCALENDARBEGIN:VCALENDAR
VERSION:2.0
PRODID:-//wp-events-plugin.com//7.2.3.1//EN
TZID:Europe/London
X-WR-TIMEZONE:Europe/London
BEGIN:VEVENT
UID:2763@larevistadelapalma.com
DTSTART:20240210T183000Z
DTEND:20240210T225900Z
DTSTAMP:20240208T214107Z
URL:https://www.larevistadelapalma.com/events/los-40-pop/
SUMMARY:"Los 40 POP"
DESCRIPTION:Los 40 se unen al Carnaval de calle en Santa Cruz de La Palma c
 on Ptazeta\, Lérica\, Juacko\, Dellacruz\, Marlena\, St. Pedro\, Almacor
 \, Ariann\, Paula Koops y Polo Nández. \nPresenta: Tony Aguilar.
ATTACH;FMTTYPE=image/jpeg:https://www.larevistadelapalma.com/wp-content/up
 loads/2024/02/Los-40-pop.jpg
CATEGORIES:Conciertos,Música
LOCATION:Municipio de Santa Cruz de La Palma\, Santa Cruz de La Palma \, Sa
 nta Cruz de La Palma \, 38700\, España
GEO:28.688757;-17.765102
X-APPLE-STRUCTURED-LOCATION;VALUE=URI;X-ADDRESS=Santa Cruz de La Palma \, S
 anta Cruz de La Palma \, 38700\, España;X-APPLE-RADIUS=100;X-TITLE=Munici
 pio de Santa Cruz de La Palma:geo:28.688757,-17.765102
END:VEVENT
END:VCALENDAR