BEGIN:VCALENDAR
VERSION:2.0
PRODID:-//wp-events-plugin.com//7.2.3.1//EN
TZID:Europe/London
X-WR-TIMEZONE:Europe/London
BEGIN:VEVENT
UID:149@larevistadelapalma.com
DTSTART:20230722T120000Z
DTEND:20230722T131500Z
DTSTAMP:20230719T230906Z
URL:https://www.larevistadelapalma.com/events/los-600-transvulkania-bike-2
 3/
SUMMARY:Concierto de Los 600 en el cierre de la Transvulcania Bike
DESCRIPTION:Cómo cierre de evento de la prueba deportiva Transvulcania Bik
 e nos acompañara el grupo de música Los 600.
ATTACH;FMTTYPE=image/jpeg:https://www.larevistadelapalma.com/wp-content/up
 loads/2023/07/Los-600-Foto-Rayco-Tacoronte.jpg
CATEGORIES:Conciertos,Música
LOCATION:Plaza del Ayuntamiento de Fuencaliente\, C. San Antonio\, Los Cana
 rios\, Fuencaliente\, 38740\, España
GEO:28.494669;-17.845068
X-APPLE-STRUCTURED-LOCATION;VALUE=URI;X-ADDRESS=C. San Antonio\, Los Canari
 os\, Fuencaliente\, 38740\, España;X-APPLE-RADIUS=100;X-TITLE=Plaza del A
 yuntamiento de Fuencaliente:geo:28.494669,-17.845068
END:VEVENT
END:VCALENDARBEGIN:VCALENDAR
VERSION:2.0
PRODID:-//wp-events-plugin.com//7.2.3.1//EN
TZID:Europe/London
X-WR-TIMEZONE:Europe/London
BEGIN:VEVENT
UID:149@larevistadelapalma.com
DTSTART:20230722T120000Z
DTEND:20230722T131500Z
DTSTAMP:20230719T230906Z
URL:https://www.larevistadelapalma.com/events/los-600-transvulkania-bike-2
 3/
SUMMARY:Concierto de Los 600 en el cierre de la Transvulcania Bike
DESCRIPTION:Cómo cierre de evento de la prueba deportiva Transvulcania Bik
 e nos acompañara el grupo de música Los 600.
ATTACH;FMTTYPE=image/jpeg:https://www.larevistadelapalma.com/wp-content/up
 loads/2023/07/Los-600-Foto-Rayco-Tacoronte.jpg
CATEGORIES:Conciertos,Música
LOCATION:Plaza del Ayuntamiento de Fuencaliente\, C. San Antonio\, Los Cana
 rios\, Fuencaliente\, 38740\, España
GEO:28.494669;-17.845068
X-APPLE-STRUCTURED-LOCATION;VALUE=URI;X-ADDRESS=C. San Antonio\, Los Canari
 os\, Fuencaliente\, 38740\, España;X-APPLE-RADIUS=100;X-TITLE=Plaza del A
 yuntamiento de Fuencaliente:geo:28.494669,-17.845068
END:VEVENT
END:VCALENDAR