BEGIN:VCALENDAR
VERSION:2.0
PRODID:-//wp-events-plugin.com//7.2.3.1//EN
TZID:Europe/London
X-WR-TIMEZONE:Europe/London
BEGIN:VEVENT
UID:4034@larevistadelapalma.com
DTSTART:20251031T200000Z
DTEND:20251031T221500Z
DTSTAMP:20251023T182032Z
URL:https://www.larevistadelapalma.com/events/los-arrieros-y-la-noche-de-f
 inados/
SUMMARY:Los Arrieros y la Noche de Finados
DESCRIPTION:Envuelta en el recuerdo de los que ya no están y en ritos anti
 guos\, la Noche de Finados\, es una muestra de la cultura\, de la fe y del
  sentir popular. La Agrupación Folcórica Los Arrieros presenta este año
  una versión más teatral con la actriz Belén Herrera\, y partiendo de l
 os datos y la valiosa información que atesora el Grupo etnográfico Baile
  bueno\, recrearán a través de la música\, el baile y el teatro\, las t
 radiciones\, las oraciones\, los ritos de una noche que une y mezcla la tr
 isteza por los que se fueron y la alegría de los que aún están.
ATTACH;FMTTYPE=image/jpeg:https://www.larevistadelapalma.com/wp-content/up
 loads/2025/10/Noche-de-finados-Los-llanos.jpg
CATEGORIES:Fiestas populares,Otras propuestas
LOCATION:Plaza de España en Los Llanos de Aridane\, Plaza de España\, Los
  Llanos de Aridane\, 38760\, España
GEO:28.658934;-17.913174
X-APPLE-STRUCTURED-LOCATION;VALUE=URI;X-ADDRESS=Plaza de España\, Los Llan
 os de Aridane\, 38760\, España;X-APPLE-RADIUS=100;X-TITLE=Plaza de Españ
 a en Los Llanos de Aridane:geo:28.658934,-17.913174
END:VEVENT
END:VCALENDARBEGIN:VCALENDAR
VERSION:2.0
PRODID:-//wp-events-plugin.com//7.2.3.1//EN
TZID:Europe/London
X-WR-TIMEZONE:Europe/London
BEGIN:VEVENT
UID:4034@larevistadelapalma.com
DTSTART:20251031T200000Z
DTEND:20251031T221500Z
DTSTAMP:20251023T182032Z
URL:https://www.larevistadelapalma.com/events/los-arrieros-y-la-noche-de-f
 inados/
SUMMARY:Los Arrieros y la Noche de Finados
DESCRIPTION:Envuelta en el recuerdo de los que ya no están y en ritos anti
 guos\, la Noche de Finados\, es una muestra de la cultura\, de la fe y del
  sentir popular. La Agrupación Folcórica Los Arrieros presenta este año
  una versión más teatral con la actriz Belén Herrera\, y partiendo de l
 os datos y la valiosa información que atesora el Grupo etnográfico Baile
  bueno\, recrearán a través de la música\, el baile y el teatro\, las t
 radiciones\, las oraciones\, los ritos de una noche que une y mezcla la tr
 isteza por los que se fueron y la alegría de los que aún están.
ATTACH;FMTTYPE=image/jpeg:https://www.larevistadelapalma.com/wp-content/up
 loads/2025/10/Noche-de-finados-Los-llanos.jpg
CATEGORIES:Fiestas populares,Otras propuestas
LOCATION:Plaza de España en Los Llanos de Aridane\, Plaza de España\, Los
  Llanos de Aridane\, 38760\, España
GEO:28.658934;-17.913174
X-APPLE-STRUCTURED-LOCATION;VALUE=URI;X-ADDRESS=Plaza de España\, Los Llan
 os de Aridane\, 38760\, España;X-APPLE-RADIUS=100;X-TITLE=Plaza de Españ
 a en Los Llanos de Aridane:geo:28.658934,-17.913174
END:VEVENT
END:VCALENDAR