BEGIN:VCALENDAR
VERSION:2.0
PRODID:-//wp-events-plugin.com//7.2.3.1//EN
TZID:Europe/London
X-WR-TIMEZONE:Europe/London
BEGIN:VEVENT
UID:2749@larevistadelapalma.com
DTSTART:20240208T163000Z
DTEND:20240208T190000Z
DTSTAMP:20240208T235440Z
URL:https://www.larevistadelapalma.com/events/los-carnavales-de-santa-cruz
 -de-la-palma-dan-comienzo-el-8-de-febrero/
SUMMARY:Los carnavales de Santa Cruz de La Palma comienzan el 8 de febrero 
 con el Coso Infantil.
DESCRIPTION:El programa comienza el jueves\, 8 de febrero\, con el Coso Es
 colar y fiesta infantil. El viernes\, dos citas: la Loca Carrera Solidar
 ia organizada por el IES Virgen de Las Nieves y la Fiesta de la Peluca.
ATTACH;FMTTYPE=image/jpeg:https://www.larevistadelapalma.com/wp-content/up
 loads/2024/01/Carnaval-santa-cruz-de-la-palma.jpg
CATEGORIES:Fiestas populares,Otras propuestas
LOCATION:Municipio de Santa Cruz de La Palma\, Santa Cruz de La Palma \, Sa
 nta Cruz de La Palma \, 38700\, España
GEO:28.688757;-17.765102
X-APPLE-STRUCTURED-LOCATION;VALUE=URI;X-ADDRESS=Santa Cruz de La Palma \, S
 anta Cruz de La Palma \, 38700\, España;X-APPLE-RADIUS=100;X-TITLE=Munici
 pio de Santa Cruz de La Palma:geo:28.688757,-17.765102
END:VEVENT
END:VCALENDARBEGIN:VCALENDAR
VERSION:2.0
PRODID:-//wp-events-plugin.com//7.2.3.1//EN
TZID:Europe/London
X-WR-TIMEZONE:Europe/London
BEGIN:VEVENT
UID:2749@larevistadelapalma.com
DTSTART:20240208T163000Z
DTEND:20240208T190000Z
DTSTAMP:20240208T235440Z
URL:https://www.larevistadelapalma.com/events/los-carnavales-de-santa-cruz
 -de-la-palma-dan-comienzo-el-8-de-febrero/
SUMMARY:Los carnavales de Santa Cruz de La Palma comienzan el 8 de febrero 
 con el Coso Infantil.
DESCRIPTION:El programa comienza el jueves\, 8 de febrero\, con el Coso Es
 colar y fiesta infantil. El viernes\, dos citas: la Loca Carrera Solidar
 ia organizada por el IES Virgen de Las Nieves y la Fiesta de la Peluca.
ATTACH;FMTTYPE=image/jpeg:https://www.larevistadelapalma.com/wp-content/up
 loads/2024/01/Carnaval-santa-cruz-de-la-palma.jpg
CATEGORIES:Fiestas populares,Otras propuestas
LOCATION:Municipio de Santa Cruz de La Palma\, Santa Cruz de La Palma \, Sa
 nta Cruz de La Palma \, 38700\, España
GEO:28.688757;-17.765102
X-APPLE-STRUCTURED-LOCATION;VALUE=URI;X-ADDRESS=Santa Cruz de La Palma \, S
 anta Cruz de La Palma \, 38700\, España;X-APPLE-RADIUS=100;X-TITLE=Munici
 pio de Santa Cruz de La Palma:geo:28.688757,-17.765102
END:VEVENT
END:VCALENDAR