BEGIN:VCALENDAR
VERSION:2.0
PRODID:-//wp-events-plugin.com//7.2.3.1//EN
TZID:Europe/London
X-WR-TIMEZONE:Europe/London
BEGIN:VEVENT
UID:3011@larevistadelapalma.com
DTSTART:20240625T193000Z
DTEND:20240625T212900Z
DTSTAMP:20240611T212019Z
URL:https://www.larevistadelapalma.com/events/los-conciertos-del-festivali
 to-la-palma-albert-pla/
SUMMARY:Los conciertos del Festivalito La Palma\, concierto de Albert Pla
DESCRIPTION:En esta ocasión Albert se sube al escenario solo\, en estado p
 uro\, para cantar sus historias. A sus espaldas media vida en los escenari
 os\, con una extensa discografía que ha compaginado con algunas aparicion
 es como actor\, la última en la serie "La Mesías". 
ATTACH;FMTTYPE=image/jpeg:https://www.larevistadelapalma.com/wp-content/up
 loads/2024/05/I21-Albert_003_v1-scaled.jpg
CATEGORIES:Conciertos,Música
LOCATION:Teatro Circo de Marte\, Calle Virgen de La Luz\, 5\, Santa Cruz de
  La Palma\, 38700\, España
GEO:28.682989;-17.765755
X-APPLE-STRUCTURED-LOCATION;VALUE=URI;X-ADDRESS=Calle Virgen de La Luz\, 5\
 , Santa Cruz de La Palma\, 38700\, España;X-APPLE-RADIUS=100;X-TITLE=Teat
 ro Circo de Marte:geo:28.682989,-17.765755
END:VEVENT
END:VCALENDARBEGIN:VCALENDAR
VERSION:2.0
PRODID:-//wp-events-plugin.com//7.2.3.1//EN
TZID:Europe/London
X-WR-TIMEZONE:Europe/London
BEGIN:VEVENT
UID:3011@larevistadelapalma.com
DTSTART:20240625T193000Z
DTEND:20240625T212900Z
DTSTAMP:20240611T212019Z
URL:https://www.larevistadelapalma.com/events/los-conciertos-del-festivali
 to-la-palma-albert-pla/
SUMMARY:Los conciertos del Festivalito La Palma\, concierto de Albert Pla
DESCRIPTION:En esta ocasión Albert se sube al escenario solo\, en estado p
 uro\, para cantar sus historias. A sus espaldas media vida en los escenari
 os\, con una extensa discografía que ha compaginado con algunas aparicion
 es como actor\, la última en la serie "La Mesías". 
ATTACH;FMTTYPE=image/jpeg:https://www.larevistadelapalma.com/wp-content/up
 loads/2024/05/I21-Albert_003_v1-scaled.jpg
CATEGORIES:Conciertos,Música
LOCATION:Teatro Circo de Marte\, Calle Virgen de La Luz\, 5\, Santa Cruz de
  La Palma\, 38700\, España
GEO:28.682989;-17.765755
X-APPLE-STRUCTURED-LOCATION;VALUE=URI;X-ADDRESS=Calle Virgen de La Luz\, 5\
 , Santa Cruz de La Palma\, 38700\, España;X-APPLE-RADIUS=100;X-TITLE=Teat
 ro Circo de Marte:geo:28.682989,-17.765755
END:VEVENT
END:VCALENDAR