BEGIN:VCALENDAR
VERSION:2.0
PRODID:-//wp-events-plugin.com//7.2.3.1//EN
TZID:Europe/London
X-WR-TIMEZONE:Europe/London
BEGIN:VEVENT
UID:3010@larevistadelapalma.com
DTSTART:20240622T203000Z
DTEND:20240622T222900Z
DTSTAMP:20240614T195959Z
URL:https://www.larevistadelapalma.com/events/los-conciertos-del-festivali
 to-la-palma-noche-de-punk-rock/
SUMMARY:Los conciertos del Festivalito La Palma (noche de punk rock)
DESCRIPTION:Con las bandas Malformaciones Kongénitas\, Ponzoñosos y Guagu
 a Band.
ATTACH;FMTTYPE=image/jpeg:https://www.larevistadelapalma.com/wp-content/up
 loads/2024/05/Punk-rock-Festivalito24.jpg
CATEGORIES:Festivales/Fiestas,Música
LOCATION:Crealab El Paso\, C. Manuel Taño\, 1\, El Paso\, 38750\, España
GEO:28.651929;-17.88
X-APPLE-STRUCTURED-LOCATION;VALUE=URI;X-ADDRESS=C. Manuel Taño\, 1\, El Pa
 so\, 38750\, España;X-APPLE-RADIUS=100;X-TITLE=Crealab El Paso:geo:28.651
 929,-17.88
END:VEVENT
END:VCALENDARBEGIN:VCALENDAR
VERSION:2.0
PRODID:-//wp-events-plugin.com//7.2.3.1//EN
TZID:Europe/London
X-WR-TIMEZONE:Europe/London
BEGIN:VEVENT
UID:3010@larevistadelapalma.com
DTSTART:20240622T203000Z
DTEND:20240622T222900Z
DTSTAMP:20240614T195959Z
URL:https://www.larevistadelapalma.com/events/los-conciertos-del-festivali
 to-la-palma-noche-de-punk-rock/
SUMMARY:Los conciertos del Festivalito La Palma (noche de punk rock)
DESCRIPTION:Con las bandas Malformaciones Kongénitas\, Ponzoñosos y Guagu
 a Band.
ATTACH;FMTTYPE=image/jpeg:https://www.larevistadelapalma.com/wp-content/up
 loads/2024/05/Punk-rock-Festivalito24.jpg
CATEGORIES:Festivales/Fiestas,Música
LOCATION:Crealab El Paso\, C. Manuel Taño\, 1\, El Paso\, 38750\, España
GEO:28.651929;-17.88
X-APPLE-STRUCTURED-LOCATION;VALUE=URI;X-ADDRESS=C. Manuel Taño\, 1\, El Pa
 so\, 38750\, España;X-APPLE-RADIUS=100;X-TITLE=Crealab El Paso:geo:28.651
 929,-17.88
END:VEVENT
END:VCALENDAR