BEGIN:VCALENDAR
VERSION:2.0
PRODID:-//wp-events-plugin.com//7.2.3.1//EN
TZID:Europe/London
X-WR-TIMEZONE:Europe/London
BEGIN:VEVENT
UID:2778@larevistadelapalma.com
DTSTART:20240211T100000Z
DTEND:20240211T140000Z
DTSTAMP:20240208T232111Z
URL:https://www.larevistadelapalma.com/events/los-indianitos/
SUMMARY:Los Indianitos (Carnaval Santa Cruz de La Palma)
DESCRIPTION:Los Indianitos y el Festival Orillas del Son serán las grande
 s citas del domingo\, 11 de febrero\, iniciando así la cuenta atrás par
 a el Gran Desembarco de Los Indianos (lunes 12)\nEl domingo\, desde las 11
 :00 horas\, los niños disfrutarán en el recinto central del carnaval de 
 un espacio pensado para el público infantil\, donde podrán participar no
  solo del juego con polvos de talco\, sino también de actividades como ma
 nualidades\, juegos\, animación\, fiesta del confeti y pasacalles.\n\n\n\
 n\n\n 	\n\n 	\n\n\n\nPROGRAMA DE CARNAVAL SANTA CRUZ DE LA PALMA 2024\nJUE
 VES 8 FEBRERO:\n17:30 h. Gran Coso del Carnaval Escolar. Desde la Plaza d
 e la Alameda\, seguirá por Anselmo Pérez de Brito\, Avenida El Puente y 
 Avenida Marítima. Terminarán con una Fiesta Infantil en el Recinto Centr
 al del Carnaval con actuación de la Compañía KantyKomba.\nVIERNES 9 FEB
 RERO:\n10:00 h. Loca Carrera Solidaria\, en la Plaza de La Alameda\, en f
 avor de la asociación KALEN (Asociación palmera por el trastorno del esp
 ectro autista)\n11:00 h. Festival de Murgas del Colegio Santo Domingo de 
 Guzmán en la Plaza de España.\n14:00 h. Fiesta de la Peluca en el Recin
 to Central.\n15:00 h. Concurso de Coctelería en la Plaza dele Kiosco Eli
 seo (Avenida El Puente) organizado por la Asociación de empresarios Casco
  Histórico.\nSÁBADO 10 FEBRERO:\n11:30 h. Actividades infantiles en el R
 ecinto del Carnaval.\n18:00 h. Fiesta del Carnaval. Recinto del Carnaval
 .\n\n\n 	\n\n 	\n\n 	Festival DJ "La Palma Blue Experience": La Diabla\, L
 a Pantera\, J. Beren y Dj Conjurer. (Un evento perteneciente al Festival L
 a Palma Blue Experience que fue suspendido en diciembre)\n 	"Los 40 POP"- 
 Ver más &gt\;\n 	Orquesta Maquinaria Band\, Dj. X.\n\n\n\n\n\n18:30 h. De
 sfile de Embajadores partiendo desde la calle O'Daly hacia la Plaza de La 
 Alameda.\nDOMINGO 11 FEBRERO:\n11:00 h. Los Indianitos para introducir a l
 os más pequeños en la tradición de la fiesta palmera. En el Recinto Cen
 tral.\n19:00 h. El Festival "Orillas del Son" celebra la música tradicion
 al cubana con invitados especiales.\nLUNES 12 FEBRERO:\nA partir de las 10
 :00h. Los Indianos&gt\;&gt\;\nMIÉRCOLES 13 FEBRERO:\n17:00 h. Hinchables 
 y talleres infantiles en el Recinto Central\n19:00 h. Pasacalles del grupo
  Dixeland\n19:00 h. Show de payasos en el Recinto Central.\nJUEVES 15 FEBR
 ERO:\n17:00 h. Actividades con hinchables y talleres en el Recinto Central
 .\n19:00 h. La magia del Carnaval\, con la actuación de los magos El Crea
 dor de Sueños y Malcom\, en el Recinto Central.\nVIERNES 16 FEBRERO:\n17:
 00 h. Fiesta del antifaz en el Centro de Día (con la Orquesta Ritmo)\n19:
 00 h. Funeral de Doña Sardina desde la Plaza de la Alameda\, concluyendo 
 en el Recinto Central del Carnaval. Con las actuaciones del Grupo Asere\, 
 Los Lolas\, Orquesta Tropicana y Dj’s\nSÁBADO 17 DE FEBRERO:\n12:00h. C
 arnaval infantil\, con hinchables\, talleres y música. Recinto Central de
 l Carnaval.\n18:00 h. Carnaval de Piñata\, con las actuaciones de Ni un p
 elo de tonto\, Parranda La Palma\, Orquesta Libertad\, Orquesta ACuatro y 
 Dj’s.\n18:00 h. Concurso de Disfraces “Binter”. Hasta las 20:00 hora
 s\, los participantes tendrán que pasar por el photocall instalado junto 
 al Recinto Central para hacerse una foto que les permitirá llevarse los p
 remios establecidos en las bases. Categorías: Individual\, parejas y grup
 o (hasta 6 miembros)\nDOMINGO 18 DE FEBRERO:\n16:00 h. Piñata Infantil. R
 ecinto Central del Carnaval. Con concurso de disfraces (inscripciones una 
 hora antes) y animación.\n18:30 h. Carnaval del Mayor con la actuación d
 e Arturo Castillo\, Manolo “El Charro” y Dúo Libertad. Recinto Centra
 l del Carnaval.\n&nbsp\;\n\n\n\n&nbsp\;
ATTACH;FMTTYPE=image/jpeg:https://www.larevistadelapalma.com/wp-content/up
 loads/2024/02/Los-Indianitos.jpg
CATEGORIES:Fiestas populares,Otras propuestas
LOCATION:Municipio de Santa Cruz de La Palma\, Santa Cruz de La Palma \, Sa
 nta Cruz de La Palma \, 38700\, España
GEO:28.688757;-17.765102
X-APPLE-STRUCTURED-LOCATION;VALUE=URI;X-ADDRESS=Santa Cruz de La Palma \, S
 anta Cruz de La Palma \, 38700\, España;X-APPLE-RADIUS=100;X-TITLE=Munici
 pio de Santa Cruz de La Palma:geo:28.688757,-17.765102
END:VEVENT
END:VCALENDARBEGIN:VCALENDAR
VERSION:2.0
PRODID:-//wp-events-plugin.com//7.2.3.1//EN
TZID:Europe/London
X-WR-TIMEZONE:Europe/London
BEGIN:VEVENT
UID:2778@larevistadelapalma.com
DTSTART:20240211T100000Z
DTEND:20240211T140000Z
DTSTAMP:20240208T232111Z
URL:https://www.larevistadelapalma.com/events/los-indianitos/
SUMMARY:Los Indianitos (Carnaval Santa Cruz de La Palma)
DESCRIPTION:Los Indianitos y el Festival Orillas del Son serán las grande
 s citas del domingo\, 11 de febrero\, iniciando así la cuenta atrás par
 a el Gran Desembarco de Los Indianos (lunes 12)\nEl domingo\, desde las 11
 :00 horas\, los niños disfrutarán en el recinto central del carnaval de 
 un espacio pensado para el público infantil\, donde podrán participar no
  solo del juego con polvos de talco\, sino también de actividades como ma
 nualidades\, juegos\, animación\, fiesta del confeti y pasacalles.\n\n\n\
 n\n\n 	\n\n 	\n\n\n\nPROGRAMA DE CARNAVAL SANTA CRUZ DE LA PALMA 2024\nJUE
 VES 8 FEBRERO:\n17:30 h. Gran Coso del Carnaval Escolar. Desde la Plaza d
 e la Alameda\, seguirá por Anselmo Pérez de Brito\, Avenida El Puente y 
 Avenida Marítima. Terminarán con una Fiesta Infantil en el Recinto Centr
 al del Carnaval con actuación de la Compañía KantyKomba.\nVIERNES 9 FEB
 RERO:\n10:00 h. Loca Carrera Solidaria\, en la Plaza de La Alameda\, en f
 avor de la asociación KALEN (Asociación palmera por el trastorno del esp
 ectro autista)\n11:00 h. Festival de Murgas del Colegio Santo Domingo de 
 Guzmán en la Plaza de España.\n14:00 h. Fiesta de la Peluca en el Recin
 to Central.\n15:00 h. Concurso de Coctelería en la Plaza dele Kiosco Eli
 seo (Avenida El Puente) organizado por la Asociación de empresarios Casco
  Histórico.\nSÁBADO 10 FEBRERO:\n11:30 h. Actividades infantiles en el R
 ecinto del Carnaval.\n18:00 h. Fiesta del Carnaval. Recinto del Carnaval
 .\n\n\n 	\n\n 	\n\n 	Festival DJ "La Palma Blue Experience": La Diabla\, L
 a Pantera\, J. Beren y Dj Conjurer. (Un evento perteneciente al Festival L
 a Palma Blue Experience que fue suspendido en diciembre)\n 	"Los 40 POP"- 
 Ver más &gt\;\n 	Orquesta Maquinaria Band\, Dj. X.\n\n\n\n\n\n18:30 h. De
 sfile de Embajadores partiendo desde la calle O'Daly hacia la Plaza de La 
 Alameda.\nDOMINGO 11 FEBRERO:\n11:00 h. Los Indianitos para introducir a l
 os más pequeños en la tradición de la fiesta palmera. En el Recinto Cen
 tral.\n19:00 h. El Festival "Orillas del Son" celebra la música tradicion
 al cubana con invitados especiales.\nLUNES 12 FEBRERO:\nA partir de las 10
 :00h. Los Indianos&gt\;&gt\;\nMIÉRCOLES 13 FEBRERO:\n17:00 h. Hinchables 
 y talleres infantiles en el Recinto Central\n19:00 h. Pasacalles del grupo
  Dixeland\n19:00 h. Show de payasos en el Recinto Central.\nJUEVES 15 FEBR
 ERO:\n17:00 h. Actividades con hinchables y talleres en el Recinto Central
 .\n19:00 h. La magia del Carnaval\, con la actuación de los magos El Crea
 dor de Sueños y Malcom\, en el Recinto Central.\nVIERNES 16 FEBRERO:\n17:
 00 h. Fiesta del antifaz en el Centro de Día (con la Orquesta Ritmo)\n19:
 00 h. Funeral de Doña Sardina desde la Plaza de la Alameda\, concluyendo 
 en el Recinto Central del Carnaval. Con las actuaciones del Grupo Asere\, 
 Los Lolas\, Orquesta Tropicana y Dj’s\nSÁBADO 17 DE FEBRERO:\n12:00h. C
 arnaval infantil\, con hinchables\, talleres y música. Recinto Central de
 l Carnaval.\n18:00 h. Carnaval de Piñata\, con las actuaciones de Ni un p
 elo de tonto\, Parranda La Palma\, Orquesta Libertad\, Orquesta ACuatro y 
 Dj’s.\n18:00 h. Concurso de Disfraces “Binter”. Hasta las 20:00 hora
 s\, los participantes tendrán que pasar por el photocall instalado junto 
 al Recinto Central para hacerse una foto que les permitirá llevarse los p
 remios establecidos en las bases. Categorías: Individual\, parejas y grup
 o (hasta 6 miembros)\nDOMINGO 18 DE FEBRERO:\n16:00 h. Piñata Infantil. R
 ecinto Central del Carnaval. Con concurso de disfraces (inscripciones una 
 hora antes) y animación.\n18:30 h. Carnaval del Mayor con la actuación d
 e Arturo Castillo\, Manolo “El Charro” y Dúo Libertad. Recinto Centra
 l del Carnaval.\n&nbsp\;\n\n\n\n&nbsp\;
ATTACH;FMTTYPE=image/jpeg:https://www.larevistadelapalma.com/wp-content/up
 loads/2024/02/Los-Indianitos.jpg
CATEGORIES:Fiestas populares,Otras propuestas
LOCATION:Municipio de Santa Cruz de La Palma\, Santa Cruz de La Palma \, Sa
 nta Cruz de La Palma \, 38700\, España
GEO:28.688757;-17.765102
X-APPLE-STRUCTURED-LOCATION;VALUE=URI;X-ADDRESS=Santa Cruz de La Palma \, S
 anta Cruz de La Palma \, 38700\, España;X-APPLE-RADIUS=100;X-TITLE=Munici
 pio de Santa Cruz de La Palma:geo:28.688757,-17.765102
END:VEVENT
END:VCALENDAR