BEGIN:VCALENDAR
VERSION:2.0
PRODID:-//wp-events-plugin.com//7.2.3.1//EN
TZID:Europe/London
X-WR-TIMEZONE:Europe/London
BEGIN:VEVENT
UID:598@larevistadelapalma.com
DTSTART;VALUE=DATE:20230901
DTEND;VALUE=DATE:20231101
DTSTAMP:20230809T095601Z
URL:https://www.larevistadelapalma.com/events/los-llanos-abre-las-inscripc
 iones-para-los-cursos-de-natacion/
SUMMARY:Los Llanos abre las inscripciones para los cursos de natación
DESCRIPTION:Los Llanos abre las inscripciones para los cursos de natación 
 en la piscina municipal.\n\nLas inscripciones\, que se harán de forma pre
 sencial\, se abren para los meses de septiembre y octubre.\n\nEl Ayuntamie
 nto de Los Llanos de Aridane\, a través de la Concejalía de Deportes que
  dirige Víctor González\, abre las inscripciones para los cursillos de n
 atación para la piscina municipal para los meses de septiembre y octubre.
 \n\nLos cursos están dirigidos a todos los públicos. Desde bebés\, jóv
 enes y adultos\, hasta sesiones de aprendizaje\, perfeccionamiento y terap
 éutica. La solicitud y la petición de información se hará de forma pre
 sencial en la propia piscina en horario de 10:00 a 13:00 de lunes a vierne
 s.\n\nDesde el grupo de gobierno municipal ratifican su apuesta por el dep
 orte\, el ocio y la promoción deportiva. Consolidarse como un municipio a
 ctivo y saludable\, con actividades e infraestructuras de calidad\, son pr
 ioridades para la corporación.\n\nLos cursos disponibles\n\n 	Bebés (has
 ta 3 años\, acompañado con un adulto).\n 	Niños (a partir de 4 años) q
 ue no saben nadar.\n 	Nadan unos metros sin material (menos de media pisci
 na).\n 	Nadan sin material toda la piscina - iniciación estilos.\n 	Perfe
 ccionamiento estilos.\n 	Adultos que saben nadar\, iniciación estilos y p
 erfeccionamiento estilos.\n 	Adultos que no saben nadar.\n 	Terapéutica (
 embarazadas\, lesiones\, patologías\, etc).\n
ATTACH;FMTTYPE=image/jpeg:https://www.larevistadelapalma.com/wp-content/up
 loads/2023/08/Piscina-municipal-Los-Llanos.png
CATEGORIES:Actividades deportivas,Formación,Otras propuestas
END:VEVENT
END:VCALENDARBEGIN:VCALENDAR
VERSION:2.0
PRODID:-//wp-events-plugin.com//7.2.3.1//EN
TZID:Europe/London
X-WR-TIMEZONE:Europe/London
BEGIN:VEVENT
UID:598@larevistadelapalma.com
DTSTART;VALUE=DATE:20230901
DTEND;VALUE=DATE:20231101
DTSTAMP:20230809T095601Z
URL:https://www.larevistadelapalma.com/events/los-llanos-abre-las-inscripc
 iones-para-los-cursos-de-natacion/
SUMMARY:Los Llanos abre las inscripciones para los cursos de natación
DESCRIPTION:Los Llanos abre las inscripciones para los cursos de natación 
 en la piscina municipal.\n\nLas inscripciones\, que se harán de forma pre
 sencial\, se abren para los meses de septiembre y octubre.\n\nEl Ayuntamie
 nto de Los Llanos de Aridane\, a través de la Concejalía de Deportes que
  dirige Víctor González\, abre las inscripciones para los cursillos de n
 atación para la piscina municipal para los meses de septiembre y octubre.
 \n\nLos cursos están dirigidos a todos los públicos. Desde bebés\, jóv
 enes y adultos\, hasta sesiones de aprendizaje\, perfeccionamiento y terap
 éutica. La solicitud y la petición de información se hará de forma pre
 sencial en la propia piscina en horario de 10:00 a 13:00 de lunes a vierne
 s.\n\nDesde el grupo de gobierno municipal ratifican su apuesta por el dep
 orte\, el ocio y la promoción deportiva. Consolidarse como un municipio a
 ctivo y saludable\, con actividades e infraestructuras de calidad\, son pr
 ioridades para la corporación.\n\nLos cursos disponibles\n\n 	Bebés (has
 ta 3 años\, acompañado con un adulto).\n 	Niños (a partir de 4 años) q
 ue no saben nadar.\n 	Nadan unos metros sin material (menos de media pisci
 na).\n 	Nadan sin material toda la piscina - iniciación estilos.\n 	Perfe
 ccionamiento estilos.\n 	Adultos que saben nadar\, iniciación estilos y p
 erfeccionamiento estilos.\n 	Adultos que no saben nadar.\n 	Terapéutica (
 embarazadas\, lesiones\, patologías\, etc).\n
ATTACH;FMTTYPE=image/jpeg:https://www.larevistadelapalma.com/wp-content/up
 loads/2023/08/Piscina-municipal-Los-Llanos.png
CATEGORIES:Actividades deportivas,Formación,Otras propuestas
END:VEVENT
END:VCALENDAR