BEGIN:VCALENDAR
VERSION:2.0
PRODID:-//wp-events-plugin.com//7.2.3.1//EN
TZID:Europe/London
X-WR-TIMEZONE:Europe/London
BEGIN:VEVENT
UID:3421@larevistadelapalma.com
DTSTART;VALUE=DATE:20241205
DTEND;VALUE=DATE:20241209
DTSTAMP:20241205T170308Z
URL:https://www.larevistadelapalma.com/events/los-llanos-acoge-el-v-encuen
 tro-internacional-de-saxofon-con-un-programa-repleto-de-talento-y-estrenos
 /
SUMMARY:Los Llanos acoge el V Encuentro Internacional de Saxofón con un pr
 ograma repleto de talento y estrenos
DESCRIPTION:ACTUACIONES>> Día 5 (concierto de gala)\; Día 6 (Dúo Bovers)
 \; Día 7 (Trio Rhea y alumnos de piano y saxo) Día 8 (Estreno de la fant
 asía "Guayota")
ATTACH;FMTTYPE=image/jpeg:https://www.larevistadelapalma.com/wp-content/up
 loads/2024/11/Encuentro-Saxofon-24.jpg
CATEGORIES:Festivales/Fiestas,Música
LOCATION:Municipio de Los Llanos de Aridane\, Los Llanos de Aridane\, Los L
 lanos de Aridane\, 38760\, España
GEO:28.660236;-17.913187
X-APPLE-STRUCTURED-LOCATION;VALUE=URI;X-ADDRESS=Los Llanos de Aridane\, Los
  Llanos de Aridane\, 38760\, España;X-APPLE-RADIUS=100;X-TITLE=Municipio 
 de Los Llanos de Aridane:geo:28.660236,-17.913187
END:VEVENT
END:VCALENDARBEGIN:VCALENDAR
VERSION:2.0
PRODID:-//wp-events-plugin.com//7.2.3.1//EN
TZID:Europe/London
X-WR-TIMEZONE:Europe/London
BEGIN:VEVENT
UID:3421@larevistadelapalma.com
DTSTART;VALUE=DATE:20241205
DTEND;VALUE=DATE:20241209
DTSTAMP:20241205T170308Z
URL:https://www.larevistadelapalma.com/events/los-llanos-acoge-el-v-encuen
 tro-internacional-de-saxofon-con-un-programa-repleto-de-talento-y-estrenos
 /
SUMMARY:Los Llanos acoge el V Encuentro Internacional de Saxofón con un pr
 ograma repleto de talento y estrenos
DESCRIPTION:ACTUACIONES>> Día 5 (concierto de gala)\; Día 6 (Dúo Bovers)
 \; Día 7 (Trio Rhea y alumnos de piano y saxo) Día 8 (Estreno de la fant
 asía "Guayota")
ATTACH;FMTTYPE=image/jpeg:https://www.larevistadelapalma.com/wp-content/up
 loads/2024/11/Encuentro-Saxofon-24.jpg
CATEGORIES:Festivales/Fiestas,Música
LOCATION:Municipio de Los Llanos de Aridane\, Los Llanos de Aridane\, Los L
 lanos de Aridane\, 38760\, España
GEO:28.660236;-17.913187
X-APPLE-STRUCTURED-LOCATION;VALUE=URI;X-ADDRESS=Los Llanos de Aridane\, Los
  Llanos de Aridane\, 38760\, España;X-APPLE-RADIUS=100;X-TITLE=Municipio 
 de Los Llanos de Aridane:geo:28.660236,-17.913187
END:VEVENT
END:VCALENDAR