BEGIN:VCALENDAR
VERSION:2.0
PRODID:-//wp-events-plugin.com//7.2.3.1//EN
TZID:Europe/London
X-WR-TIMEZONE:Europe/London
BEGIN:VEVENT
UID:2996@larevistadelapalma.com
DTSTART;VALUE=DATE:20240523
DTEND;VALUE=DATE:20240606
DTSTAMP:20240523T185418Z
URL:https://www.larevistadelapalma.com/events/los-llanos-acoge-una-muestra
 -de-realidad-aumentada-sobre-la-biodiversidad-de-los-deltas-lavicos/
SUMMARY:Los Llanos acoge una muestra de realidad aumentada sobre la biodive
 rsidad de los deltas lávicos
DESCRIPTION:-  La exposición fotográfica del proyecto DELTA sobre la vi
 da submarina en las fajanas del volcán Tajogaite estará disponible  en 
 el municipio palmero hasta el 5 de junio.\n- La inaugurado por la Conseje
 ría de Transición Ecológica y Energía y PLOCAN\, con la participación
  de la REDPROMAR del Gobierno de Canarias\, la Dirección Insular de Educa
 ción de La Palma y el Ayuntamiento de Los Llanos de Aridane.\nEl municipi
 o de Los Llanos de Aridane acoge hasta el próximo 5 de junio la muestra f
 otográfica sobre la biodiversidad de los deltas lávicos con experiencias
  de realidad aumentada de algunas especies. La exposición\, que permanece
 rá ubicada en la calle Díaz Pimienta\, fue inaugurada por Mariano Herná
 ndez Zapata\, consejero de Transición Ecológica y Energía del Gobierno 
 de Canarias y Joaquín Hernández Brito\, director de la Plataforma Oceán
 ica de Canarias (PLOCAN)\, junto a estudiantes de biología del IES Eusebi
 o Barreto Lorenzo.\nDurante el acto de presentación\, Zapata destacó qu
 e esta exposición itinerante “es una herramienta clave para educar a la
  población y ha tenido una excelente acogida entre los centros escolares 
 y el alumnado\, quienes han mostrado gran interés y entusiasmo". El conse
 jero de Transición Ecológica y Energía subrayó además el compromiso d
 el Gobierno de Canarias con la financiación y las medidas para combatir e
 l cambio climático\, señalando que la participación en el proyecto DELT
 A como “un claro ejemplo de cómo podemos impulsar la investigación y l
 a conservación de la biodiversidad\, diseñando estrategias sostenibles q
 ue nos ayuden además a mitigar los efectos del cambio climático ".\nSeg
 ún Joaquín Hernández\, la divulgación científica es esencial para que
  la sociedad comprenda el valor de estos esfuerzos. "El uso de técnicas c
 omo las experiencias de realidad aumentada es fundamental para acercar la 
 vida submarina a la población. Además\, estamos trabajando en el diseño
  de una experiencia de realidad virtual para llevar esta fascinante biodiv
 ersidad a un público aún más amplio"\, recalcó el coordinador del pro
 yecto DELTA\, programa integral de seguimiento para la gestión sostenible
  del ecosistema marino de los deltas lávicos\, iniciativa que da vida a l
 a demostración.\n\nLa exposición\, que ya ha pasado por Tazacorte y El P
 aso\, también estará disponible presencialmente en los municipios Fuenca
 liente y Santa Cruz de La Palma.\nEsta exhibición se ha concebido como un
 a muestra itinerante que estará disponible en varios municipios de La Pal
 ma\, llevando el conocimiento científico y la conciencia ambiental a toda
  la isla. El director de PLOCAN subrayó además la importancia de esta in
 iciativa para proporcionar datos científicos esenciales que respalden la 
 toma de decisiones informadas y la promoción de la gestión sostenible de
  los ecosistemas marinos. "La comunicación efectiva de estos conocimiento
 s a la población es vital\, y herramientas como esta exhibición nos perm
 iten acercar la ciencia a todos\, especialmente a los jóvenes"\, añadió
  Hernández.\nEl acto de inauguración contó\, además\, con la presencia
  de Cristina Martín\, directora insular de Educación de La Palma (depend
 iente de la Consejería de Educación\, Formación Profesional\, Actividad
  Física y Deportes del Gobierno de Canarias)\; Pablo Díaz Cobiella\, con
 sejero de Educación\, Cultura\, Archivo y Patrimonio\; Javier Llamas\, al
 calde del Ayuntamiento de Los Llanos de Aridane\; Víctor González y Edua
 rdo Pérez\, concejales de Medioambiente y Educación de la corporación m
 unicipal\; Alfonso Montes de Oca\, presidente de la Asociación La Palma I
 sla Azul y representantes de la REDPROMAR del Gobierno de Canarias\, adem
 ás del equipo técnico de PLOCAN instalado en La Palma.\nPor su parte\, C
 ristina Martín resaltó el valor educativo de la exhibición\, señalando
  que "integrar a los alumnos en actividades como esta fomenta su interés 
 por la ciencia y la conservación de la biodiversidad y el medioambiente
 ”. En su opinión\, la colaboración con los centros educativos y la rea
 lización de talleres educativos como el que ha impartido el equipo técni
 co de PLOCAN “son cruciales para concienciar sobre la acidificación de 
 los océanos y el impacto del cambio climático en nuestros ecosistemas ma
 rinos".\nEn este sentido\, Javier Llamas\, alcalde de Los Llanos de Aridan
 e\, señaló la importancia de la divulgación científica para la comunid
 ad\, afirmando que "es fundamental acercar la ciencia a la población para
  fomentar una mayor comprensión y aprecio por nuestro entorno natural”.
  En sus palabras\, esta exhibición “no solo educa\, sino que también i
 nspira a las futuras generaciones a valorar y proteger nuestros ecosistema
 s marinos y es que nuestro municipio no puede vivir de espaldas al mar y c
 onfiamos en que podremos promover futuros proyecto con PLOCAN\, tal y como
  ya están haciendo en la isla”.\nVíctor González enfatizó la importa
 ncia del proyecto para el desarrollo sostenible del municipio\, destacando
  que "proyectos como DELTA no solo promueven la conservación de nuestro e
 ntorno natural\, sino que también impulsan el desarrollo sostenible y la 
 economía local\, creando nuevas oportunidades". Eduardo Pérez añadió q
 ue "esta exhibición ofrece a nuestros jóvenes una oportunidad única de 
 aprender sobre la biodiversidad marina\, la importancia de proteger nuestr
 os ecosistemas y entender el impacto del cambio climático y cómo pueden 
 contribuir a mitigar sus efectos".\nDurante la inauguración\, se realizar
 on visitas guiadas coordinadas por el equipo técnico del proyecto DELTA y
  la REDPROMAR del Gobierno de Canarias\, además de talleres educativos pa
 ra los alumnos del IES Eusebio Barreto Lorenzo. Concretamente\, el persona
 l de la delegación de PLOCAN en La Palma impartió el taller denominado O
 ceanIA: estudiando la acidificación oceánica\, cuyo contenido está en
 focado en concienciar sobre el ecosistema marino local y el impacto del ca
 mbio climático en el océano.\nCon respecto al contenido divulgativo de l
 a exhibición\, Alfonso Montes de Oca valoró positivamente el impacto de 
 la exposición\, señalando que "la itinerancia de esta muestra permite qu
 e más personas en diferentes localidades de La Palma tengan acceso a esta
  valiosa información. Es una iniciativa que refuerza la conexión de la c
 omunidad con el entorno marino y fomenta un mayor compromiso con su protec
 ción".\nEl proyecto DELTA\, respaldado financieramente por la Consejería
  de Transición Ecológica y Energía del Gobierno de Canarias y la Secret
 aría de Estado de Medio Ambiente\, no solo promete progresos científicos
 \, sino también impactos sociales y económicos tangibles. Desde el forta
 lecimiento de la investigación local y la creación de infraestructura ci
 entífica en la isla hasta la generación de empleo y el estímulo de la e
 conomía azul\, DELTA representa una iniciativa ambiciosa liderada por PLO
 CAN para la recuperación de la isla.\nLas campañas de observación evide
 ncian la recuperación de la vida en los deltas\n La campaña de observac
 ión biológica en apnea que da vida a la muestra fotográfica evidenció 
 la recuperación de la vida marina en los deltas lávicos. Esta primera ca
 mpaña se llevó a cabo a finales de julio de 2022 como parte del proyecto
  MAMPALMA\, PLOCAN coordina actualmente acciones de observación y seguimi
 ento de la biodiversidad marina en el marco del proyecto DELTA. Concretame
 nte se registraron 121 especies y se creó un catálogo detallado de la bi
 odiversidad local. Esta campaña\, coordinada por PLOCAN y financiada por 
 el Ministerio de Ciencia e Innovación\, fue posible gracias a la colabora
 ción de la Consejería de Transición Ecológica y la REDPROMAR del Gobie
 rno de Canarias.
ATTACH;FMTTYPE=image/jpeg:https://www.larevistadelapalma.com/wp-content/up
 loads/2024/05/Experiencia-de-realidad-aumentada-con-un-bucio-scaled.jpg
CATEGORIES:Exposiciones
LOCATION:Municipio de Los Llanos de Aridane\, Los Llanos de Aridane\, Los L
 lanos de Aridane\, 38760\, España
GEO:28.660236;-17.913187
X-APPLE-STRUCTURED-LOCATION;VALUE=URI;X-ADDRESS=Los Llanos de Aridane\, Los
  Llanos de Aridane\, 38760\, España;X-APPLE-RADIUS=100;X-TITLE=Municipio 
 de Los Llanos de Aridane:geo:28.660236,-17.913187
END:VEVENT
END:VCALENDARBEGIN:VCALENDAR
VERSION:2.0
PRODID:-//wp-events-plugin.com//7.2.3.1//EN
TZID:Europe/London
X-WR-TIMEZONE:Europe/London
BEGIN:VEVENT
UID:2996@larevistadelapalma.com
DTSTART;VALUE=DATE:20240523
DTEND;VALUE=DATE:20240606
DTSTAMP:20240523T185418Z
URL:https://www.larevistadelapalma.com/events/los-llanos-acoge-una-muestra
 -de-realidad-aumentada-sobre-la-biodiversidad-de-los-deltas-lavicos/
SUMMARY:Los Llanos acoge una muestra de realidad aumentada sobre la biodive
 rsidad de los deltas lávicos
DESCRIPTION:-  La exposición fotográfica del proyecto DELTA sobre la vi
 da submarina en las fajanas del volcán Tajogaite estará disponible  en 
 el municipio palmero hasta el 5 de junio.\n- La inaugurado por la Conseje
 ría de Transición Ecológica y Energía y PLOCAN\, con la participación
  de la REDPROMAR del Gobierno de Canarias\, la Dirección Insular de Educa
 ción de La Palma y el Ayuntamiento de Los Llanos de Aridane.\nEl municipi
 o de Los Llanos de Aridane acoge hasta el próximo 5 de junio la muestra f
 otográfica sobre la biodiversidad de los deltas lávicos con experiencias
  de realidad aumentada de algunas especies. La exposición\, que permanece
 rá ubicada en la calle Díaz Pimienta\, fue inaugurada por Mariano Herná
 ndez Zapata\, consejero de Transición Ecológica y Energía del Gobierno 
 de Canarias y Joaquín Hernández Brito\, director de la Plataforma Oceán
 ica de Canarias (PLOCAN)\, junto a estudiantes de biología del IES Eusebi
 o Barreto Lorenzo.\nDurante el acto de presentación\, Zapata destacó qu
 e esta exposición itinerante “es una herramienta clave para educar a la
  población y ha tenido una excelente acogida entre los centros escolares 
 y el alumnado\, quienes han mostrado gran interés y entusiasmo". El conse
 jero de Transición Ecológica y Energía subrayó además el compromiso d
 el Gobierno de Canarias con la financiación y las medidas para combatir e
 l cambio climático\, señalando que la participación en el proyecto DELT
 A como “un claro ejemplo de cómo podemos impulsar la investigación y l
 a conservación de la biodiversidad\, diseñando estrategias sostenibles q
 ue nos ayuden además a mitigar los efectos del cambio climático ".\nSeg
 ún Joaquín Hernández\, la divulgación científica es esencial para que
  la sociedad comprenda el valor de estos esfuerzos. "El uso de técnicas c
 omo las experiencias de realidad aumentada es fundamental para acercar la 
 vida submarina a la población. Además\, estamos trabajando en el diseño
  de una experiencia de realidad virtual para llevar esta fascinante biodiv
 ersidad a un público aún más amplio"\, recalcó el coordinador del pro
 yecto DELTA\, programa integral de seguimiento para la gestión sostenible
  del ecosistema marino de los deltas lávicos\, iniciativa que da vida a l
 a demostración.\n\nLa exposición\, que ya ha pasado por Tazacorte y El P
 aso\, también estará disponible presencialmente en los municipios Fuenca
 liente y Santa Cruz de La Palma.\nEsta exhibición se ha concebido como un
 a muestra itinerante que estará disponible en varios municipios de La Pal
 ma\, llevando el conocimiento científico y la conciencia ambiental a toda
  la isla. El director de PLOCAN subrayó además la importancia de esta in
 iciativa para proporcionar datos científicos esenciales que respalden la 
 toma de decisiones informadas y la promoción de la gestión sostenible de
  los ecosistemas marinos. "La comunicación efectiva de estos conocimiento
 s a la población es vital\, y herramientas como esta exhibición nos perm
 iten acercar la ciencia a todos\, especialmente a los jóvenes"\, añadió
  Hernández.\nEl acto de inauguración contó\, además\, con la presencia
  de Cristina Martín\, directora insular de Educación de La Palma (depend
 iente de la Consejería de Educación\, Formación Profesional\, Actividad
  Física y Deportes del Gobierno de Canarias)\; Pablo Díaz Cobiella\, con
 sejero de Educación\, Cultura\, Archivo y Patrimonio\; Javier Llamas\, al
 calde del Ayuntamiento de Los Llanos de Aridane\; Víctor González y Edua
 rdo Pérez\, concejales de Medioambiente y Educación de la corporación m
 unicipal\; Alfonso Montes de Oca\, presidente de la Asociación La Palma I
 sla Azul y representantes de la REDPROMAR del Gobierno de Canarias\, adem
 ás del equipo técnico de PLOCAN instalado en La Palma.\nPor su parte\, C
 ristina Martín resaltó el valor educativo de la exhibición\, señalando
  que "integrar a los alumnos en actividades como esta fomenta su interés 
 por la ciencia y la conservación de la biodiversidad y el medioambiente
 ”. En su opinión\, la colaboración con los centros educativos y la rea
 lización de talleres educativos como el que ha impartido el equipo técni
 co de PLOCAN “son cruciales para concienciar sobre la acidificación de 
 los océanos y el impacto del cambio climático en nuestros ecosistemas ma
 rinos".\nEn este sentido\, Javier Llamas\, alcalde de Los Llanos de Aridan
 e\, señaló la importancia de la divulgación científica para la comunid
 ad\, afirmando que "es fundamental acercar la ciencia a la población para
  fomentar una mayor comprensión y aprecio por nuestro entorno natural”.
  En sus palabras\, esta exhibición “no solo educa\, sino que también i
 nspira a las futuras generaciones a valorar y proteger nuestros ecosistema
 s marinos y es que nuestro municipio no puede vivir de espaldas al mar y c
 onfiamos en que podremos promover futuros proyecto con PLOCAN\, tal y como
  ya están haciendo en la isla”.\nVíctor González enfatizó la importa
 ncia del proyecto para el desarrollo sostenible del municipio\, destacando
  que "proyectos como DELTA no solo promueven la conservación de nuestro e
 ntorno natural\, sino que también impulsan el desarrollo sostenible y la 
 economía local\, creando nuevas oportunidades". Eduardo Pérez añadió q
 ue "esta exhibición ofrece a nuestros jóvenes una oportunidad única de 
 aprender sobre la biodiversidad marina\, la importancia de proteger nuestr
 os ecosistemas y entender el impacto del cambio climático y cómo pueden 
 contribuir a mitigar sus efectos".\nDurante la inauguración\, se realizar
 on visitas guiadas coordinadas por el equipo técnico del proyecto DELTA y
  la REDPROMAR del Gobierno de Canarias\, además de talleres educativos pa
 ra los alumnos del IES Eusebio Barreto Lorenzo. Concretamente\, el persona
 l de la delegación de PLOCAN en La Palma impartió el taller denominado O
 ceanIA: estudiando la acidificación oceánica\, cuyo contenido está en
 focado en concienciar sobre el ecosistema marino local y el impacto del ca
 mbio climático en el océano.\nCon respecto al contenido divulgativo de l
 a exhibición\, Alfonso Montes de Oca valoró positivamente el impacto de 
 la exposición\, señalando que "la itinerancia de esta muestra permite qu
 e más personas en diferentes localidades de La Palma tengan acceso a esta
  valiosa información. Es una iniciativa que refuerza la conexión de la c
 omunidad con el entorno marino y fomenta un mayor compromiso con su protec
 ción".\nEl proyecto DELTA\, respaldado financieramente por la Consejería
  de Transición Ecológica y Energía del Gobierno de Canarias y la Secret
 aría de Estado de Medio Ambiente\, no solo promete progresos científicos
 \, sino también impactos sociales y económicos tangibles. Desde el forta
 lecimiento de la investigación local y la creación de infraestructura ci
 entífica en la isla hasta la generación de empleo y el estímulo de la e
 conomía azul\, DELTA representa una iniciativa ambiciosa liderada por PLO
 CAN para la recuperación de la isla.\nLas campañas de observación evide
 ncian la recuperación de la vida en los deltas\n La campaña de observac
 ión biológica en apnea que da vida a la muestra fotográfica evidenció 
 la recuperación de la vida marina en los deltas lávicos. Esta primera ca
 mpaña se llevó a cabo a finales de julio de 2022 como parte del proyecto
  MAMPALMA\, PLOCAN coordina actualmente acciones de observación y seguimi
 ento de la biodiversidad marina en el marco del proyecto DELTA. Concretame
 nte se registraron 121 especies y se creó un catálogo detallado de la bi
 odiversidad local. Esta campaña\, coordinada por PLOCAN y financiada por 
 el Ministerio de Ciencia e Innovación\, fue posible gracias a la colabora
 ción de la Consejería de Transición Ecológica y la REDPROMAR del Gobie
 rno de Canarias.
ATTACH;FMTTYPE=image/jpeg:https://www.larevistadelapalma.com/wp-content/up
 loads/2024/05/Experiencia-de-realidad-aumentada-con-un-bucio-scaled.jpg
CATEGORIES:Exposiciones
LOCATION:Municipio de Los Llanos de Aridane\, Los Llanos de Aridane\, Los L
 lanos de Aridane\, 38760\, España
GEO:28.660236;-17.913187
X-APPLE-STRUCTURED-LOCATION;VALUE=URI;X-ADDRESS=Los Llanos de Aridane\, Los
  Llanos de Aridane\, 38760\, España;X-APPLE-RADIUS=100;X-TITLE=Municipio 
 de Los Llanos de Aridane:geo:28.660236,-17.913187
END:VEVENT
END:VCALENDAR